BEGIN:VCALENDAR
VERSION:2.0
PRODID:-//College Of Central Florida - ECPv6.10.1.1//NONSGML v1.0//EN
CALSCALE:GREGORIAN
METHOD:PUBLISH
X-WR-CALNAME:College Of Central Florida
X-ORIGINAL-URL:https://www.cf.edu
X-WR-CALDESC:Events for College Of Central Florida
REFRESH-INTERVAL;VALUE=DURATION:PT1H
X-Robots-Tag:noindex
X-PUBLISHED-TTL:PT1H
BEGIN:VTIMEZONE
TZID:America/New_York
BEGIN:DAYLIGHT
TZOFFSETFROM:-0500
TZOFFSETTO:-0400
TZNAME:EDT
DTSTART:20200308T070000
END:DAYLIGHT
BEGIN:STANDARD
TZOFFSETFROM:-0400
TZOFFSETTO:-0500
TZNAME:EST
DTSTART:20201101T060000
END:STANDARD
END:VTIMEZONE
BEGIN:VEVENT
DTSTART;TZID=America/New_York:20201202T124500
DTEND;TZID=America/New_York:20201202T134500
DTSTAMP:20260422T153905
CREATED:20201102T201559Z
LAST-MODIFIED:20201102T201559Z
UID:10000957-1606913100-1606916700@www.cf.edu
SUMMARY:Paint Your Own Apple Ornament with the Appleton
DESCRIPTION:The Office of Student Life invites students to an event sponsored by the Appleton Museum of Art on Wednesday\, Dec. 2\, from 12:45-1:45 p.m. online. Students will learn how to decorate two ceramic apple ornaments using the art kit distributed in advance. Tune into the live Zoom instruction for decorating inspiration and techniques! All supplies will be provided in a kit students can pick up on campus the week before. \nStudents should register in advance for this event. \nAfter registering\, you will receive a confirmation email containing information about joining the meeting. \nPick up your art kit:\nOcala Campus\nMonday\, Nov. 16\, 9 a.m.-3 p.m.\, Office of Student Life\, Building 11\nTuesday\, Nov. 17\, 11 a.m.-5 p.m.\, outside the CF Bookstore\nWednesday\, Nov. 18\, 9 a.m.- 3 p.m.\, outside the CF Bookstore\nThursday\, Nov. 19\, 11 a.m.-5 p.m.\, Office of Student Life\, Building 11\nMonday\, Nov. 30\, 2:30-4:30 p.m.\, Office of Student Life\, Building 11\nTuesday\, Dec. 1\, 10 a.m.-noon.\, outside the CF Bookstore \nCitrus Campus in The Citrus Learning and Conference Center\, Building C4 from 8 a.m.-4:30 p.m.\nTuesday\, Nov. 17\nThursday\, Nov. 19\nFriday\, Nov. 20\nTuesday\, Dec. 1 \nLevy Campus in the front desk lobby. Ask for Kat Davis \nWednesday\, Nov. 18\, 8 a.m.-4:30 p.m.\nThursday\, Nov. 19\, 8 a.m.-4:30 p.m.\nWednesday\, Dec. 2\, 8 a.m.-noon
URL:https://www.cf.edu/event/paint-your-own-apple-ornament-with-the-appleton/
LOCATION:Online
CATEGORIES:Student Life
ATTACH;FMTTYPE=image/jpeg:https://www.cf.edu/wp-content/uploads/2020/11/gold-apple-ornament-d6-cm.jpg
ORGANIZER;CN="Office of Student Life":MAILTO:studentlife@cf.edu
END:VEVENT
BEGIN:VEVENT
DTSTART;TZID=America/New_York:20201202T124500
DTEND;TZID=America/New_York:20201202T134500
DTSTAMP:20260422T153905
CREATED:20201109T170622Z
LAST-MODIFIED:20201109T170622Z
UID:10001016-1606913100-1606916700@www.cf.edu
SUMMARY:Paint your apple ornament at home with the appleton
DESCRIPTION:In time for the holiday season\, join us to decorate two ceramic apple ornaments. Keep one for yourself and give the other to a loved one. Art kits containing all supplies needed will be distributed on all three campuses prior to the event. Tune into the live zoom instruction for decorating inspiration and techniques.
URL:https://www.cf.edu/event/paint-your-apple-ornament-at-home-with-the-appleton/
LOCATION:Online
ATTACH;FMTTYPE=image/jpeg:https://www.cf.edu/wp-content/uploads/2020/07/CFEvents-default-image.jpg
END:VEVENT
BEGIN:VEVENT
DTSTART;TZID=America/New_York:20201202T170000
DTEND;TZID=America/New_York:20201202T180000
DTSTAMP:20260422T153905
CREATED:20201029T144741Z
LAST-MODIFIED:20210519T124552Z
UID:10000915-1606928400-1606932000@www.cf.edu
SUMMARY:BSN Information & CF Application Webinar
DESCRIPTION:Learn more about the BSN program in this virtual information session! Session attendees will get their College of Central Florida $30 general admissions application fee waived! Advanced registration is required for this event. \nAttendance at an Information Session is mandatory before applying to many Health Sciences programs. Be sure to consult the application and information packet details on the program page for more information.
URL:https://www.cf.edu/event/bsn-information-cf-application-webinar/
LOCATION:Online
CATEGORIES:Health Sciences,Information Session
ATTACH;FMTTYPE=image/jpeg:https://www.cf.edu/wp-content/uploads/2020/10/Nursing-Practice.jpg
END:VEVENT
END:VCALENDAR