BEGIN:VCALENDAR
VERSION:2.0
PRODID:-//College Of Central Florida - ECPv6.10.1.1//NONSGML v1.0//EN
CALSCALE:GREGORIAN
METHOD:PUBLISH
X-ORIGINAL-URL:https://www.cf.edu
X-WR-CALDESC:Events for College Of Central Florida
REFRESH-INTERVAL;VALUE=DURATION:PT1H
X-Robots-Tag:noindex
X-PUBLISHED-TTL:PT1H
BEGIN:VTIMEZONE
TZID:America/New_York
BEGIN:DAYLIGHT
TZOFFSETFROM:-0500
TZOFFSETTO:-0400
TZNAME:EDT
DTSTART:20210314T070000
END:DAYLIGHT
BEGIN:STANDARD
TZOFFSETFROM:-0400
TZOFFSETTO:-0500
TZNAME:EST
DTSTART:20211107T060000
END:STANDARD
END:VTIMEZONE
BEGIN:VEVENT
DTSTART;TZID=America/New_York:20210324T124500
DTEND;TZID=America/New_York:20210324T134500
DTSTAMP:20260422T050152
CREATED:20210204T213221Z
LAST-MODIFIED:20210204T213221Z
UID:10001092-1616589900-1616593500@www.cf.edu
SUMMARY:Henna Tattoos at Home with the Appleton
DESCRIPTION:Join us for this multicultural event and learn how to create intricate and beautiful henna designs on yourself or a friend. GiGi from the Appleton Museum of Art will provide step by step instructions and guide you as you work on your creation. Learn the tips and tricks to create your own henna masterpieces as well as important safety precautions. Art kits containing all supplies needed will be distributed on all three campuses prior to the event. Tune into the live zoom instruction for decorating inspiration and techniques. \nRegister in advance for this meeting. After registering\, you will receive a confirmation email containing information about joining the meeting.
URL:https://www.cf.edu/event/henna-tattoos-at-home-with-the-appleton/
LOCATION:FL
CATEGORIES:Student Life
ATTACH;FMTTYPE=image/jpeg:https://www.cf.edu/wp-content/uploads/2020/07/CFEvents-default-image.jpg
END:VEVENT
BEGIN:VEVENT
DTSTART;TZID=America/New_York:20210324T180000
DTEND;TZID=America/New_York:20210324T190000
DTSTAMP:20260422T050152
CREATED:20201209T153455Z
LAST-MODIFIED:20210519T122525Z
UID:10000994-1616608800-1616612400@www.cf.edu
SUMMARY:Dual Enrollment Virtual Information Session
DESCRIPTION:Join us for this 45-minute information session for students and parents where you will hear about why CF should be your student’s first choice for college. This session will focus on the process to accelerate your college career and earn high school and college credit at the same time. You will learn about the resources that CF offers to help your student be successful and about financial aid options. Attendees will event get a crash course in the application process. Plus\, all attendees will get a waiver allowing them to apply for free! For addition information contact dualenrollment@CF.edu.
URL:https://www.cf.edu/event/dual-enrollment-information-session-2/
LOCATION:FL
CATEGORIES:Admissions,Information Session
ATTACH;FMTTYPE=image/jpeg:https://www.cf.edu/wp-content/uploads/2020/12/CFEvent-WhyCF.jpg
END:VEVENT
END:VCALENDAR