BEGIN:VCALENDAR
VERSION:2.0
PRODID:-//College Of Central Florida - ECPv6.10.1.1//NONSGML v1.0//EN
CALSCALE:GREGORIAN
METHOD:PUBLISH
X-WR-CALNAME:College Of Central Florida
X-ORIGINAL-URL:https://www.cf.edu
X-WR-CALDESC:Events for College Of Central Florida
REFRESH-INTERVAL;VALUE=DURATION:PT1H
X-Robots-Tag:noindex
X-PUBLISHED-TTL:PT1H
BEGIN:VTIMEZONE
TZID:America/New_York
BEGIN:DAYLIGHT
TZOFFSETFROM:-0500
TZOFFSETTO:-0400
TZNAME:EDT
DTSTART:20210314T070000
END:DAYLIGHT
BEGIN:STANDARD
TZOFFSETFROM:-0400
TZOFFSETTO:-0500
TZNAME:EST
DTSTART:20211107T060000
END:STANDARD
END:VTIMEZONE
BEGIN:VEVENT
DTSTART;TZID=America/New_York:20210405T100000
DTEND;TZID=America/New_York:20210507T160000
DTSTAMP:20260420T143829
CREATED:20210407T134234Z
LAST-MODIFIED:20210407T134234Z
UID:10001138-1617616800-1620403200@www.cf.edu
SUMMARY:Visual Arts Students Exhibition
DESCRIPTION:CF will showcase the talent of its Visual Arts and Digital Media students in an exhibition that opens on Monday\, April 5\, at the Webber Gallery at the CF Ocala Campus. The student exhibition is an annual tradition for CF and the Webber Gallery\, and provides students with an opportunity to present their work in a professional environment. There will be a variety of work on display. \nThe exhibit will continue through Friday\, May 7. Gallery hours are 10 a.m. to 4 p.m.\, Monday through Thursday. The gallery is closed Friday through Sunday and college-observed holidays. Admission is free. Masks are required to enter the gallery.
URL:https://www.cf.edu/event/visual-arts-students-exhibition/
LOCATION:Ocala Campus\, 3001 SW College Rd\, Ocala\, FL\, 34474\, United States
CATEGORIES:Visual and Performing Arts
ATTACH;FMTTYPE=image/jpeg:https://www.cf.edu/wp-content/uploads/2021/04/ArtExhibit2021.jpg
END:VEVENT
BEGIN:VEVENT
DTSTART;TZID=America/New_York:20210419T090000
DTEND;TZID=America/New_York:20210419T110000
DTSTAMP:20260420T143829
CREATED:20210225T191206Z
LAST-MODIFIED:20210415T134437Z
UID:10001107-1618822800-1618830000@www.cf.edu
SUMMARY:Health Sciences Open House
DESCRIPTION:Interested in Health Sciences? Join our Virtual Open House!\nThis virtual event is a great opportunity to learn more about the different Health Sciences fields of study at CF.  At the open house\, you can meet and greet with faculty members and learn more about their experiences as clinicians. Stay on and complete the CF general admissions application ($30 fee waived)\, get your financial aid questions answers and meet with a Health Sciences academic advisor. \nFor information\, email Peggy Recanzone at recanzop@cf.edu or call 352-873-5800\, ext. 1655.
URL:https://www.cf.edu/event/health-sciences-open-house-3/
LOCATION:FL
CATEGORIES:Health Sciences
ATTACH;FMTTYPE=image/jpeg:https://www.cf.edu/wp-content/uploads/2021/01/CFEventHealth.jpg
END:VEVENT
BEGIN:VEVENT
DTSTART;TZID=America/New_York:20210419T150000
DTEND;TZID=America/New_York:20210419T160000
DTSTAMP:20260420T143829
CREATED:20210119T161126Z
LAST-MODIFIED:20210519T122116Z
UID:10001074-1618844400-1618848000@www.cf.edu
SUMMARY:BSN Information and CF Application Session
DESCRIPTION:Ready to start the next phase in your nursing education? CF is conducting a Virtual Bachelor of Science in Nursing program information and CF application session through a Zoom presentation. \nAttendees will be able to complete the general admission application to CF for free! Potential students must attend a session before applying to any of the programs. Sessions provide details about admissions criteria\, program requirements\, costs and more.\nThere is no waiting list for any of the Health Science programs. Some programs have part-time enrollment options.\nFor information about any of the programs or sessions email Peggy Recanzone at recanzop@cf.edu.
URL:https://www.cf.edu/event/bsn-information-and-cf-application-session-2/
LOCATION:FL
CATEGORIES:Health Sciences,Information Session
ATTACH;FMTTYPE=image/jpeg:https://www.cf.edu/wp-content/uploads/2021/01/CFEventHealth.jpg
END:VEVENT
END:VCALENDAR