BEGIN:VCALENDAR
VERSION:2.0
PRODID:-//College Of Central Florida - ECPv6.10.1.1//NONSGML v1.0//EN
CALSCALE:GREGORIAN
METHOD:PUBLISH
X-ORIGINAL-URL:https://www.cf.edu
X-WR-CALDESC:Events for College Of Central Florida
REFRESH-INTERVAL;VALUE=DURATION:PT1H
X-Robots-Tag:noindex
X-PUBLISHED-TTL:PT1H
BEGIN:VTIMEZONE
TZID:America/New_York
BEGIN:DAYLIGHT
TZOFFSETFROM:-0500
TZOFFSETTO:-0400
TZNAME:EDT
DTSTART:20210314T070000
END:DAYLIGHT
BEGIN:STANDARD
TZOFFSETFROM:-0400
TZOFFSETTO:-0500
TZNAME:EST
DTSTART:20211107T060000
END:STANDARD
END:VTIMEZONE
BEGIN:VEVENT
DTSTART;VALUE=DATE:20210712
DTEND;VALUE=DATE:20210717
DTSTAMP:20260420T073543
CREATED:20210510T135214Z
LAST-MODIFIED:20210615T123459Z
UID:10001176-1626048000-1626479999@www.cf.edu
SUMMARY:Free Online Appleton Summer Art Camp Week 6
DESCRIPTION:Week 6: Sketch It \nLive Zoom Instruction Dates: 9-11 a.m. on Monday July 12\, Wednesday July 14\, and Friday July 16 \nLook at the subject in a new way and learn to draw — you’ll be surprised what you can learn in one week! Camp includes five activities\, and three live Zoom sessions with an art camp instructor. \n\n\n\n\nA supply list and Zoom login details for live sessions will be emailed upon registration. \n\n\n\n\n\n\nVirtual Summer Art Camp features eight unique weeks of art-themed camps. Each week of camp includes five activities and three live Zoom classes with an art instructor. Camps are ideal for ages 7-12\, and for younger children with the help of an adult. \n 
URL:https://www.cf.edu/event/free-online-appleton-summer-art-camp-week-6/
LOCATION:Online
CATEGORIES:Summer Camp
ATTACH;FMTTYPE=image/jpeg:https://www.cf.edu/wp-content/uploads/2021/05/Draw-a-Dog-300x300-1.jpg
END:VEVENT
BEGIN:VEVENT
DTSTART;TZID=America/New_York:20210713T160000
DTEND;TZID=America/New_York:20210713T180000
DTSTAMP:20260420T073543
CREATED:20210527T193721Z
LAST-MODIFIED:20210628T180510Z
UID:10001189-1626192000-1626199200@www.cf.edu
SUMMARY:Levy Open House
DESCRIPTION:Learn all about CF at our upcoming Open House!\nAt this Open House\, you’ll get all the information you need to start your college journey at the College of Central Florida. Meet one on one with staff from Admissions\, Financial Aid and more. \nSkip the $30 application fee! At this event\, you’ll be able to apply for free\, with an Admissions representative on standby to assist you with the application. Everyone who applies will be entered for a chance to win a free 3-credit hour class at CF’s standard tuition rate! Guided campus tours will also be available. \nOur Financial Aid staff will also be available for one-on-one guidance with filling out the Free Application for Federal Student Aid (FAFSA). \nIf you’ve already applied to CF\, stop by to check with Admissions on your current admissions status and submit any needed documents like proof of residency or transcripts. Current students can meet with an academic advisor for assistance with class registration. \n Fill out my Wufoo form!
URL:https://www.cf.edu/event/levy-open-house/
LOCATION:Levy Campus\, 15390 N.W. Highway 19\, Chiefland\, 32626
CATEGORIES:Admissions,Levy Campus
ATTACH;FMTTYPE=image/jpeg:https://www.cf.edu/wp-content/uploads/2021/05/Web-spotlight-Levy.jpg
END:VEVENT
END:VCALENDAR