BEGIN:VCALENDAR
VERSION:2.0
PRODID:-//College Of Central Florida - ECPv6.10.1.1//NONSGML v1.0//EN
CALSCALE:GREGORIAN
METHOD:PUBLISH
X-ORIGINAL-URL:https://www.cf.edu
X-WR-CALDESC:Events for College Of Central Florida
REFRESH-INTERVAL;VALUE=DURATION:PT1H
X-Robots-Tag:noindex
X-PUBLISHED-TTL:PT1H
BEGIN:VTIMEZONE
TZID:America/New_York
BEGIN:DAYLIGHT
TZOFFSETFROM:-0500
TZOFFSETTO:-0400
TZNAME:EDT
DTSTART:20210314T070000
END:DAYLIGHT
BEGIN:STANDARD
TZOFFSETFROM:-0400
TZOFFSETTO:-0500
TZNAME:EST
DTSTART:20211107T060000
END:STANDARD
END:VTIMEZONE
BEGIN:VEVENT
DTSTART;VALUE=DATE:20210719
DTEND;VALUE=DATE:20210724
DTSTAMP:20260423T085700
CREATED:20210510T135531Z
LAST-MODIFIED:20210615T123411Z
UID:10001177-1626652800-1627084799@www.cf.edu
SUMMARY:Free Online Appleton Summer Art Camp Week 7
DESCRIPTION:Week 7: Painting Possibilities \nLive Zoom Instruction Dates: 9-11 a.m. on Monday July 19\, Wednesday July 21\, and Friday July 23 \nLove to paint? Explore what paint can do as you learn new techniques to inspire your inner artist. The possibilities are endless! Camp includes five activities\, and three live Zoom sessions with an art camp instructor. \n\n\n\n\nA supply list and Zoom login details for live sessions will be emailed upon registration. \n\n\n\n\n\n\nVirtual Summer Art Camp features eight unique weeks of art-themed camps. Each week of camp includes five activities and three live Zoom classes with an art instructor. Camps are ideal for ages 7-12\, and for younger children with the help of an adult. \n 
URL:https://www.cf.edu/event/free-online-appleton-summer-art-camp-week-7/
LOCATION:Online
CATEGORIES:Summer Camp
ATTACH;FMTTYPE=image/jpeg:https://www.cf.edu/wp-content/uploads/2021/05/Painting-Possibilities-300x300-1.jpg
END:VEVENT
BEGIN:VEVENT
DTSTART;TZID=America/New_York:20210720T120000
DTEND;TZID=America/New_York:20210720T130000
DTSTAMP:20260423T085700
CREATED:20210525T180613Z
LAST-MODIFIED:20210525T180613Z
UID:10001185-1626782400-1626786000@www.cf.edu
SUMMARY:BSN Information and CF Application Session
DESCRIPTION:Ready to start the next phase in your nursing education? CF is conducting a Virtual Bachelor of Science in Nursing program information and CF application session through a Zoom presentation. \nAttendees will be able to complete the general admission application to CF for free! Potential students must attend a session before applying to any of the programs. Sessions provide details about admissions criteria\, program requirements\, costs and more. \nThere is no waiting list for any of the Health Science programs. Some programs have part-time enrollment options. \nFor information about any of the programs or sessions email Peggy Recanzone at recanzop@cf.edu.
URL:https://www.cf.edu/event/bsn-information-and-cf-application-session-4/
LOCATION:FL
CATEGORIES:Health Sciences,Information Session
ATTACH;FMTTYPE=image/jpeg:https://www.cf.edu/wp-content/uploads/2021/01/CFEventHealth.jpg
END:VEVENT
BEGIN:VEVENT
DTSTART;TZID=America/New_York:20210720T180000
DTEND;TZID=America/New_York:20210720T190000
DTSTAMP:20260423T085700
CREATED:20210630T122614Z
LAST-MODIFIED:20210630T122614Z
UID:10001196-1626804000-1626807600@www.cf.edu
SUMMARY:Tuesday Game Night - Jeopardy!
DESCRIPTION:Join us for a night of Summer themed Jeopardy! America’s favorite quiz show! There will be prizes for currently enrolled CF students – but all are invited to join us. Are you ready? \nRegister in advance for this meeting. After registering\, you will receive a confirmation email containing information about joining the meeting.
URL:https://www.cf.edu/event/tuesday-game-night-jeopardy/
LOCATION:Online
CATEGORIES:Student Life
ATTACH;FMTTYPE=image/jpeg:https://www.cf.edu/wp-content/uploads/2021/06/Jeopardy-2.jpg
END:VEVENT
END:VCALENDAR