BEGIN:VCALENDAR
VERSION:2.0
PRODID:-//College Of Central Florida - ECPv6.10.1.1//NONSGML v1.0//EN
CALSCALE:GREGORIAN
METHOD:PUBLISH
X-WR-CALNAME:College Of Central Florida
X-ORIGINAL-URL:https://www.cf.edu
X-WR-CALDESC:Events for College Of Central Florida
REFRESH-INTERVAL;VALUE=DURATION:PT1H
X-Robots-Tag:noindex
X-PUBLISHED-TTL:PT1H
BEGIN:VTIMEZONE
TZID:America/New_York
BEGIN:DAYLIGHT
TZOFFSETFROM:-0500
TZOFFSETTO:-0400
TZNAME:EDT
DTSTART:20210314T070000
END:DAYLIGHT
BEGIN:STANDARD
TZOFFSETFROM:-0400
TZOFFSETTO:-0500
TZNAME:EST
DTSTART:20211107T060000
END:STANDARD
END:VTIMEZONE
BEGIN:VEVENT
DTSTART;TZID=America/New_York:20211105T150000
DTEND;TZID=America/New_York:20211105T160000
DTSTAMP:20260419T115508
CREATED:20211005T195843Z
LAST-MODIFIED:20211005T195843Z
UID:10001287-1636124400-1636128000@www.cf.edu
SUMMARY:Critical Care Transport Information Session
DESCRIPTION:The CCT program at College of Central Florida was designed in response to the growing need for qualified specialists in the area of critical care inter-facility transfer. It helps to prepare paramedics and nurses to serve with competence and confidence in meeting the needs of critical care patients undergoing inter-facility transports. \nAt this information session\, you can learn about the program including schedules\, admission criteria\, costs and more. \nFor information\, email Peggy Recanzone at recanzop@cf.edu or call 352-873-5800\, ext. 1655.
URL:https://www.cf.edu/event/critical-care-transport-information-session-7/
LOCATION:Online
CATEGORIES:Health Sciences,Information Session
ATTACH;FMTTYPE=image/jpeg:https://www.cf.edu/wp-content/uploads/2021/01/CFEventHealth.jpg
END:VEVENT
BEGIN:VEVENT
DTSTART;TZID=America/New_York:20211105T193000
DTEND;TZID=America/New_York:20211105T193000
DTSTAMP:20260419T115508
CREATED:20211022T192827Z
LAST-MODIFIED:20211022T192827Z
UID:10001302-1636140600-1636140600@www.cf.edu
SUMMARY:Back on Stage: An Evening of Musicals and Zombies
DESCRIPTION:Live theatre is back! CF Theatre and Musical Theatre will present “Back on Stage: An Evening of Musicals and Zombies” on Friday and Saturday\, Nov. 5-6\, at 7:30 p.m.\, and Sunday\, Nov. 7\, at 3 p.m.\, in the Dassance Fine Arts Center. \nThe performance will include four 10-Minute Musicals: “A Most Average Musical\,” book and lyrics by Jonathan Keebler and music by Bob Kelly; “The Hipster Sister” by Andy Roninson; “Pellets\, Cherries\, and Lies” by Erik Przytulski; and “Any Ordinary Sunday” by Joshua L. Mazur. Students will also perform the one-act play “10 Ways to Survive the Zombie Apocalypse” by Don Zolidis. \n“A Most Average Musical” finds college freshman Jenny spending her first Friday night at college alone. “The Hipster Sister\,” set in Brooklyn in 2015\, is the story of Chelsea\, who’s fed up with her slacker singer-songwriter sister and roommate. “Pellets\, Cherries\, and Lies” takes a look at addiction through the life of a video game golden boy struggling to keep his family together while dealing with late-night binges. “Any Ordinary Sunday” is the work of Florida singer\, composer and musician Joshua L. Mazur. \nThe comedy “10 Ways to Survive the Zombie Apocalypse” invites the audience to consider what to do when it’s the end of the world and hordes of rampaging zombies are about to attack. \nTickets are free and no advance reservations are required. Doors open 30 minutes before showtime.
URL:https://www.cf.edu/event/back-on-stage-an-evening-of-musicals-and-zombies/
LOCATION:Ocala Campus\, 3001 SW College Rd\, Ocala\, FL\, 34474\, United States
CATEGORIES:Arts,Ocala Campus,Visual and Performing Arts
ATTACH;FMTTYPE=image/jpeg:https://www.cf.edu/wp-content/uploads/2020/07/CFEvents-default-image.jpg
END:VEVENT
END:VCALENDAR