BEGIN:VCALENDAR
VERSION:2.0
PRODID:-//College Of Central Florida - ECPv6.10.1.1//NONSGML v1.0//EN
CALSCALE:GREGORIAN
METHOD:PUBLISH
X-ORIGINAL-URL:https://www.cf.edu
X-WR-CALDESC:Events for College Of Central Florida
REFRESH-INTERVAL;VALUE=DURATION:PT1H
X-Robots-Tag:noindex
X-PUBLISHED-TTL:PT1H
BEGIN:VTIMEZONE
TZID:America/New_York
BEGIN:DAYLIGHT
TZOFFSETFROM:-0500
TZOFFSETTO:-0400
TZNAME:EDT
DTSTART:20220313T070000
END:DAYLIGHT
BEGIN:STANDARD
TZOFFSETFROM:-0400
TZOFFSETTO:-0500
TZNAME:EST
DTSTART:20221106T060000
END:STANDARD
END:VTIMEZONE
BEGIN:VEVENT
DTSTART;VALUE=DATE:20220516
DTEND;VALUE=DATE:20220729
DTSTAMP:20260420T151020
CREATED:20220503T183504Z
LAST-MODIFIED:20220503T191459Z
UID:10001550-1652659200-1659052799@www.cf.edu
SUMMARY:Summer Spotlight XXV Exhibition
DESCRIPTION:The Visual Artists’ Society presents “Summer Spotlight XXV” with Town and Country as the theme\, at the College of Central Florida Webber Center Gallery May 16-July 28. This biannual exhibit will display the talent and imagination of many local artists belonging to the Visual Artists’ Society. This exhibition will display a variety of styles and mediums\, including traditional paintings\, photographs\, 3-D objects\, and digital media. \nThe exhibition will be judged by Ronda Richley who has 50 years of art experience as an educator and various art business ownerships from coast to coast. She received her Master of Studio Art degree from the University of California. Her art work has been on display in Barcelona\, the UK\, Art Basel Miami\, New York\, Zurich and Los Angeles. She has judged both student and professional art exhibits. Horse Fever 2021 introduced her to Ocala where she has recently moved. Her horse Sunny Daze can be found at the College of Central Florida Vintage Farm. \nSummer gallery hours are Monday through Thursday\, 10 a.m. to 4 p.m. The gallery is closed Fridays\, Saturdays\, Sundays and college observed holidays. For more information call 352-854-2322\, ext. 1552. \nThe Public is invited to the opening reception and awards ceremony on Tuesday\, May 24 from 5-7 p.m. The exhibition and reception are free.
URL:https://www.cf.edu/event/summer-spotlight-xxv-exhibition/
LOCATION:Ocala Campus\, 3001 SW College Rd\, Ocala\, FL\, 34474\, United States
CATEGORIES:Arts,Visual and Performing Arts
ATTACH;FMTTYPE=image/jpeg:https://www.cf.edu/wp-content/uploads/2022/05/Lindas-1st-Place-SS-2021-Postcard-Cover-Image-web.jpg
END:VEVENT
BEGIN:VEVENT
DTSTART;VALUE=DATE:20220725
DTEND;VALUE=DATE:20220726
DTSTAMP:20260420T151020
CREATED:20220707T125548Z
LAST-MODIFIED:20220707T125548Z
UID:10001624-1658707200-1658793599@www.cf.edu
SUMMARY:Last day to withdraw with "W" in Summer B
DESCRIPTION:The last day that students can withdraw from any summer B classes is July 25.
URL:https://www.cf.edu/event/last-day-to-withdraw-with-w-in-summer-b/
LOCATION:FL
CATEGORIES:Dates and Deadlines
ATTACH;FMTTYPE=image/jpeg:https://www.cf.edu/wp-content/uploads/2020/07/CFEvents-DatesDeadlines-default-image.jpg
END:VEVENT
BEGIN:VEVENT
DTSTART;TZID=America/New_York:20220725T110000
DTEND;TZID=America/New_York:20220725T120000
DTSTAMP:20260420T151020
CREATED:20220712T180503Z
LAST-MODIFIED:20220713T140728Z
UID:10001658-1658746800-1658750400@www.cf.edu
SUMMARY:Levy Community Information Session
DESCRIPTION:Interested in learning more about our campus or getting started at CF? Attend a free community information session to learn more about how the CF Jack Wilkinson Levy Campus offers a wide variety of degrees\, certificates and noncredit courses to students in the greater Chiefland area and online. In addition to state-of-the-art classrooms\, this impressive facility offers plenty of comfortable spaces for students to study and visit between classes. \nAdult Education Classes \nThe Levy Campus provides instruction for adult education students in a caring and academically nurturing environment. Workforce and college transition resources are also available for students. \nWelding Technology \nThis hands-on program can be completed in just three semesters and is available exclusively at the Levy Campus. Graduates will have all the skills and knowledge needed to succeed in related high-demand careers. \nThis session will be held Monday\, July 25 at 11 a.m. at the Bronson Public Library\,\n600 Gilbert St.\, Bronson\, FL. 32621. \n  \n 
URL:https://www.cf.edu/event/community-information-session-levy-campus-spotlight/
LOCATION:FL
CATEGORIES:Admissions,Information Session
ATTACH;FMTTYPE=image/jpeg:https://www.cf.edu/wp-content/uploads/2022/07/2402-web.jpg
END:VEVENT
BEGIN:VEVENT
DTSTART;TZID=America/New_York:20220725T140000
DTEND;TZID=America/New_York:20220725T150000
DTSTAMP:20260420T151020
CREATED:20220712T184829Z
LAST-MODIFIED:20220713T143345Z
UID:10001659-1658757600-1658761200@www.cf.edu
SUMMARY:Levy Community Information Session
DESCRIPTION:Interested in learning more about our campus or getting started at CF? Attend a free community information session to learn more about how the CF Jack Wilkinson Levy Campus offers a wide variety of degrees\, certificates and noncredit courses to students in the greater Chiefland area and online. In addition to state-of-the-art classrooms\, this impressive facility offers plenty of comfortable spaces for students to study and visit between classes. \nAdult Education Classes \nThe Levy Campus provides instruction for adult education students in a caring and academically nurturing environment. Workforce and college transition resources are also available for students. \nWelding Technology \nThis hands-on program can be completed in just three semesters and is available exclusively at the Levy Campus. Graduates will have all the skills and knowledge needed to succeed in related high-demand careers. \nThis session will be held Monday\, July 25 at 2 p.m. at the Williston Public Library 10 S.E. First St.\, Williston\, FL. 32696. \n  \n 
URL:https://www.cf.edu/event/community-information-session-levy-campus-spotlight-2/
LOCATION:FL
CATEGORIES:Admissions,Information Session
ATTACH;FMTTYPE=image/jpeg:https://www.cf.edu/wp-content/uploads/2022/07/2402-web.jpg
END:VEVENT
END:VCALENDAR