BEGIN:VCALENDAR
VERSION:2.0
PRODID:-//College Of Central Florida - ECPv6.10.1.1//NONSGML v1.0//EN
CALSCALE:GREGORIAN
METHOD:PUBLISH
X-WR-CALNAME:College Of Central Florida
X-ORIGINAL-URL:https://www.cf.edu
X-WR-CALDESC:Events for College Of Central Florida
REFRESH-INTERVAL;VALUE=DURATION:PT1H
X-Robots-Tag:noindex
X-PUBLISHED-TTL:PT1H
BEGIN:VTIMEZONE
TZID:America/New_York
BEGIN:DAYLIGHT
TZOFFSETFROM:-0500
TZOFFSETTO:-0400
TZNAME:EDT
DTSTART:20220313T070000
END:DAYLIGHT
BEGIN:STANDARD
TZOFFSETFROM:-0400
TZOFFSETTO:-0500
TZNAME:EST
DTSTART:20221106T060000
END:STANDARD
END:VTIMEZONE
BEGIN:VEVENT
DTSTART;VALUE=DATE:20221006
DTEND;VALUE=DATE:20221031
DTSTAMP:20260422T153900
CREATED:20220927T191159Z
LAST-MODIFIED:20221003T124753Z
UID:10001763-1665014400-1667174399@www.cf.edu
SUMMARY:Next Text Exhibition
DESCRIPTION:The Webber Gallery presents “Next text\,” a collection of work by multicultural artists from across the country will showcase an intriguing display of storytelling through the use of text in the visual arts. The exhibition was curated by CF Professor of Art Tyrus Clutter and Sheila Goloborotko\, an associate professor of printmaking at University of North Florida\, whose artwork has been featured in past exhibitions at the Webber Gallery. \nThe exhibition will open on Thursday\, Oct. 6\, and be on view through Thursday\, Oct. 27. Admission is free.\nThe community is invited to an opening reception  on Thursday\, Oct. 6\, from 4:30-6:30 p.m. \nThe Webber Gallery is located at the CF Ocala Campus\, 3001 S.W. College Road. Hours are 10 a.m.-4 p.m. Monday-Thursday\, and admission is free. For more information\, call 352-854-2322\, ext. 1664.
URL:https://www.cf.edu/event/next-text-exhibition/
LOCATION:Ocala Campus\, 3001 SW College Rd\, Ocala\, FL\, 34474\, United States
CATEGORIES:Arts,Visual and Performing Arts
ATTACH;FMTTYPE=image/jpeg:https://www.cf.edu/wp-content/uploads/2022/09/Masks-by-Jacob-Z.-Wan-web.jpg
END:VEVENT
BEGIN:VEVENT
DTSTART;TZID=America/New_York:20221019T123000
DTEND;TZID=America/New_York:20221019T133000
DTSTAMP:20260422T153900
CREATED:20220927T194405Z
LAST-MODIFIED:20220927T194405Z
UID:10001765-1666182600-1666186200@www.cf.edu
SUMMARY:Waffle Wednesday and UNO Tournament with SAB
DESCRIPTION:Join the Student Activities Board in the Patriot Cafe (Building 5) at 12:30 for Waffle Wednesday! Students can grab a “Waffle on a Stick” and cover it with their favorite toppings! We will also be hosting a UNO Tournament with prizes!  \nAll of this is FREE!!!!
URL:https://www.cf.edu/event/waffle-wednesday-and-uno-tournament-with-sab/
LOCATION:Ocala Campus\, 3001 SW College Rd\, Ocala\, FL\, 34474\, United States
CATEGORIES:Ocala Campus,Student Life
ATTACH;FMTTYPE=image/jpeg:https://www.cf.edu/wp-content/uploads/2022/01/Waffle-Wednesday.jpg
END:VEVENT
BEGIN:VEVENT
DTSTART;TZID=America/New_York:20221019T123000
DTEND;TZID=America/New_York:20221019T133000
DTSTAMP:20260422T153900
CREATED:20221007T180526Z
LAST-MODIFIED:20221007T180526Z
UID:10001777-1666182600-1666186200@www.cf.edu
SUMMARY:Entrepreneurship Academy Information Session
DESCRIPTION:A limited number of students will be accepted into the College of Central Florida Entrepreneurship Academy’s inaugural cohort\, which will begin classes in Spring 2023. Interested students should plan to attend one of two information sessions in October: Wednesday\, Oct. 12\, 5 p.m.\, at the Ewers Century Center\, Room 107\, 3001 S.W. College Road\, Ocala\, or Wednesday\, Oct. 19\, 12:30 p.m.\, at the Ewers Century Center\, Room 101. \nThe CF Entrepreneurship Academy is an innovative program developed in partnership with Chick-fil-A of Ocala that will give students a new option for training to become business community leaders. CF students selected for the academy will receive two semesters of instruction in entrepreneurship-focused courses\, including Principles of Management\, Introduction to Entrepreneurship\, Entrepreneurship Opportunities\, and Small Business Management\, which lead to a Business Entrepreneurship College Credit Certificate. Each course will be complemented with hands-on experiential activities organized by Chick-fil-A of Ocala leadership. \nFor more information\, visit CF.edu/entrepreneurshipacademy.
URL:https://www.cf.edu/event/entrepreneurship-academy-information-session-2/
LOCATION:Ocala Campus\, 3001 SW College Rd\, Ocala\, FL\, 34474\, United States
CATEGORIES:Business, Technology and Agricultural Sciences,Information Session
ATTACH;FMTTYPE=image/jpeg:https://www.cf.edu/wp-content/uploads/2022/10/Chick-Fil-A.jpg
END:VEVENT
BEGIN:VEVENT
DTSTART;TZID=America/New_York:20221019T123000
DTEND;TZID=America/New_York:20221019T134500
DTSTAMP:20260422T153900
CREATED:20220906T142200Z
LAST-MODIFIED:20220926T172226Z
UID:10001724-1666182600-1666187100@www.cf.edu
SUMMARY:Visiting Author Series: Poetry with Eileen Myles
DESCRIPTION:Join us at the Ocala Campus in Building 8\, Room 110 to hear from legendary author Eileen Myles for a poetry reading\, book giveaway and signing\, followed by a free copy of their latest work for the first 35 attendees! \nAbout the Author \nEileen Myles is a pioneer in literature-proudly authoring more than twenty books\, including For Now\, Evolution\, Afterglow (a dog memoir)\, Chelsea Girls\, and I Must Be Living Twice: New & Selected Poems 1974-2014. Myles’s many honors include four Lambda Literary Awards\, the Clark Prize for Excellence in Arts Writing\, the Shelley Memorial Award from the Poetry Society of America\, Creative Capital’s Literature Award as well as their Andy Warhol Foundation Arts Writers Grant\, and a Foundation for Contemporary Arts grant. They were also rewarded the Lambda Pioneer Award for contributions to the LGBT literary community. Myles lives in Marfa\, Texas\, and New York City. \nThis event is part of the CF Visiting Author Series.
URL:https://www.cf.edu/event/visiting-author-series-poetry-with-eileen-myles/
LOCATION:Ocala Campus\, 3001 SW College Rd\, Ocala\, FL\, 34474\, United States
CATEGORIES:Arts,Ocala Campus,Student Life
ATTACH;FMTTYPE=image/jpeg:https://www.cf.edu/wp-content/uploads/2022/09/Eileen-Myles-photo.jpg
END:VEVENT
BEGIN:VEVENT
DTSTART;TZID=America/New_York:20221019T163000
DTEND;TZID=America/New_York:20221019T173000
DTSTAMP:20260422T153900
CREATED:20221004T203129Z
LAST-MODIFIED:20221004T203129Z
UID:10001772-1666197000-1666200600@www.cf.edu
SUMMARY:CF Foundation Board of Directors Meeting
DESCRIPTION:The CF Foundation Board of Directors Meeting below is open to the public. \nMeeting:             CF Foundation Board of Directors Meeting \nDate:                    Wednesday\, Oct. 19\, 2022 \nTime:                    4:30 p.m. \nPlace:                   College of Central Florida (CF)\, Strategic Planning Room\, Bldg. 40\, Ocala Campus\, 3001 S.W. College Road\, Ocala FL  34474 \nPurpose:              General business of the CF Foundation Board of Directors
URL:https://www.cf.edu/event/cf-foundation-board-of-directors-meeting-4/
LOCATION:Ocala Campus\, 3001 SW College Rd\, Ocala\, FL\, 34474\, United States
CATEGORIES:CF Foundation,Ocala Campus
ATTACH;FMTTYPE=image/jpeg:https://www.cf.edu/wp-content/uploads/2020/07/CFEvents-default-image.jpg
END:VEVENT
END:VCALENDAR