BEGIN:VCALENDAR
VERSION:2.0
PRODID:-//College Of Central Florida - ECPv6.10.1.1//NONSGML v1.0//EN
CALSCALE:GREGORIAN
METHOD:PUBLISH
X-WR-CALNAME:College Of Central Florida
X-ORIGINAL-URL:https://www.cf.edu
X-WR-CALDESC:Events for College Of Central Florida
REFRESH-INTERVAL;VALUE=DURATION:PT1H
X-Robots-Tag:noindex
X-PUBLISHED-TTL:PT1H
BEGIN:VTIMEZONE
TZID:America/New_York
BEGIN:DAYLIGHT
TZOFFSETFROM:-0500
TZOFFSETTO:-0400
TZNAME:EDT
DTSTART:20220313T070000
END:DAYLIGHT
BEGIN:STANDARD
TZOFFSETFROM:-0400
TZOFFSETTO:-0500
TZNAME:EST
DTSTART:20221106T060000
END:STANDARD
END:VTIMEZONE
BEGIN:VEVENT
DTSTART;VALUE=DATE:20221006
DTEND;VALUE=DATE:20221031
DTSTAMP:20260422T063555
CREATED:20220927T191159Z
LAST-MODIFIED:20221003T124753Z
UID:10001763-1665014400-1667174399@www.cf.edu
SUMMARY:Next Text Exhibition
DESCRIPTION:The Webber Gallery presents “Next text\,” a collection of work by multicultural artists from across the country will showcase an intriguing display of storytelling through the use of text in the visual arts. The exhibition was curated by CF Professor of Art Tyrus Clutter and Sheila Goloborotko\, an associate professor of printmaking at University of North Florida\, whose artwork has been featured in past exhibitions at the Webber Gallery. \nThe exhibition will open on Thursday\, Oct. 6\, and be on view through Thursday\, Oct. 27. Admission is free.\nThe community is invited to an opening reception  on Thursday\, Oct. 6\, from 4:30-6:30 p.m. \nThe Webber Gallery is located at the CF Ocala Campus\, 3001 S.W. College Road. Hours are 10 a.m.-4 p.m. Monday-Thursday\, and admission is free. For more information\, call 352-854-2322\, ext. 1664.
URL:https://www.cf.edu/event/next-text-exhibition/
LOCATION:Ocala Campus\, 3001 SW College Rd\, Ocala\, FL\, 34474\, United States
CATEGORIES:Arts,Visual and Performing Arts
ATTACH;FMTTYPE=image/jpeg:https://www.cf.edu/wp-content/uploads/2022/09/Masks-by-Jacob-Z.-Wan-web.jpg
END:VEVENT
BEGIN:VEVENT
DTSTART;TZID=America/New_York:20221020T120000
DTEND;TZID=America/New_York:20221020T130000
DTSTAMP:20260422T063555
CREATED:20220706T152553Z
LAST-MODIFIED:20220706T152553Z
UID:10001615-1666267200-1666270800@www.cf.edu
SUMMARY:Dental Hygiene Information Session
DESCRIPTION:Join CF faculty and staff and learn more about the anticipated A.S. Dental Hygiene program and receive a tour of the future Dental Hygiene Clinic. Session topics include general education requirements\, program costs\, admission criteria and more. Students who have not started the CF general admission process can complete the CF application and the $30 application fee will be waived. \nThere is no waiting list for any of the Health Science programs. Some programs have part-time enrollment options. \nRegistration is required for this event. For information about any of the programs or sessions email Peggy Recanzone at recanzop@cf.edu.
URL:https://www.cf.edu/event/dental-hygiene-information-session/
LOCATION:Hampton Center\, 1501 W. Silver Springs Blvd.\, Ocala\, FL\, 34475
CATEGORIES:Health Sciences,Information Session
ATTACH;FMTTYPE=image/jpeg:https://www.cf.edu/wp-content/uploads/2020/10/Dental-Assisting-Students.jpg
END:VEVENT
BEGIN:VEVENT
DTSTART;TZID=America/New_York:20221020T173000
DTEND;TZID=America/New_York:20221020T190000
DTSTAMP:20260422T063555
CREATED:20220922T163511Z
LAST-MODIFIED:20220922T163511Z
UID:10001751-1666287000-1666292400@www.cf.edu
SUMMARY:Ocala Dual Enrollment Orientation Session
DESCRIPTION:Interested in Dual Enrollment? Attend an orientation session to learn more about the program\, how to apply\, what the requirements are\, and meet with CF staff. Qualified high school students may accelerate their college education through dual enrollment courses offered at the high school or a CF campus location. Attendance at one orientation session is required for all incoming dual enrollment students. \nThis session will be held at the CF Ocala Campus\, Building 8\, Room 110.  \n Fill out my online form.
URL:https://www.cf.edu/event/ocala-dual-enrollment-orientation-session-18/
LOCATION:Ocala Campus\, 3001 SW College Rd\, Ocala\, FL\, 34474\, United States
CATEGORIES:Dual Enrollment,Information Session,Ocala Campus
ATTACH;FMTTYPE=image/jpeg:https://www.cf.edu/wp-content/uploads/2020/07/CFEvents-default-image.jpg
END:VEVENT
BEGIN:VEVENT
DTSTART;TZID=America/New_York:20221020T180000
DTEND;TZID=America/New_York:20221020T210000
DTSTAMP:20260422T063555
CREATED:20220927T200447Z
LAST-MODIFIED:20221012T144324Z
UID:10001767-1666288800-1666299600@www.cf.edu
SUMMARY:Halloween Costume Bash
DESCRIPTION:Join us in a spooky celebration Thursday\, Oct. 20\, at the Ocala Campus Klein Center (Building 40) from 6-9 p.m. Students are invited to a ghastly dance and costume contest. Wear your most spooktastic costume and boo-gie on the dance floor. We’ll also have fang-tastic snacks! Entry is free for CF students\, and students can bring one non-student guest for $5 admission.Please keep costumes appropriate and culturally sensitive. No weapons or full face masks are allowed. \nClick here to RSVP \nThis event is hosted by the Gay-Straight Alliance.
URL:https://www.cf.edu/event/halloween-costume-bash/
LOCATION:Ocala Campus\, 3001 SW College Rd\, Ocala\, FL\, 34474\, United States
CATEGORIES:Student Life
END:VEVENT
END:VCALENDAR