BEGIN:VCALENDAR
VERSION:2.0
PRODID:-//College Of Central Florida - ECPv6.10.1.1//NONSGML v1.0//EN
CALSCALE:GREGORIAN
METHOD:PUBLISH
X-WR-CALNAME:College Of Central Florida
X-ORIGINAL-URL:https://www.cf.edu
X-WR-CALDESC:Events for College Of Central Florida
REFRESH-INTERVAL;VALUE=DURATION:PT1H
X-Robots-Tag:noindex
X-PUBLISHED-TTL:PT1H
BEGIN:VTIMEZONE
TZID:America/New_York
BEGIN:DAYLIGHT
TZOFFSETFROM:-0500
TZOFFSETTO:-0400
TZNAME:EDT
DTSTART:20230312T070000
END:DAYLIGHT
BEGIN:STANDARD
TZOFFSETFROM:-0400
TZOFFSETTO:-0500
TZNAME:EST
DTSTART:20231105T060000
END:STANDARD
END:VTIMEZONE
BEGIN:VEVENT
DTSTART;TZID=America/New_York:20230213T100000
DTEND;TZID=America/New_York:20230309T160000
DTSTAMP:20260419T152214
CREATED:20230213T181123Z
LAST-MODIFIED:20230213T182321Z
UID:10002333-1676282400-1678377600@www.cf.edu
SUMMARY:"It's Colored Pencil" Exhibition
DESCRIPTION:The College of Central Florida will present “It’s Colored Pencil” in partnership with the Colored Pencil Society of America. Sponsored by CPSA District Chapter 113 in Gainesville\, this Webber Gallery exhibition will showcase fine artwork of all styles and subjects completed in colored pencil. \n“It’s Colored Pencil” will open Monday\, Feb. 13-Thursday\, March 9. A free opening reception will be held on Friday\, Feb. 17\, from 5-7 p.m. The Webber Gallery is located at the CF Ocala Campus\, 3001 S.W. College Road. Hours are 10 a.m.-4 p.m. Monday-Thursday and admission is free. For more information\, call 352-854-2322\, ext. 1664\, or visit CF.edu/Webber.
URL:https://www.cf.edu/event/its-colored-pencil-exhibition/
LOCATION:Ocala Campus\, 3001 SW College Rd\, Ocala\, FL\, 34474\, United States
CATEGORIES:Arts,Ocala Campus,Visual and Performing Arts
ATTACH;FMTTYPE=image/jpeg:https://www.cf.edu/wp-content/uploads/2023/02/Serenity-by-Suzanne-Marcil.jpg
END:VEVENT
BEGIN:VEVENT
DTSTART;TZID=America/New_York:20230222T123000
DTEND;TZID=America/New_York:20230222T123000
DTSTAMP:20260419T152214
CREATED:20230206T192529Z
LAST-MODIFIED:20230206T193159Z
UID:10002327-1677069000-1677069000@www.cf.edu
SUMMARY:The CF Debra Vasquez Memorial Poetry Series Hosts Adrian Matejka Student Reading
DESCRIPTION:The CF Debra Vasquez Memorial Poetry Series will host poet Adrian Matejka\, who will read from his collection on Wednesday\, Feb. 22\, 12:30 p.m. in Building 8\, Room 110 on the CF Ocala Campus\, 3001 S.W. College Road.\nA later reading will be held at 7 p.m. in the Dassance Fine Arts Center on the CF Ocala Campus. Both readings are free and open to the public.\nBorn in Germany to a military family\, Matejka grew up in Indiana. The editor of Poetry magazine earned a Master of Fine Arts degree from Southern Illinois University and served as Indiana’s poet laureate in 2018-2019. He also has fellowships from the Academy of American Poets\, the Guggenheim Foundation\, the National Endowment for the Arts and the Rockefeller Foundation. \nMatejka’s most recent collection of poems\, “Somebody Else Sold the World\,” was a finalist for the 2022 Rilke Prize. His third collection of poems\, “The Big Smoke\,” was awarded the 2014 Anisfield-Wolf Book Award and was a finalist for the 2013 National Book Award\, 2014 Hurston/Wright Legacy Award and 2014 Pulitzer Prize in poetry. He has collaborated on mixed media projects\, and his first graphic novel\, “Last on his Feet\,” will be released this year. \nFor more information\, contact Sandra Cooper at ext. 1361 or coopersa@cf.edu.
URL:https://www.cf.edu/event/the-cf-debra-vasquez-memorial-poetry-series-hosts-adrian-matejka-student-reading/
LOCATION:Ocala Campus\, 3001 SW College Rd\, Ocala\, FL\, 34474\, United States
CATEGORIES:Ocala Campus,Student Life,Visual and Performing Arts
ATTACH;FMTTYPE=image/jpeg:https://www.cf.edu/wp-content/uploads/2023/02/Vazquez-Poetry-Matejka-e1675699217715.jpeg
END:VEVENT
BEGIN:VEVENT
DTSTART;TZID=America/New_York:20230222T150000
DTEND;TZID=America/New_York:20230222T160000
DTSTAMP:20260419T152214
CREATED:20230104T170358Z
LAST-MODIFIED:20230104T170358Z
UID:10002249-1677078000-1677081600@www.cf.edu
SUMMARY:Virtual Dental Assisting Information Session
DESCRIPTION:CF is conducting a Virtual Dental Assisting program information session through a Zoom presentation. Potential students must attend a session before applying to any of the programs. Sessions provide details about admissions criteria\, program requirements\, costs and more. Stay on and complete your CF general admission application and the $30 fee will be waived. \nThere is no waiting list for any of the Health Science programs. Some programs have part-time enrollment options.\nFor information about any of the programs or sessions email Peggy Recanzone at recanzop@cf.edu.
URL:https://www.cf.edu/event/virtual-dental-assisting-information-session-3/
LOCATION:Online
CATEGORIES:Health Sciences,Information Session
ATTACH;FMTTYPE=image/jpeg:https://www.cf.edu/wp-content/uploads/2020/10/Dental-Assisting-Classes.jpg
END:VEVENT
BEGIN:VEVENT
DTSTART;TZID=America/New_York:20230222T173000
DTEND;TZID=America/New_York:20230222T183000
DTSTAMP:20260419T152214
CREATED:20230213T205135Z
LAST-MODIFIED:20230215T140147Z
UID:10002335-1677087000-1677090600@www.cf.edu
SUMMARY:Virtual Dual Enrollment Information Session
DESCRIPTION:Interested in Dual Enrollment? Attend an information session to learn more about the program\, how to apply\, what the requirements are\, and meet with CF staff. Qualified high school students may accelerate their college education through dual enrollment courses offered at the high school or a CF campus location. Attendance at one information session is required for all incoming dual enrollment students. \nThis session will be held via Zoom.
URL:https://www.cf.edu/event/virtual-dual-enrollment-orientation-session/
LOCATION:FL
CATEGORIES:Dual Enrollment,Information Session
ATTACH;FMTTYPE=image/jpeg:https://www.cf.edu/wp-content/uploads/2020/07/CFEvents-default-image.jpg
END:VEVENT
BEGIN:VEVENT
DTSTART;TZID=America/New_York:20230222T190000
DTEND;TZID=America/New_York:20230222T190000
DTSTAMP:20260419T152214
CREATED:20230206T192627Z
LAST-MODIFIED:20230206T193224Z
UID:10002328-1677092400-1677092400@www.cf.edu
SUMMARY:The CF Debra Vasquez Memorial Poetry Series Hosts Adrian Matejka
DESCRIPTION:The CF Debra Vasquez Memorial Poetry Series will host poet Adrian Matejka\, who will read from his collection on Wednesday\, Feb. 22\,7 p.m. in the Dassance Fine Arts Center on the CF Ocala Campus\, 3001 S.W. College Road.  \nAn earlier reading will take place 12:30 p.m. in Building 8\, Room 110 on the CF Ocala Campus. Both readings are free and open to the public. \nBorn in Germany to a military family\, Matejka grew up in Indiana. The editor of Poetry magazine earned a Master of Fine Arts degree from Southern Illinois University and served as Indiana’s poet laureate in 2018-2019. He also has fellowships from the Academy of American Poets\, the Guggenheim Foundation\, the National Endowment for the Arts and the Rockefeller Foundation. \nMatejka’s most recent collection of poems\, “Somebody Else Sold the World\,” was a finalist for the 2022 Rilke Prize. His third collection of poems\, “The Big Smoke\,” was awarded the 2014 Anisfield-Wolf Book Award and was a finalist for the 2013 National Book Award\, 2014 Hurston/Wright Legacy Award and 2014 Pulitzer Prize in poetry. He has collaborated on mixed media projects\, and his first graphic novel\, “Last on his Feet\,” will be released this year. \nFor more information\, contact Sandra Cooper at ext. 1361 or coopersa@cf.edu.
URL:https://www.cf.edu/event/the-cf-debra-vasquez-memorial-poetry-series-hosts-adrian-matejka/
LOCATION:Ocala Campus\, 3001 SW College Rd\, Ocala\, FL\, 34474\, United States
CATEGORIES:Ocala Campus,Student Life,Visual and Performing Arts
ATTACH;FMTTYPE=image/jpeg:https://www.cf.edu/wp-content/uploads/2023/02/Vazquez-Poetry-Matejka-e1675699217715.jpeg
END:VEVENT
END:VCALENDAR