BEGIN:VCALENDAR
VERSION:2.0
PRODID:-//College Of Central Florida - ECPv6.10.1.1//NONSGML v1.0//EN
CALSCALE:GREGORIAN
METHOD:PUBLISH
X-WR-CALNAME:College Of Central Florida
X-ORIGINAL-URL:https://www.cf.edu
X-WR-CALDESC:Events for College Of Central Florida
REFRESH-INTERVAL;VALUE=DURATION:PT1H
X-Robots-Tag:noindex
X-PUBLISHED-TTL:PT1H
BEGIN:VTIMEZONE
TZID:America/New_York
BEGIN:DAYLIGHT
TZOFFSETFROM:-0500
TZOFFSETTO:-0400
TZNAME:EDT
DTSTART:20240310T070000
END:DAYLIGHT
BEGIN:STANDARD
TZOFFSETFROM:-0400
TZOFFSETTO:-0500
TZNAME:EST
DTSTART:20241103T060000
END:STANDARD
END:VTIMEZONE
BEGIN:VEVENT
DTSTART;VALUE=DATE:20241014
DTEND;VALUE=DATE:20241015
DTSTAMP:20260423T085519
CREATED:20241014T153814Z
LAST-MODIFIED:20241024T153919Z
UID:10003155-1728864000-1728950399@www.cf.edu
SUMMARY:Fall B Classes Begin
DESCRIPTION:Fall B classes begin Oct. 14.
URL:https://www.cf.edu/event/fall-b-classes-begin-3/
LOCATION:FL
CATEGORIES:Dates and Deadlines
ATTACH;FMTTYPE=image/jpeg:https://www.cf.edu/wp-content/uploads/2020/07/CFEvents-DatesDeadlines-default-image.jpg
END:VEVENT
BEGIN:VEVENT
DTSTART;TZID=America/New_York:20241014T100000
DTEND;TZID=America/New_York:20241014T100000
DTSTAMP:20260423T085519
CREATED:20240925T144022Z
LAST-MODIFIED:20240925T145408Z
UID:10003137-1728900000-1728900000@www.cf.edu
SUMMARY:Virtual Critical Care Transport Information Session
DESCRIPTION:The CCT program at College of Central Florida was designed in response to the growing need for qualified specialists in the area of critical care inter-facility transfer. It helps to prepare paramedics and nurses to serve with competence and confidence in meeting the needs of critical care patients undergoing inter-facility transports. \nAt this information session\, you can learn about the program including schedules\, admission criteria\, costs and more. \nFor information\, email Peggy Recanzone at recanzop@cf.edu or call 352-873-5800\, ext. 1655. \nRegistration is required to attend. \nRegister Now
URL:https://www.cf.edu/event/virtual-critical-care-transport-information-session-4/
LOCATION:Online
CATEGORIES:Health Sciences,Information Session
ATTACH;FMTTYPE=image/png:https://www.cf.edu/wp-content/uploads/2022/07/Virtual-Information-Session-Critical-Care.png
END:VEVENT
BEGIN:VEVENT
DTSTART;TZID=America/New_York:20241014T130000
DTEND;TZID=America/New_York:20241014T130000
DTSTAMP:20260423T085519
CREATED:20241002T174206Z
LAST-MODIFIED:20241002T174237Z
UID:10003147-1728910800-1728910800@www.cf.edu
SUMMARY:Watch Party: The American Nurse
DESCRIPTION:To help celebrate a decade of nursing education through CF’s Bachelor of Science in Nursing degree program\, join us for a screening of “The American Nurse” on Monday\, Oct. 14\, at the Health Sciences building\, room 112. \nThis documentary\, shot by award-winning photographer and filmmaker\, Carolyn Jones\, explores the role of nurses in the U.S. healthcare system.  \nNo registration is required to attend and light snacks will be provided.
URL:https://www.cf.edu/event/watch-party-the-american-nurse/
LOCATION:Ocala Campus\, 3001 SW College Rd\, Ocala\, FL\, 34474\, United States
CATEGORIES:film,Health Sciences,Ocala Campus
ATTACH;FMTTYPE=image/jpeg:https://www.cf.edu/wp-content/uploads/2024/10/hq720.jpg
END:VEVENT
END:VCALENDAR