BEGIN:VCALENDAR
VERSION:2.0
PRODID:-//College Of Central Florida - ECPv6.10.1.1//NONSGML v1.0//EN
CALSCALE:GREGORIAN
METHOD:PUBLISH
X-ORIGINAL-URL:https://www.cf.edu
X-WR-CALDESC:Events for College Of Central Florida
REFRESH-INTERVAL;VALUE=DURATION:PT1H
X-Robots-Tag:noindex
X-PUBLISHED-TTL:PT1H
BEGIN:VTIMEZONE
TZID:America/New_York
BEGIN:DAYLIGHT
TZOFFSETFROM:-0500
TZOFFSETTO:-0400
TZNAME:EDT
DTSTART:20240310T070000
END:DAYLIGHT
BEGIN:STANDARD
TZOFFSETFROM:-0400
TZOFFSETTO:-0500
TZNAME:EST
DTSTART:20241103T060000
END:STANDARD
END:VTIMEZONE
BEGIN:VEVENT
DTSTART;TZID=America/New_York:20241107T100000
DTEND;TZID=America/New_York:20241212T160000
DTSTAMP:20260419T234824
CREATED:20240920T193959Z
LAST-MODIFIED:20241029T200644Z
UID:10003129-1730973600-1734019200@www.cf.edu
SUMMARY:"Threading the Needle" Webber Gallery Exhibition
DESCRIPTION:The community is invited to explore the “Threading the Needle: National Art Quilt Exhibition” at the Webber Gallery on view 10 a.m.-4 p.m. Thursday\, Nov. 7\, – Thursday\, Dec. 12. \nThis is a competitive exhibition that will showcase 2D quilted works from artists across the nation. Artworks will be judged by Bobbi Baugh\, a Florida-based textile artist whose award-winning works have been shown nationally. Awards will be announced during the  exhibition reception  by Baugh on Wednesday\, Nov. 13. \nInterested in hearing more about the artwork? Don’t miss this exhibition’s Artist Talk with Bobbi Baugh during the reception on Wednesday\, Nov. 13. \nTopics and concepts presented at this event are for discussion purposes only and are not intended to espouse\, promote\, advance\, inculcate\, or compel individuals to believe the topics or concepts presented therein. Nor do they constitute endorsement of such topics or concepts by the College of Central Florida\, its Board of Trustees\, or any of their officers\, employees\, or agents.
URL:https://www.cf.edu/event/threading-the-needle-national-art-quilt-exhibition/
LOCATION:Ocala Campus\, 3001 SW College Rd\, Ocala\, FL\, 34474\, United States
CATEGORIES:Arts,Ocala Campus,Visual and Performing Arts
ATTACH;FMTTYPE=image/jpeg:https://www.cf.edu/wp-content/uploads/2024/09/Bobbi-Baugh-Becoming-one-e1726860847818.jpg
END:VEVENT
BEGIN:VEVENT
DTSTART;VALUE=DATE:20241118
DTEND;VALUE=DATE:20241119
DTSTAMP:20260419T234824
CREATED:20241024T154524Z
LAST-MODIFIED:20241024T154524Z
UID:10003173-1731888000-1731974399@www.cf.edu
SUMMARY:Last day to withdraw with "W" in Fall B
DESCRIPTION:The last day that students can withdraw from any Fall B classes is Nov. 18.
URL:https://www.cf.edu/event/last-day-to-withdraw-with-w-in-fall-b-4/
LOCATION:FL
CATEGORIES:Dates and Deadlines
ATTACH;FMTTYPE=image/jpeg:https://www.cf.edu/wp-content/uploads/2020/07/CFEvents-DatesDeadlines-default-image.jpg
END:VEVENT
BEGIN:VEVENT
DTSTART;TZID=America/New_York:20241118T100000
DTEND;TZID=America/New_York:20241118T140000
DTSTAMP:20260419T234824
CREATED:20240828T193409Z
LAST-MODIFIED:20240828T193409Z
UID:10003109-1731924000-1731938400@www.cf.edu
SUMMARY:Vintage Farm Educational Field Day
DESCRIPTION:Join us at the CF Vintage Farm Campus on Monday\, Nov. 18\, 10 a.m.-2 p.m. for this equine and agribusiness Field Day! This fun\, information-packed event is your chance to learn firsthand about these programs and explore all that the Vintage Farm Campus has to offer.  \n\nLaunch your educational journey or career in equine and agribusiness fields\nNetwork with alumni to gain insights and advice\nConnect with faculty\, staff and students\nDiscover CF’s diverse program options\nExperience live demonstrations of related skills and topics\n\nVintage Farm is located at 4020 S.E. 3rd Ave. (Rt 475). We hope to see you there! \nTopics and concepts presented at this event are for discussion purposes only and are not intended to espouse\, promote\, advance\, inculcate\, or compel individuals to believe the topics or concepts presented therein. Nor do they constitute endorsement of such topics or concepts by the College of Central Florida\, its Board of Trustees\, or any of their officers\, employees\, or agents.
URL:https://www.cf.edu/event/vintage-farm-educational-field-day-2/
LOCATION:Vintage Farm Campus\, 4020 SE 3rd Ave.\, Ocala\, FL\, 34480\, United States
CATEGORIES:Business, Technology and Agricultural Sciences
ATTACH;FMTTYPE=image/jpeg:https://www.cf.edu/wp-content/uploads/2024/02/CFEvent-EquineAg-FieldDay2024-image.jpg
END:VEVENT
BEGIN:VEVENT
DTSTART;TZID=America/New_York:20241118T130000
DTEND;TZID=America/New_York:20241118T140000
DTSTAMP:20260419T234824
CREATED:20240717T152401Z
LAST-MODIFIED:20240717T152401Z
UID:10003022-1731934800-1731938400@www.cf.edu
SUMMARY:Virtual Nursing Information Session - ADN\, LPN\, Paramedic Bridge
DESCRIPTION:Learn more about the Associate Degree Nursing\, LPN and Paramedic Bridge Nursing programs and their admission criteria. The CF general admission application fee ($30) will be waived for attendees who complete the CF general admission application during the webinar. \nThere is no waiting list for any of the Health Science programs. Some programs have part-time enrollment options.\nFor information about any of the programs or sessions email Peggy Recanzone at recanzop@cf.edu.
URL:https://www.cf.edu/event/virtual-nursing-information-session-adn-lpn-paramedic-bridge-12/
LOCATION:Online
CATEGORIES:Health Sciences,Information Session
ATTACH;FMTTYPE=image/jpeg:https://www.cf.edu/wp-content/uploads/2022/09/4011-web.jpg
END:VEVENT
BEGIN:VEVENT
DTSTART;TZID=America/New_York:20241118T150000
DTEND;TZID=America/New_York:20241118T160000
DTSTAMP:20260419T234824
CREATED:20240717T153433Z
LAST-MODIFIED:20240717T153433Z
UID:10003027-1731942000-1731945600@www.cf.edu
SUMMARY:Virtual BSN Information Session
DESCRIPTION:Learn more about admissions criteria\, program requirements\, costs and more. The CF general admission application fee ($30) will be waived for attendees who complete the CF general admission application during the webinar. \nThere is no waiting list for any of the Health Science programs. Some programs have part-time enrollment options. \nFor information about any of the programs or sessions email Peggy Recanzone at recanzop@cf.edu.
URL:https://www.cf.edu/event/virtual-bsn-information-session-3/
LOCATION:Online
CATEGORIES:Health Sciences,Information Session
ATTACH;FMTTYPE=image/jpeg:https://www.cf.edu/wp-content/uploads/2022/09/4011-web.jpg
END:VEVENT
END:VCALENDAR