BEGIN:VCALENDAR
VERSION:2.0
PRODID:-//College Of Central Florida - ECPv6.10.1.1//NONSGML v1.0//EN
CALSCALE:GREGORIAN
METHOD:PUBLISH
X-WR-CALNAME:College Of Central Florida
X-ORIGINAL-URL:https://www.cf.edu
X-WR-CALDESC:Events for College Of Central Florida
REFRESH-INTERVAL;VALUE=DURATION:PT1H
X-Robots-Tag:noindex
X-PUBLISHED-TTL:PT1H
BEGIN:VTIMEZONE
TZID:America/New_York
BEGIN:DAYLIGHT
TZOFFSETFROM:-0500
TZOFFSETTO:-0400
TZNAME:EDT
DTSTART:20250309T070000
END:DAYLIGHT
BEGIN:STANDARD
TZOFFSETFROM:-0400
TZOFFSETTO:-0500
TZNAME:EST
DTSTART:20251102T060000
END:STANDARD
TZID:America/New_York
BEGIN:DAYLIGHT
TZOFFSETFROM:-0500
TZOFFSETTO:-0400
TZNAME:EDT
DTSTART:20250309T070000
END:DAYLIGHT
BEGIN:STANDARD
TZOFFSETFROM:-0400
TZOFFSETTO:-0500
TZNAME:EST
DTSTART:20251102T060000
END:STANDARD
END:VTIMEZONE
BEGIN:VEVENT
DTSTART;TZID=America/New_York:20250519T100000
DTEND;TZID=America/New_York:20250619T160000
DTSTAMP:20260420T042043
CREATED:20250514T134144Z
LAST-MODIFIED:20250515T174102Z
UID:10003480-1747648800-1750348800@www.cf.edu
SUMMARY:"The Pastel Odyssey" Webber Gallery Exhibition
DESCRIPTION:The community is invited to explore the “The Pastel Odyssey” at the Webber Gallery on view 10 a.m.-4 p.m. Monday\, May 19\, – Thursday\, June 19.  \nJoin pastelists from the Pastel Society of Central Florida for mesmerizing experience of color\, texture\, and creativity in the Pastel Odyssey at the Webber Gallery. The exhibit will feature around 40 different stunning works from 15 talented artists. \nDon’t miss the exhibition’s opening reception on Thursday\, May 29\, from 4-6 p.m.  \nTopics and concepts presented at this event are for discussion purposes only and are not intended to espouse\, promote\, advance\, inculcate\, or compel individuals to believe the topics or concepts presented therein. Nor do they constitute endorsement of such topics or concepts by the College of Central Florida\, its Board of Trustees\, or any of their officers\, employees\, or agents.
URL:https://www.cf.edu/event/the-pastel-odyssey-webber-gallery-exhibition/
LOCATION:Ocala Campus\, 3001 SW College Rd\, Ocala\, FL\, 34474\, United States
CATEGORIES:Arts,Ocala Campus,Visual and Performing Arts
ATTACH;FMTTYPE=image/jpeg:https://www.cf.edu/wp-content/uploads/2025/05/Karol-Caught-or-Not-1.jpg
END:VEVENT
BEGIN:VEVENT
DTSTART;TZID=America/New_York:20250520T100000
DTEND;TZID=America/New_York:20250520T110000
DTSTAMP:20260420T042043
CREATED:20241203T202249Z
LAST-MODIFIED:20241203T204759Z
UID:10003284-1747735200-1747738800@www.cf.edu
SUMMARY:Virtual Diagnostic Medical Sonography Technology Information Session
DESCRIPTION:Learn more about CF’s anticipated Associate in Science Degree in Diagnostic Medical Sonography Technology. Admissions criteria\, program requirements\, costs and more will be covered. The CF general admission application fee ($30) will be waived for attendees who complete the CF general admission application during the webinar. \nThere is no waiting list for any of the Health Science programs. Some programs have part-time enrollment options. \nRegistration is required for this event. For information about any of the programs or sessions email Peggy Recanzone at recanzop@cf.edu.
URL:https://www.cf.edu/event/virtual-diagnostic-medical-sonography-technology-information-session-20/
LOCATION:Online
CATEGORIES:Health Sciences,Information Session
ATTACH;FMTTYPE=image/jpeg:https://www.cf.edu/wp-content/uploads/2023/09/CCF_8643-edit-web.jpg
END:VEVENT
BEGIN:VEVENT
DTSTART;TZID=America/New_York:20250520T120000
DTEND;TZID=America/New_York:20250520T120000
DTSTAMP:20260420T042043
CREATED:20250515T124632Z
LAST-MODIFIED:20250515T124632Z
UID:10003481-1747742400-1747742400@www.cf.edu
SUMMARY:Virtual Surgical Services Information Session
DESCRIPTION:CF is conducting a Virtual Surgical Services program information session to help you learn about admissions criteria\, program requirements\, costs and more. Potential students must attend a session before applying to any of the programs. Attendees\, who apply at the event\, will receive a waiver for the $30 admissions application fee. \nFor information about any of the programs or sessions email Peggy Recanzone at recanzop@cf.edu. \nRegister Now
URL:https://www.cf.edu/event/virtual-surgical-services-information-session-41/
LOCATION:Online
CATEGORIES:Health Sciences,Information Session
ATTACH;FMTTYPE=image/jpeg:https://www.cf.edu/wp-content/uploads/2023/07/3082.jpg
END:VEVENT
BEGIN:VEVENT
DTSTART;TZID=America/New_York:20250520T140000
DTEND;TZID=America/New_York:20250520T150000
DTSTAMP:20260420T042043
CREATED:20241203T200928Z
LAST-MODIFIED:20241203T201034Z
UID:10003279-1747749600-1747753200@www.cf.edu
SUMMARY:Virtual Cardiovascular Technology Information Session
DESCRIPTION:Learn more about CF’s anticipated Associate in Science Degree in Cardiovascular Technology (program accreditation pending). Admissions criteria\, program requirements\, costs and more will be covered. The CF general admission application fee ($30) will be waived for attendees who complete the CF general admission application during the webinar. \nThere is no waiting list for any of the Health Science programs. Some programs have part-time enrollment options. \nRegistration is required for this event. For information about any of the programs or sessions email Peggy Recanzone at recanzop@cf.edu.
URL:https://www.cf.edu/event/virtual-cardiovascular-technology-information-session-12/
LOCATION:Online
CATEGORIES:Health Sciences,Information Session
ATTACH;FMTTYPE=image/jpeg:https://www.cf.edu/wp-content/uploads/2022/12/iStock-147426963-web-e1711390148646.jpg
END:VEVENT
BEGIN:VEVENT
DTSTART;TZID=America/New_York:20250520T160000
DTEND;TZID=America/New_York:20250520T170000
DTSTAMP:20260420T042043
CREATED:20250424T175910Z
LAST-MODIFIED:20250424T175910Z
UID:10003461-1747756800-1747760400@www.cf.edu
SUMMARY:Virtual Dual Enrollment Information Session
DESCRIPTION:Interested in Dual Enrollment or Collegiate Academy? Attend an information session to learn more about the program and the requirements\, plus meet with CF staff and learn how to apply. Qualified high school students may accelerate their college education through dual enrollment. Attendance at one information session is required for all incoming dual enrollment students. \nRegister to attend! \nRegister Now
URL:https://www.cf.edu/event/virtual-dual-enrollment-information-session-64/
LOCATION:Online
CATEGORIES:Dual Enrollment,Information Session
ATTACH;FMTTYPE=image/jpeg:https://www.cf.edu/wp-content/uploads/2022/01/career-readiness-lunch-n-learn-lake-superior-college-2-web.jpg
END:VEVENT
BEGIN:VEVENT
DTSTART;TZID=America/New_York:20250520T170000
DTEND;TZID=America/New_York:20250520T170000
DTSTAMP:20260420T042043
CREATED:20250505T185609Z
LAST-MODIFIED:20250505T185609Z
UID:10003472-1747760400-1747760400@www.cf.edu
SUMMARY:Why CF? Virtual Information Session
DESCRIPTION:Get a feel for what it’s like to be a CF Patriot in this 45-minute information session. You’ll find out about why CF should be your first choice for college and get a crash course in the application process. Plus\, all attendees will get a waiver allowing them to apply for free during the session! \nLet us know you’ll be there!\nRegister Now
URL:https://www.cf.edu/event/why-cf-virtual-information-session-29/
LOCATION:Online
CATEGORIES:Admissions,Information Session
ATTACH;FMTTYPE=image/jpeg:https://www.cf.edu/wp-content/uploads/2020/07/CFEvents-default-image.jpg
END:VEVENT
END:VCALENDAR