BEGIN:VCALENDAR
VERSION:2.0
PRODID:-//College Of Central Florida - ECPv6.10.1.1//NONSGML v1.0//EN
CALSCALE:GREGORIAN
METHOD:PUBLISH
X-WR-CALNAME:College Of Central Florida
X-ORIGINAL-URL:https://www.cf.edu
X-WR-CALDESC:Events for College Of Central Florida
REFRESH-INTERVAL;VALUE=DURATION:PT1H
X-Robots-Tag:noindex
X-PUBLISHED-TTL:PT1H
BEGIN:VTIMEZONE
TZID:America/New_York
BEGIN:DAYLIGHT
TZOFFSETFROM:-0500
TZOFFSETTO:-0400
TZNAME:EDT
DTSTART:20210314T070000
END:DAYLIGHT
BEGIN:STANDARD
TZOFFSETFROM:-0400
TZOFFSETTO:-0500
TZNAME:EST
DTSTART:20211107T060000
END:STANDARD
END:VTIMEZONE
BEGIN:VEVENT
DTSTART;TZID=America/New_York:20210401T180000
DTEND;TZID=America/New_York:20210401T190000
DTSTAMP:20260419T095519
CREATED:20210223T151555Z
LAST-MODIFIED:20210519T122413Z
UID:10001103-1617300000-1617303600@www.cf.edu
SUMMARY:Financial Aid Information Session
DESCRIPTION:Have questions about financial aid?\nJoin us for a virtual financial aid workshop to learn all about the opportunities for getting assistance with paying for college. In this information session\, CF will provide an overview of the financial aid process\, followed by a Q&A session where you can ask our financial aid experts your questions. \nThis information session is open to current students and anyone considering attending college in the future. Attendees can join using the free Zoom meeting app. \n  \nJoin Meeting
URL:https://www.cf.edu/event/financial-aid-information-session-3/
LOCATION:FL
CATEGORIES:Admissions,Information Session
ATTACH;FMTTYPE=image/jpeg:https://www.cf.edu/wp-content/uploads/2020/07/CFEvents-default-image.jpg
END:VEVENT
BEGIN:VEVENT
DTSTART;TZID=America/New_York:20210413T103000
DTEND;TZID=America/New_York:20210413T133000
DTSTAMP:20260419T095519
CREATED:20201209T150835Z
LAST-MODIFIED:20210519T122248Z
UID:10001027-1618309800-1618320600@www.cf.edu
SUMMARY:Marion County High School Application Session
DESCRIPTION:CF is conducting an application sessions for Marion County high school students looking to get assistance with filling up the CF application. Students can also learn more about CF and the academic programs that the college offers. Sessions last about an hour and provide details about the application process\, financial aid\, placement testing and resources available to help students be successful. Sessions outline the expectations and outcomes for the specific academic programs.
URL:https://www.cf.edu/event/marion-county-high-school-application-session/
LOCATION:FL
CATEGORIES:Admissions,Information Session
ATTACH;FMTTYPE=image/jpeg:https://www.cf.edu/wp-content/uploads/2020/12/CFEvent-WhyCF.jpg
END:VEVENT
BEGIN:VEVENT
DTSTART;TZID=America/New_York:20210421T180000
DTEND;TZID=America/New_York:20210421T190000
DTSTAMP:20260419T095519
CREATED:20201209T153705Z
LAST-MODIFIED:20210519T122014Z
UID:10000995-1619028000-1619031600@www.cf.edu
SUMMARY:Dual Enrollment Virtual Information Session
DESCRIPTION:Join us for this 45-minute information session for students and parents where you will hear about why CF should be your student’s first choice for college. This session will focus on the process to accelerate your college career and earn high school and college credit at the same time. You will learn about the resources that CF offers to help your student be successful and about financial aid options. Attendees will event get a crash course in the application process. Plus\, all attendees will get a waiver allowing them to apply for free! For addition information contact dualenrollment@CF.edu.
URL:https://www.cf.edu/event/dual-enrollment-information-session-3/
LOCATION:FL
CATEGORIES:Admissions,Information Session
ATTACH;FMTTYPE=image/jpeg:https://www.cf.edu/wp-content/uploads/2020/12/Why-CF-event-800x800-1.jpg
END:VEVENT
BEGIN:VEVENT
DTSTART;TZID=America/New_York:20210427T180000
DTEND;TZID=America/New_York:20210427T190000
DTSTAMP:20260419T095519
CREATED:20201209T144934Z
LAST-MODIFIED:20210519T121932Z
UID:10001024-1619546400-1619550000@www.cf.edu
SUMMARY:Why CF? Virtual Information Session
DESCRIPTION:Get a feel for what it’s like to be a CF Patriot in this 45-minute information session. You’ll find out about why CF should be your first choice for college and get a crash course in the application process. Plus\, all attendees will get a waiver allowing them to apply for free!
URL:https://www.cf.edu/event/why-cf-session-3/
LOCATION:FL
CATEGORIES:Admissions,Information Session
ATTACH;FMTTYPE=image/jpeg:https://www.cf.edu/wp-content/uploads/2020/12/Why-CF-event-800x800-1.jpg
END:VEVENT
END:VCALENDAR