BEGIN:VCALENDAR
VERSION:2.0
PRODID:-//College Of Central Florida - ECPv6.10.1.1//NONSGML v1.0//EN
CALSCALE:GREGORIAN
METHOD:PUBLISH
X-WR-CALNAME:College Of Central Florida
X-ORIGINAL-URL:https://www.cf.edu
X-WR-CALDESC:Events for College Of Central Florida
REFRESH-INTERVAL;VALUE=DURATION:PT1H
X-Robots-Tag:noindex
X-PUBLISHED-TTL:PT1H
BEGIN:VTIMEZONE
TZID:America/New_York
BEGIN:DAYLIGHT
TZOFFSETFROM:-0500
TZOFFSETTO:-0400
TZNAME:EDT
DTSTART:20210314T070000
END:DAYLIGHT
BEGIN:STANDARD
TZOFFSETFROM:-0400
TZOFFSETTO:-0500
TZNAME:EST
DTSTART:20211107T060000
END:STANDARD
END:VTIMEZONE
BEGIN:VEVENT
DTSTART;TZID=America/New_York:20210505T130000
DTEND;TZID=America/New_York:20210505T133000
DTSTAMP:20260419T095515
CREATED:20210427T145849Z
LAST-MODIFIED:20210519T121750Z
UID:10001167-1620219600-1620221400@www.cf.edu
SUMMARY:Rapid Credentialing Virtual Information Session
DESCRIPTION:Out of work? Interested in learning new skills for in-demand occupations? CF is offering scholarships for short-term\, in-demand programs intended to address the negative economic impact of the COVID-19 pandemic. You may qualify for free tuition and books.\nThe programs – which align with open positions in high-demand\, high-wage jobs in our region – include Accounting Technology Specialist\, Computer Information Data Specialist\, Lean Six Sigma Green Belt\, Logistics and Transportation Specialist\, and many more. The College Credit Certificate programs are for entry-level students\, range from 9 to 12 credits and can be completed in 18 weeks or less. Most are available fully online.\nJoin us for this virtual information session to learn more! As an added bonus for participating in this session you will have the opportunity to complete your CF application and have the application fee waived.
URL:https://www.cf.edu/event/rapid-credentialing-virtual-information-sessions/
LOCATION:Online
CATEGORIES:Admissions,Business, Technology and Agricultural Sciences,Information Session,rapid credentialing
ATTACH;FMTTYPE=image/jpeg:https://www.cf.edu/wp-content/uploads/2021/01/CFEvent-RapidCred.jpg
END:VEVENT
BEGIN:VEVENT
DTSTART;TZID=America/New_York:20210506T103000
DTEND;TZID=America/New_York:20210506T133000
DTSTAMP:20260419T095515
CREATED:20201209T151243Z
LAST-MODIFIED:20210519T121716Z
UID:10001028-1620297000-1620307800@www.cf.edu
SUMMARY:Marion County High School Application Session
DESCRIPTION:CF is conducting an application sessions for Marion County high school students looking to get assistance with filling up the CF application. Students can also learn more about CF and the academic programs that the college offers. Sessions last about an hour and provide details about the application process\, financial aid\, placement testing and resources available to help students be successful. Sessions outline the expectations and outcomes for the specific academic programs.
URL:https://www.cf.edu/event/marion-county-high-school-application-session-2/
LOCATION:FL
CATEGORIES:Admissions,Information Session
ATTACH;FMTTYPE=image/jpeg:https://www.cf.edu/wp-content/uploads/2020/12/Why-CF-event-800x800-1.jpg
END:VEVENT
BEGIN:VEVENT
DTSTART;TZID=America/New_York:20210511T110000
DTEND;TZID=America/New_York:20210511T120000
DTSTAMP:20260419T095515
CREATED:20201209T145415Z
LAST-MODIFIED:20210519T123855Z
UID:10001025-1620730800-1620734400@www.cf.edu
SUMMARY:Why CF? Virtual Information Session
DESCRIPTION:Get a feel for what it’s like to be a CF Patriot in this 45-minute information session. You’ll find out about why CF should be your first choice for college and get a crash course in the application process. Plus\, all attendees will get a waiver allowing them to apply for free!
URL:https://www.cf.edu/event/why-cf-session-4/
LOCATION:FL
CATEGORIES:Admissions,Information Session
ATTACH;FMTTYPE=image/jpeg:https://www.cf.edu/wp-content/uploads/2020/12/Why-CF-event-800x800-1.jpg
END:VEVENT
BEGIN:VEVENT
DTSTART;TZID=America/New_York:20210518T180000
DTEND;TZID=America/New_York:20210518T190000
DTSTAMP:20260419T095515
CREATED:20201209T152527Z
LAST-MODIFIED:20210519T121543Z
UID:10001030-1621360800-1621364400@www.cf.edu
SUMMARY:Parent Information Session
DESCRIPTION:Join us for this 45-minute information session where you will hear about why CF should be your student’s first choice for college. You will learn about the resources that CF offers to help your student be successful and about financial aid options. Attendees will event get a crash course in the application process. Plus\, all attendees will get a waiver allowing them to apply for free!
URL:https://www.cf.edu/event/parent-information-session/
LOCATION:FL
CATEGORIES:Admissions,Information Session
ATTACH;FMTTYPE=image/jpeg:https://www.cf.edu/wp-content/uploads/2020/12/Why-CF-event-800x800-1.jpg
END:VEVENT
BEGIN:VEVENT
DTSTART;TZID=America/New_York:20210520T140000
DTEND;TZID=America/New_York:20210520T150000
DTSTAMP:20260419T095515
CREATED:20201209T145809Z
LAST-MODIFIED:20210519T121508Z
UID:10001026-1621519200-1621522800@www.cf.edu
SUMMARY:Why CF? Virtual Information Session
DESCRIPTION:Get a feel for what it’s like to be a CF Patriot in this 45-minute information session. You’ll find out about why CF should be your first choice for college and get a crash course in the application process. Plus\, all attendees will get a waiver allowing them to apply for free!
URL:https://www.cf.edu/event/why-cf-session-5/
LOCATION:FL
CATEGORIES:Admissions,Information Session
ATTACH;FMTTYPE=image/jpeg:https://www.cf.edu/wp-content/uploads/2020/12/Why-CF-event-800x800-1.jpg
END:VEVENT
BEGIN:VEVENT
DTSTART;TZID=America/New_York:20210525T160000
DTEND;TZID=America/New_York:20210525T180000
DTSTAMP:20260419T095515
CREATED:20201209T151836Z
LAST-MODIFIED:20210519T123803Z
UID:10001029-1621958400-1621965600@www.cf.edu
SUMMARY:Marion County High School Application Session
DESCRIPTION:CF is conducting an application sessions for Marion County high school students looking to get assistance with filling up the CF application. Students can also learn more about CF and the academic programs that the college offers. Sessions last about an hour and provide details about the application process\, financial aid\, placement testing and resources available to help students be successful. Sessions outline the expectations and outcomes for the specific academic programs.
URL:https://www.cf.edu/event/marion-county-high-school-application-session-3/
LOCATION:FL
CATEGORIES:Admissions,Information Session
ATTACH;FMTTYPE=image/jpeg:https://www.cf.edu/wp-content/uploads/2020/12/Why-CF-event-800x800-1.jpg
END:VEVENT
END:VCALENDAR