BEGIN:VCALENDAR
VERSION:2.0
PRODID:-//College Of Central Florida - ECPv6.10.1.1//NONSGML v1.0//EN
CALSCALE:GREGORIAN
METHOD:PUBLISH
X-WR-CALNAME:College Of Central Florida
X-ORIGINAL-URL:https://www.cf.edu
X-WR-CALDESC:Events for College Of Central Florida
REFRESH-INTERVAL;VALUE=DURATION:PT1H
X-Robots-Tag:noindex
X-PUBLISHED-TTL:PT1H
BEGIN:VTIMEZONE
TZID:America/New_York
BEGIN:DAYLIGHT
TZOFFSETFROM:-0500
TZOFFSETTO:-0400
TZNAME:EDT
DTSTART:20220313T070000
END:DAYLIGHT
BEGIN:STANDARD
TZOFFSETFROM:-0400
TZOFFSETTO:-0500
TZNAME:EST
DTSTART:20221106T060000
END:STANDARD
END:VTIMEZONE
BEGIN:VEVENT
DTSTART;TZID=America/New_York:20220113T120000
DTEND;TZID=America/New_York:20220113T130000
DTSTAMP:20260419T152359
CREATED:20211210T135514Z
LAST-MODIFIED:20211215T130640Z
UID:10001369-1642075200-1642078800@www.cf.edu
SUMMARY:Virtual Information Session
DESCRIPTION:Find out all about the College of Central Florida during this virtual information session. Join one of our admissions advisors for a live 45-minute presentation and Q&A session covering everything you need to know about CF: the admissions process\, financial aid\, academic programs\, university partnerships\, campus amenities\, student services and more. Information session attendees will receive a single-use waiver code to cover the $30 application fee if they apply during the information session. \nTake the next step toward becoming a CF Patriot by registering for this event!
URL:https://www.cf.edu/event/virtual-information-session/
LOCATION:Online
CATEGORIES:Admissions,Information Session
ATTACH;FMTTYPE=image/jpeg:https://www.cf.edu/wp-content/uploads/2021/09/info-session-800px-1.jpg
END:VEVENT
BEGIN:VEVENT
DTSTART;TZID=America/New_York:20220114T083000
DTEND;TZID=America/New_York:20220114T093000
DTSTAMP:20260419T152359
CREATED:20211216T200740Z
LAST-MODIFIED:20220106T201303Z
UID:10001417-1642149000-1642152600@www.cf.edu
SUMMARY:International Information Session: Apply to CF
DESCRIPTION:Interested in becoming an international student at the College of Central Florida? Join the CF International Department as they guide you through the F-1 process! This webinar will go through the five steps necessary to enroll at CF and obtain an interview with the U.S Embassy or Consulate of your home country. At the end of the webinar\, the CF International Department will host a Q&A and answer as many questions as possible. \nRegister today! \nAll Sessions Times are in U.S. Eastern Standard Time Zone. Click to see time zone converter.
URL:https://www.cf.edu/event/international-information-session/
LOCATION:Online
CATEGORIES:Admissions,Information Session,International
ATTACH;FMTTYPE=image/jpeg:https://www.cf.edu/wp-content/uploads/2021/09/info-session-800px-1.jpg
END:VEVENT
BEGIN:VEVENT
DTSTART;TZID=America/New_York:20220115T113000
DTEND;TZID=America/New_York:20220115T113000
DTSTAMP:20260419T152359
CREATED:20211215T140618Z
LAST-MODIFIED:20220112T140405Z
UID:10001411-1642246200-1642246200@www.cf.edu
SUMMARY:MLK Jr. Wreath Laying Ceremony
DESCRIPTION:Join the CF family at MLK Jr. Memorial Park for the annual City of Ocala Wreath Laying Ceremony on Saturday\, Jan. 15 at 11:30 a.m. Speakers will focus on the life and legacy of Dr. Martin Luther King Jr.
URL:https://www.cf.edu/event/mlk-jr-wreath-laying-ceremony-mlk-jr-memorial-park/
LOCATION:FL
CATEGORIES:Admissions
ATTACH;FMTTYPE=image/jpeg:https://www.cf.edu/wp-content/uploads/2020/07/CFEvents-default-image.jpg
END:VEVENT
BEGIN:VEVENT
DTSTART;TZID=America/New_York:20220117T080000
DTEND;TZID=America/New_York:20220117T120000
DTSTAMP:20260419T152359
CREATED:20211209T212422Z
LAST-MODIFIED:20211209T212422Z
UID:10001368-1642406400-1642420800@www.cf.edu
SUMMARY:MLK March
DESCRIPTION:Join the CF family at the annual Dr. Martin Luther King Jr. March and Day in the Park on Monday\, Jan. 17. The march lineup begins at 8 a.m. at the Ocala Downtown Square. CF is No. 21 in the lineup. The march begins at 9 a.m. \nTransportation will be provided from the Dr. Martin Luther King Jr. Complex parking lot to the Ocala Downtown Square. The complex is adjacent to the CF Hampton Center parking lot\, 1501 W. Silver Springs Blvd. Day in the Park activities start immediately following the parade at the Dr. Martin Luther King Jr. Complex.
URL:https://www.cf.edu/event/mlk-march/
LOCATION:FL
CATEGORIES:Admissions,Student Life
ATTACH;FMTTYPE=image/jpeg:https://www.cf.edu/wp-content/uploads/2021/12/MLK-daypark.jpg
END:VEVENT
BEGIN:VEVENT
DTSTART;TZID=America/New_York:20220119T123000
DTEND;TZID=America/New_York:20220119T133000
DTSTAMP:20260419T152359
CREATED:20211216T201143Z
LAST-MODIFIED:20220110T162920Z
UID:10001418-1642595400-1642599000@www.cf.edu
SUMMARY:International Information Session: University Transfer
DESCRIPTION:Start at the College of Central Florida and finish at a top Florida university! The College of Central Florida offers international students guaranteed admission with Florida universities such as UCF\, USF\, FAMU and UF Online. Join the CF International Department and UCF Global as international admissions advisors talk about the process of becoming a student at CF then transferring to become a UCF student. Both CF and UCF admissions representatives will answer as many questions as possible at the end of the webinar. \nRegister today! \nAll Sessions Times are in U.S. Eastern Standard Time Zone. Click to see time zone converter.
URL:https://www.cf.edu/event/international-information-session-university-transfer/
LOCATION:Online
CATEGORIES:Admissions,Information Session,International
ATTACH;FMTTYPE=image/jpeg:https://www.cf.edu/wp-content/uploads/2020/12/ucf-cf-transfer-student.jpg
END:VEVENT
BEGIN:VEVENT
DTSTART;TZID=America/New_York:20220128T220000
DTEND;TZID=America/New_York:20220128T230000
DTSTAMP:20260419T152359
CREATED:20211216T202623Z
LAST-MODIFIED:20220106T201435Z
UID:10001419-1643407200-1643410800@www.cf.edu
SUMMARY:International Information Session: Student Visa 101
DESCRIPTION:Want to know how the F-1 visa works? Join the CF International Department as they guide you along your journey to your F-1 visa to come to Florida to study. Please note the advice offered by DSOs in this webinar is not legal advice and it is a student’s responsibility to independently research the F-1 process from their home country. \nRegister today! \nAll Sessions Times are in U.S. Eastern Standard Time Zone. Click to see time zone converter.
URL:https://www.cf.edu/event/international-information-session-student-visa-101/
LOCATION:Online
CATEGORIES:Admissions,Information Session,International
ATTACH;FMTTYPE=image/jpeg:https://www.cf.edu/wp-content/uploads/2021/09/info-session-800px-1.jpg
END:VEVENT
END:VCALENDAR