BEGIN:VCALENDAR
VERSION:2.0
PRODID:-//College Of Central Florida - ECPv6.10.1.1//NONSGML v1.0//EN
CALSCALE:GREGORIAN
METHOD:PUBLISH
X-ORIGINAL-URL:https://www.cf.edu
X-WR-CALDESC:Events for College Of Central Florida
REFRESH-INTERVAL;VALUE=DURATION:PT1H
X-Robots-Tag:noindex
X-PUBLISHED-TTL:PT1H
BEGIN:VTIMEZONE
TZID:America/New_York
BEGIN:DAYLIGHT
TZOFFSETFROM:-0500
TZOFFSETTO:-0400
TZNAME:EDT
DTSTART:20220313T070000
END:DAYLIGHT
BEGIN:STANDARD
TZOFFSETFROM:-0400
TZOFFSETTO:-0500
TZNAME:EST
DTSTART:20221106T060000
END:STANDARD
END:VTIMEZONE
BEGIN:VEVENT
DTSTART;TZID=America/New_York:20220202T173000
DTEND;TZID=America/New_York:20220202T183000
DTSTAMP:20260419T212853
CREATED:20220124T211820Z
LAST-MODIFIED:20220125T133803Z
UID:10001437-1643823000-1643826600@www.cf.edu
SUMMARY:Citrus Dual Enrollment Orientation Session
DESCRIPTION:Interested in Dual Enrollment? Attend an orientation session to learn more about the program\, how to apply\, what the requirements are\, and meet with CF staff. Qualified high school students may accelerate their college education through dual enrollment courses offered at the high school or a CF campus location. Attendance at one orientation session is required for all incoming dual enrollment students. \nThis session will be held in Building C4\, Room\, 103. More session times are available for selection below. \n Fill out my online form.
URL:https://www.cf.edu/event/citrus-dual-enrollment-orientation-session/
LOCATION:Citrus Campus\, 3800 S. Lecanto Highway\, Lecanto\, FL\, 34461\, United States
CATEGORIES:Admissions,Citrus Campus,Dual Enrollment,Information Session
ATTACH;FMTTYPE=image/jpeg:https://www.cf.edu/wp-content/uploads/2022/01/6839-web-1.jpg
END:VEVENT
BEGIN:VEVENT
DTSTART;TZID=America/New_York:20220204T100000
DTEND;TZID=America/New_York:20220204T110000
DTSTAMP:20260419T212853
CREATED:20211216T203409Z
LAST-MODIFIED:20220106T200959Z
UID:10001420-1643968800-1643972400@www.cf.edu
SUMMARY:International Information Session: Student Life
DESCRIPTION:With over 20 clubs and weekly activities on campus\, Student Life at CF is always exciting! Join us as we discuss the different types of events and activities you can experience as a College of Central Florida student. \nRegister today! \nAll Sessions Times are in U.S. Eastern Standard Time Zone. Click to see time zone converter.
URL:https://www.cf.edu/event/international-information-session-student-life/
LOCATION:Online
CATEGORIES:Admissions,Information Session,International
ATTACH;FMTTYPE=image/jpeg:https://www.cf.edu/wp-content/uploads/2021/10/international-food-festival.jpg
END:VEVENT
BEGIN:VEVENT
DTSTART;TZID=America/New_York:20220209T173000
DTEND;TZID=America/New_York:20220209T183000
DTSTAMP:20260419T212853
CREATED:20220125T140812Z
LAST-MODIFIED:20220125T140812Z
UID:10001457-1644427800-1644431400@www.cf.edu
SUMMARY:Levy Dual Enrollment Orientation Session
DESCRIPTION:Interested in Dual Enrollment? Attend an orientation session to learn more about the program\, how to apply\, what the requirements are\, and meet with CF staff. Qualified high school students may accelerate their college education through dual enrollment courses offered at the high school or a CF campus location. Attendance at one orientation session is required for all incoming dual enrollment students. \nThis session will be held in Building 1\, Room\, 201. More session times are available for selection below. \n Fill out my online form.
URL:https://www.cf.edu/event/levy-dual-enrollment-orientation-session-10/
LOCATION:Levy Campus\, 15390 N.W. Highway 19\, Chiefland\, 32626
CATEGORIES:Admissions,Dual Enrollment,Information Session,Levy Campus
ATTACH;FMTTYPE=image/jpeg:https://www.cf.edu/wp-content/uploads/2022/01/2427-web.jpg
END:VEVENT
BEGIN:VEVENT
DTSTART;TZID=America/New_York:20220211T120000
DTEND;TZID=America/New_York:20220211T130000
DTSTAMP:20260419T212853
CREATED:20211216T203807Z
LAST-MODIFIED:20220106T201849Z
UID:10001421-1644580800-1644584400@www.cf.edu
SUMMARY:Chat with a CF International Student
DESCRIPTION:Curious what it’s like to be a CF International Student? Do you have any questions regarding life in Florida? Join us for our Q&A webinar session to chat directly with a current international student. Our goal is to answer questions that you may have about being a CF Patriot. \nRegister today! \nAll Sessions Times are in U.S. Eastern Standard Time Zone. Click to see time zone converter.
URL:https://www.cf.edu/event/chat-with-a-cf-international-student/
LOCATION:Online
CATEGORIES:Admissions,Information Session,International
ATTACH;FMTTYPE=image/jpeg:https://www.cf.edu/wp-content/uploads/2020/11/student-type_international.jpg
END:VEVENT
BEGIN:VEVENT
DTSTART;TZID=America/New_York:20220215T180000
DTEND;TZID=America/New_York:20220215T190000
DTSTAMP:20260419T212853
CREATED:20211215T162058Z
LAST-MODIFIED:20211215T162058Z
UID:10001412-1644948000-1644951600@www.cf.edu
SUMMARY:Virtual Information Session
DESCRIPTION:Find out all about the College of Central Florida during this virtual information session. Join one of our admissions advisors for a live 45-minute presentation and Q&A session covering everything you need to know about CF: the admissions process\, financial aid\, academic programs\, university partnerships\, campus amenities\, student services and more. Information session attendees will receive a single-use waiver code to cover the $30 application fee if they apply during the information session. \nTake the next step toward becoming a CF Patriot by registering for this event!
URL:https://www.cf.edu/event/virtual-information-session-3/
LOCATION:Online
CATEGORIES:Admissions,Information Session
ATTACH;FMTTYPE=image/jpeg:https://www.cf.edu/wp-content/uploads/2021/09/info-session-800px-1.jpg
END:VEVENT
BEGIN:VEVENT
DTSTART;TZID=America/New_York:20220221T110000
DTEND;TZID=America/New_York:20220221T120000
DTSTAMP:20260419T212853
CREATED:20220124T211903Z
LAST-MODIFIED:20220126T140633Z
UID:10001438-1645441200-1645444800@www.cf.edu
SUMMARY:Ocala Dual Enrollment Orientation Session
DESCRIPTION:Interested in Dual Enrollment? Attend an orientation session to learn more about the program\, how to apply\, what the requirements are\, and meet with CF staff. Qualified high school students may accelerate their college education through dual enrollment courses offered at the high school or a CF campus location. Attendance at one orientation session is required for all incoming dual enrollment students. \nThis session will be held at the Ewers Century Center (Building 40)\, Room 310. More session times are available for selection below. \nFill out my online form.
URL:https://www.cf.edu/event/ocala-dual-enrollment-orientation-session/
LOCATION:Ocala Campus\, 3001 SW College Rd\, Ocala\, FL\, 34474\, United States
CATEGORIES:Admissions,Dual Enrollment,Information Session,Ocala Campus
ATTACH;FMTTYPE=image/jpeg:https://www.cf.edu/wp-content/uploads/2022/01/0775-web.jpg
END:VEVENT
BEGIN:VEVENT
DTSTART;TZID=America/New_York:20220221T150000
DTEND;TZID=America/New_York:20220221T160000
DTSTAMP:20260419T212853
CREATED:20220124T211437Z
LAST-MODIFIED:20220125T135647Z
UID:10001436-1645455600-1645459200@www.cf.edu
SUMMARY:Levy Dual Enrollment Orientation Session
DESCRIPTION:Interested in Dual Enrollment? Attend an orientation session to learn more about the program\, how to apply\, what the requirements are\, and meet with CF staff. Qualified high school students may accelerate their college education through dual enrollment courses offered at the high school or a CF campus location. Attendance at one orientation session is required for all incoming dual enrollment students. \nThis session will be held in Building 1\, Room\, 201. More session times are available for selection below. \n Fill out my online form.
URL:https://www.cf.edu/event/levy-dual-enrollment-orientation-session/
LOCATION:Levy Campus\, 15390 N.W. Highway 19\, Chiefland\, 32626
CATEGORIES:Admissions,Dual Enrollment,Information Session,Levy Campus
ATTACH;FMTTYPE=image/jpeg:https://www.cf.edu/wp-content/uploads/2022/01/2427-web.jpg
END:VEVENT
BEGIN:VEVENT
DTSTART;TZID=America/New_York:20220228T123000
DTEND;TZID=America/New_York:20220228T143000
DTSTAMP:20260419T212853
CREATED:20220211T215528Z
LAST-MODIFIED:20220211T215528Z
UID:10001476-1646051400-1646058600@www.cf.edu
SUMMARY:Citrus Campus FAFSA Assistance
DESCRIPTION:Still haven’t completed your FAFSA? We’re here to help! \nGet assistance with your 2022-2023 FAFSA application on Monday\, Feb. 28\, 12:30-2:30 p.m.\, at the Citrus Campus\, Building 3\, Room 201-B. \nRSVP to Phil at 352-746-6721\, ext. 6147\, or Erina at 352-746-6721\, ext. 6113.
URL:https://www.cf.edu/event/citrus-campus-fafsa-assistance/
LOCATION:Citrus Campus\, 3800 S. Lecanto Highway\, Lecanto\, FL\, 34461\, United States
CATEGORIES:Admissions,Citrus Campus
ATTACH;FMTTYPE=image/png:https://www.cf.edu/wp-content/uploads/2022/02/fafsa-citrus.png
END:VEVENT
END:VCALENDAR