BEGIN:VCALENDAR
VERSION:2.0
PRODID:-//College Of Central Florida - ECPv6.10.1.1//NONSGML v1.0//EN
CALSCALE:GREGORIAN
METHOD:PUBLISH
X-ORIGINAL-URL:https://www.cf.edu
X-WR-CALDESC:Events for College Of Central Florida
REFRESH-INTERVAL;VALUE=DURATION:PT1H
X-Robots-Tag:noindex
X-PUBLISHED-TTL:PT1H
BEGIN:VTIMEZONE
TZID:America/New_York
BEGIN:DAYLIGHT
TZOFFSETFROM:-0500
TZOFFSETTO:-0400
TZNAME:EDT
DTSTART:20210314T070000
END:DAYLIGHT
BEGIN:STANDARD
TZOFFSETFROM:-0400
TZOFFSETTO:-0500
TZNAME:EST
DTSTART:20211107T060000
END:STANDARD
END:VTIMEZONE
BEGIN:VEVENT
DTSTART;TZID=America/New_York:20210120T180000
DTEND;TZID=America/New_York:20210120T190000
DTSTAMP:20260420T114323
CREATED:20201109T174719Z
LAST-MODIFIED:20210519T123316Z
UID:10000981-1611165600-1611169200@www.cf.edu
SUMMARY:Dual Enrollment Virtual Information Session
DESCRIPTION:Join us for this 45-minute information session for students and parents where you will hear about why CF should be your student’s first choice for college. This session will focus on the process to accelerate your college career and earn high school and college credit at the same time. You will learn about the resources that CF offers to help your student be successful and about financial aid options. Attendees will event get a crash course in the application process. Plus\, all attendees will get a waiver allowing them to apply for free! For addition information contact dualenrollment@CF.edu.
URL:https://www.cf.edu/event/general-dual-enrollment-virtual-session-2/
LOCATION:Online
CATEGORIES:Admissions,Information Session
ATTACH;FMTTYPE=image/jpeg:https://www.cf.edu/wp-content/uploads/2020/12/Why-CF-event-800x800-1.jpg
END:VEVENT
END:VCALENDAR