BEGIN:VCALENDAR
VERSION:2.0
PRODID:-//College Of Central Florida - ECPv6.10.1.1//NONSGML v1.0//EN
CALSCALE:GREGORIAN
METHOD:PUBLISH
X-WR-CALNAME:College Of Central Florida
X-ORIGINAL-URL:https://www.cf.edu
X-WR-CALDESC:Events for College Of Central Florida
REFRESH-INTERVAL;VALUE=DURATION:PT1H
X-Robots-Tag:noindex
X-PUBLISHED-TTL:PT1H
BEGIN:VTIMEZONE
TZID:America/New_York
BEGIN:DAYLIGHT
TZOFFSETFROM:-0500
TZOFFSETTO:-0400
TZNAME:EDT
DTSTART:20210314T070000
END:DAYLIGHT
BEGIN:STANDARD
TZOFFSETFROM:-0400
TZOFFSETTO:-0500
TZNAME:EST
DTSTART:20211107T060000
END:STANDARD
END:VTIMEZONE
BEGIN:VEVENT
DTSTART;TZID=America/New_York:20211021T180000
DTEND;TZID=America/New_York:20211021T190000
DTSTAMP:20260419T195629
CREATED:20210920T183611Z
LAST-MODIFIED:20210920T185656Z
UID:10001264-1634839200-1634842800@www.cf.edu
SUMMARY:Levy High School Senior Information Session
DESCRIPTION:Find out all about the College of Central Florida during this virtual information session for Levy County high school seniors interested in attending CF. Join one of our admissions advisors for a live 45-minute presentation and Q&A session covering everything you need to know about CF: the admissions process\, financial aid\, academic programs\, university partnerships\, campus amenities\, student services and more. Information session attendees will receive a single-use waiver code to cover the $30 application fee if they apply during the information session. \nTake the next step toward becoming a CF Patriot by registering for this event!
URL:https://www.cf.edu/event/levy-high-school-senior-information-session/
LOCATION:Online
CATEGORIES:Admissions,Information Session,Levy Campus
ATTACH;FMTTYPE=image/jpeg:https://www.cf.edu/wp-content/uploads/2021/09/info-session-800px-1.jpg
END:VEVENT
END:VCALENDAR