BEGIN:VCALENDAR
VERSION:2.0
PRODID:-//College Of Central Florida - ECPv6.10.1.1//NONSGML v1.0//EN
CALSCALE:GREGORIAN
METHOD:PUBLISH
X-WR-CALNAME:College Of Central Florida
X-ORIGINAL-URL:https://www.cf.edu
X-WR-CALDESC:Events for College Of Central Florida
REFRESH-INTERVAL;VALUE=DURATION:PT1H
X-Robots-Tag:noindex
X-PUBLISHED-TTL:PT1H
BEGIN:VTIMEZONE
TZID:America/New_York
BEGIN:DAYLIGHT
TZOFFSETFROM:-0500
TZOFFSETTO:-0400
TZNAME:EDT
DTSTART:20220313T070000
END:DAYLIGHT
BEGIN:STANDARD
TZOFFSETFROM:-0400
TZOFFSETTO:-0500
TZNAME:EST
DTSTART:20221106T060000
END:STANDARD
END:VTIMEZONE
BEGIN:VEVENT
DTSTART;TZID=America/New_York:20220325T200000
DTEND;TZID=America/New_York:20220325T210000
DTSTAMP:20260419T205227
CREATED:20220304T162548Z
LAST-MODIFIED:20220304T162548Z
UID:10001491-1648238400-1648242000@www.cf.edu
SUMMARY:International Information Session: Student Visa 101
DESCRIPTION:Want to know how the F-1 visa works? Join the CF International Department as they guide you along your journey to your F-1 visa to come to Florida to study. Please note the advice offered by DSOs in this webinar is not legal advice and it is a student’s responsibility to independently research the F-1 process from their home country. \nRegister today! \nAll Sessions Times are in U.S. Eastern Standard Time Zone. Click to see time zone converter.
URL:https://www.cf.edu/event/international-information-session-student-visa-101-2/
LOCATION:Online
CATEGORIES:Admissions,Information Session,International
ATTACH;FMTTYPE=image/jpeg:https://www.cf.edu/wp-content/uploads/2021/09/info-session-800px-1.jpg
END:VEVENT
END:VCALENDAR