BEGIN:VCALENDAR
VERSION:2.0
PRODID:-//College Of Central Florida - ECPv6.10.1.1//NONSGML v1.0//EN
CALSCALE:GREGORIAN
METHOD:PUBLISH
X-WR-CALNAME:College Of Central Florida
X-ORIGINAL-URL:https://www.cf.edu
X-WR-CALDESC:Events for College Of Central Florida
REFRESH-INTERVAL;VALUE=DURATION:PT1H
X-Robots-Tag:noindex
X-PUBLISHED-TTL:PT1H
BEGIN:VTIMEZONE
TZID:America/New_York
BEGIN:DAYLIGHT
TZOFFSETFROM:-0500
TZOFFSETTO:-0400
TZNAME:EDT
DTSTART:20230312T070000
END:DAYLIGHT
BEGIN:STANDARD
TZOFFSETFROM:-0400
TZOFFSETTO:-0500
TZNAME:EST
DTSTART:20231105T060000
END:STANDARD
END:VTIMEZONE
BEGIN:VEVENT
DTSTART;TZID=America/New_York:20230213T100000
DTEND;TZID=America/New_York:20230309T160000
DTSTAMP:20260422T154554
CREATED:20230213T181123Z
LAST-MODIFIED:20230213T182321Z
UID:10002333-1676282400-1678377600@www.cf.edu
SUMMARY:"It's Colored Pencil" Exhibition
DESCRIPTION:The College of Central Florida will present “It’s Colored Pencil” in partnership with the Colored Pencil Society of America. Sponsored by CPSA District Chapter 113 in Gainesville\, this Webber Gallery exhibition will showcase fine artwork of all styles and subjects completed in colored pencil. \n“It’s Colored Pencil” will open Monday\, Feb. 13-Thursday\, March 9. A free opening reception will be held on Friday\, Feb. 17\, from 5-7 p.m. The Webber Gallery is located at the CF Ocala Campus\, 3001 S.W. College Road. Hours are 10 a.m.-4 p.m. Monday-Thursday and admission is free. For more information\, call 352-854-2322\, ext. 1664\, or visit CF.edu/Webber.
URL:https://www.cf.edu/event/its-colored-pencil-exhibition/
LOCATION:Ocala Campus\, 3001 SW College Rd\, Ocala\, FL\, 34474\, United States
CATEGORIES:Arts,Ocala Campus,Visual and Performing Arts
ATTACH;FMTTYPE=image/jpeg:https://www.cf.edu/wp-content/uploads/2023/02/Serenity-by-Suzanne-Marcil.jpg
END:VEVENT
BEGIN:VEVENT
DTSTART;TZID=America/New_York:20230301T123000
DTEND;TZID=America/New_York:20230301T133000
DTSTAMP:20260422T154554
CREATED:20230126T171453Z
LAST-MODIFIED:20230126T171527Z
UID:10002317-1677673800-1677677400@www.cf.edu
SUMMARY:“History of the Colonial Period” Patriot Project Lecture
DESCRIPTION:Join us for “History of the Colonial Period” on Wednesday\, March 1\, 12:30-1:30 p.m. in the Webber Center. CF faculty members Jay Thompson and Jennifer Ambrosia will discuss Colonial history.   \nThe Patriot Project takes a deep dive into the history of the 17th and 18th centuries\, expanding on the new state civics initiative to invite students\, staff and the community to a monthly lecture series. Lectures are free and open to the public and light refreshments and event giveaways are provided. \nThe Patriot Project was developed by Dr. Sarah Satterfield\, CF professor of music\, with funding provided through a CF Foundation New Initiative Grant.
URL:https://www.cf.edu/event/history-of-the-colonial-period-patriot-project-lecture/
LOCATION:FL
CATEGORIES:Arts,Patriot Project,Visual and Performing Arts
ATTACH;FMTTYPE=image/png:https://www.cf.edu/wp-content/uploads/2022/09/Cream-Historical-Anatolia-Travel-Instagram-Post.png
END:VEVENT
BEGIN:VEVENT
DTSTART;TZID=America/New_York:20230321T140000
DTEND;TZID=America/New_York:20230321T140000
DTSTAMP:20260422T154554
CREATED:20220714T170246Z
LAST-MODIFIED:20220811T121448Z
UID:10001679-1679407200-1679407200@www.cf.edu
SUMMARY:“La Ciénaga” Appleton Screening
DESCRIPTION:The College of Central Florida’s Ira Holmes International Film Series is excited to be offering its first full\, in-person season since 2019. Themes of humor and perseverance will take center stage in this year’s 11 films selected from around the globe. \nAll films will be shown Tuesdays at 2 p.m. at the Appleton Museum of Art\, 4333 E. Silver Springs Blvd.\, Ocala\, and at 7 p.m. at the College of Central Florida\, 3001 S.W. College Road\, Building 8\, Room 110\, unless otherwise noted. Films at the Ocala Campus are free and open to the public. Films at the Appleton are free to all museum and film series members; nonmembers pay museum admission. Films may contain mature content. \n\nAbout the Film\n \n“La Ciénaga”(NR\, Argentina\, 2001\, 103 min.) \nIn her debut film\, Lucrecia Martel established her astonishingly vital and original voice with exquisite cinematography. This comedy-drama\, which follows a bourgeois extended family summering at their decrepit country estate in Argentina’s high plains\, is actually a visceral take on class\, nature\, sexuality and the ways that political turmoil and social stagnation can manifest in human relationships. Watch trailer here. \nFor a full series list and more information on the Ira Holmes International Film Series\, contact Wendy Adams at 352-873-5800\, ext. 1546\, or visit www.CF.edu/filmseries.
URL:https://www.cf.edu/event/la-cienaga-appleton-screening/
LOCATION:Appleton Museum of Art\, 4333 E Silver Springs Blvd\, Ocala\, 34470
CATEGORIES:Arts,Film Series,Visual and Performing Arts
ATTACH;FMTTYPE=image/jpeg:https://www.cf.edu/wp-content/uploads/2022/07/CFEvent-Film-Series.jpg
END:VEVENT
BEGIN:VEVENT
DTSTART;TZID=America/New_York:20230321T190000
DTEND;TZID=America/New_York:20230321T190000
DTSTAMP:20260422T154554
CREATED:20220714T170440Z
LAST-MODIFIED:20220811T121440Z
UID:10001680-1679425200-1679425200@www.cf.edu
SUMMARY:“La Ciénaga” Ocala Screening
DESCRIPTION:The College of Central Florida’s Ira Holmes International Film Series is excited to be offering its first full\, in-person season since 2019. Themes of humor and perseverance will take center stage in this year’s 11 films selected from around the globe. \nAll films will be shown Tuesdays at 2 p.m. at the Appleton Museum of Art\, 4333 E. Silver Springs Blvd.\, Ocala\, and at 7 p.m. at the College of Central Florida\, 3001 S.W. College Road\, Building 8\, Room 110\, unless otherwise noted. Films at the Ocala Campus are free and open to the public. Films at the Appleton are free to all museum and film series members; nonmembers pay museum admission. Films may contain mature content. \n\nAbout the Film\n \n“La Ciénaga”(NR\, Argentina\, 2001\, 103 min.) \nIn her debut film\, Lucrecia Martel established her astonishingly vital and original voice with exquisite cinematography. This comedy-drama\, which follows a bourgeois extended family summering at their decrepit country estate in Argentina’s high plains\, is actually a visceral take on class\, nature\, sexuality and the ways that political turmoil and social stagnation can manifest in human relationships. Watch trailer here. \nFor a full series list and more information on the Ira Holmes International Film Series\, contact Wendy Adams at 352-873-5800\, ext. 1546\, or visit www.CF.edu/filmseries.
URL:https://www.cf.edu/event/la-cienaga-ocala-screening/
LOCATION:FL
CATEGORIES:Arts,Film Series,Ocala Campus,Visual and Performing Arts
ATTACH;FMTTYPE=image/jpeg:https://www.cf.edu/wp-content/uploads/2022/07/CFEvent-Film-Series.jpg
END:VEVENT
BEGIN:VEVENT
DTSTART;TZID=America/New_York:20230327T100000
DTEND;TZID=America/New_York:20230504T160000
DTSTAMP:20260422T154554
CREATED:20230308T153233Z
LAST-MODIFIED:20230308T154849Z
UID:10002388-1679911200-1683216000@www.cf.edu
SUMMARY:"2023 Student Art" Exhibition
DESCRIPTION:The College of Central Florida will showcase the talent of its Visual Arts and Digital Media students in “The 2023 CF Student Art Exhibition”. This annual exhibition provides students with an opportunity to present their work in a professional environment.  \n“The 2023 CF Student Art Exhibition” will open Monday\, March 27-Thursday\, May 4. A free opening reception will be held on Wednesday\, March 29\, at 12:30 p.m. \nOn Wednesday\, April 12 at 12:30 p.m. the gallery will host an artist talk with exhibition judge Nicholas Kalemba\, who will talk about his art practice and the UCF Visual Arts Program. \nThe Webber Gallery is located at the CF Ocala Campus\, 3001 S.W. College Road. Hours are 10 a.m.-4 p.m. Monday-Thursday and admission is free. For more information\, call 352-854-2322\, ext. 1664\, or visit CF.edu/Webber.
URL:https://www.cf.edu/event/2023-student-art-exhibition/
LOCATION:Ocala Campus\, 3001 SW College Rd\, Ocala\, FL\, 34474\, United States
CATEGORIES:Arts,Ocala Campus,Visual and Performing Arts
ATTACH;FMTTYPE=image/jpeg:https://www.cf.edu/wp-content/uploads/2023/02/Webber-Man.jpg
END:VEVENT
BEGIN:VEVENT
DTSTART;TZID=America/New_York:20230328T190000
DTEND;TZID=America/New_York:20230328T190000
DTSTAMP:20260422T154554
CREATED:20230310T133659Z
LAST-MODIFIED:20230310T140528Z
UID:10002397-1680030000-1680030000@www.cf.edu
SUMMARY:“Tony Manero” Screening
DESCRIPTION:The College of Central Florida’s Ira Holmes International Film Series is excited to be offering its first full\, in-person season since 2019. Themes of humor and perseverance will take center stage in this year’s 11 films selected from around the globe. \nThis film showing will take place at the Ocala Campus\, 3001 S.W. College Road\, Building 8\, Room 110 at 7 p.m. ” on Tuesday\, March 28 (rescheduled from Oct. 11\, 2022). This showing is free and open to the public. Film may contain mature content. \n\nAbout the Film\n \n“Tony Manero” (NR\, Chile\, 2008) \nThis film follows a middle-aged criminal who’s obsessed with impersonating John Travolta’s “Saturday Night Fever” character. His dancing and showbiz aspirations turn dark and lead to theft\, crime and even murder set against the backdrop of Chile’s Augusto Pinochet military dictatorship. This film is unrated and contains graphic violence and adult themes. \nFor a full series list and more information on the Ira Holmes International Film Series\, contact Wendy Adams at 352-873-5800\, ext. 1546\, or visit www.CF.edu/filmseries.
URL:https://www.cf.edu/event/__trashed-3/
LOCATION:Ocala Campus\, 3001 SW College Rd\, Ocala\, FL\, 34474\, United States
CATEGORIES:Arts,Film Series,Visual and Performing Arts
ATTACH;FMTTYPE=image/jpeg:https://www.cf.edu/wp-content/uploads/2022/07/CFEvent-Film-Series.jpg
END:VEVENT
BEGIN:VEVENT
DTSTART;TZID=America/New_York:20230329T123000
DTEND;TZID=America/New_York:20230329T123000
DTSTAMP:20260422T154554
CREATED:20230308T153114Z
LAST-MODIFIED:20230308T154846Z
UID:10002389-1680093000-1680093000@www.cf.edu
SUMMARY:"2023 Student Art" Exhibition Reception
DESCRIPTION:Join us for the free opening reception for “The 2023 Student Art Exhibition” at the Webber Gallery on Wednesday\, March 29 at 12:30 p.m. This annual exhibition will showcase the talent of CF’s Visual Arts and Digital Media students providing them an opportunity to present their work in a professional environment.  \n“The 2023 Student Art Exhibition” will open Monday\, Feb. 13-Thursday\, March 9.  \nOn Wednesday\, April 12 at 12:30 p.m. the gallery will host an artist talk with exhibition judge Nicholas Kalemba\, who will talk about his art practice and the UCF Visual Arts Program. \nThe Webber Gallery is located at the CF Ocala Campus\, 3001 S.W. College Road. Hours are 10 a.m.-4 p.m. Monday-Thursday and admission is free. For more information\, call 352-854-2322\, ext. 1664\, or visit CF.edu/Webber.
URL:https://www.cf.edu/event/2023-student-art-exhibition-reception/
LOCATION:Ocala Campus\, 3001 SW College Rd\, Ocala\, FL\, 34474\, United States
CATEGORIES:Arts,Ocala Campus,Visual and Performing Arts
ATTACH;FMTTYPE=image/jpeg:https://www.cf.edu/wp-content/uploads/2023/02/Webber-Man.jpg
END:VEVENT
BEGIN:VEVENT
DTSTART;TZID=America/New_York:20230329T123000
DTEND;TZID=America/New_York:20230329T131500
DTSTAMP:20260422T154554
CREATED:20230206T194747Z
LAST-MODIFIED:20230321T144102Z
UID:10002329-1680093000-1680095700@www.cf.edu
SUMMARY:The Makings of a Mertailor Presentation
DESCRIPTION:Join us for a unique presentation as we host entrepreneur-artist Eric Ducharme for “The Makings of a Mertailor” on Wednesday\, March 29\, 12:30-1:30 p.m. in the Charles S. Dean Sr. Educational Center at the Wilton Simpson Citrus Campus\, 3800 S. Lecanto Highway\, Lecanto.  \nDucharme started his now-thriving mermaid couture business when he was 14 years old\, after making mermaid tails “out of anything he could find” as a kid who “wanted to be a merman” since visiting Weeki Wachee Springs as a preschooler. Today\, at age 27\, he has created whimsical mermaid tails for celebrities including Lady Gaga and his tails have appeared in films\, television shows\, commercials and music videos. \nThe presentation is free and the public is welcome. After the presentation\, attendees will be invited to view an exhibit of Ducharme’s work. This exhibit will be on view March 29-April 28 on the upper level of Building 2 on the CF Wilton Simpson Citrus Campus. The building is open Monday-Friday\, 8 a.m.-4:30 p.m.
URL:https://www.cf.edu/event/the-makings-of-a-mertailor-presentation/
LOCATION:Citrus Campus\, 3800 S. Lecanto Highway\, Lecanto\, FL\, 34461\, United States
CATEGORIES:Arts,Citrus Campus,Visual and Performing Arts
ATTACH;FMTTYPE=image/jpeg:https://www.cf.edu/wp-content/uploads/2023/02/Mertailor-scaled.jpg
END:VEVENT
END:VCALENDAR