BEGIN:VCALENDAR
VERSION:2.0
PRODID:-//College Of Central Florida - ECPv6.10.1.1//NONSGML v1.0//EN
CALSCALE:GREGORIAN
METHOD:PUBLISH
X-WR-CALNAME:College Of Central Florida
X-ORIGINAL-URL:https://www.cf.edu
X-WR-CALDESC:Events for College Of Central Florida
REFRESH-INTERVAL;VALUE=DURATION:PT1H
X-Robots-Tag:noindex
X-PUBLISHED-TTL:PT1H
BEGIN:VTIMEZONE
TZID:America/New_York
BEGIN:DAYLIGHT
TZOFFSETFROM:-0500
TZOFFSETTO:-0400
TZNAME:EDT
DTSTART:20230312T070000
END:DAYLIGHT
BEGIN:STANDARD
TZOFFSETFROM:-0400
TZOFFSETTO:-0500
TZNAME:EST
DTSTART:20231105T060000
END:STANDARD
END:VTIMEZONE
BEGIN:VEVENT
DTSTART;TZID=America/New_York:20230912T140000
DTEND;TZID=America/New_York:20230912T160000
DTSTAMP:20260425T214506
CREATED:20230712T131933Z
LAST-MODIFIED:20230824T173511Z
UID:10002525-1694527200-1694534400@www.cf.edu
SUMMARY:“EO” Appleton Screening
DESCRIPTION:The College of Central Florida’s Ira Holmes International Film Series is excited to present this year’s season of films. \nAll films will be shown Tuesdays at 2 p.m. at the Appleton Museum of Art\, 4333 E. Silver Springs Blvd.\, Ocala\, and at 7 p.m. at the College of Central Florida\, 3001 S.W. College Road\, Building 8\, Room 110\, unless otherwise noted. Films at the Ocala Campus are free and open to the public. Films at the Appleton are free to all museum and film series members; nonmembers pay museum admission. Films may contain mature content. \nAbout the Film\n \n“EO”(NR\, Poland\, 2022\, 87 min.) \nThis film by legendary director Jerzy Skolimowski (Deep End\, Moonlighting)\, follows the travels of a nomadic gray donkey named EO. After being removed from the traveling circus\, which is the only life he’s ever known\, EO begins a trek across the Polish and Italian countryside\, experiencing cruelty and kindness in equal measure\, all the while observing the follies and triumphs of humankind.EO begins a trek across the Polish and Italian countryside\, experiencing cruelty and kindness in equal measure\, all the while observing the follies and triumphs of humankind. During his travels\, EO is both helped and hindered by a cast of characters including a young Italian priest (Lorenzo Zurzolo)\, a Countess (Isabelle Huppert)\, and a rowdy Polish soccer team. Loosely inspired by Robert Bresson’s Au hasard Balthazar\, and featuring immersive\, stunning cinematography by Michal Dymek coupled with Pawel Mykietyn’s resonant score\, Skolimowski’s film puts the viewer in the perspective of its four-legged protagonist. EO’s journey speaks to the world around us\, an equine hero boldly pointing out societal ills\, and serving as warning to the dangers of neglect and inaction\, all while on a quest for freedom. \nFor a full series list and more information on the Ira Holmes International Film Series\, contact Wendy Adams at 352-873-5800\, ext. 1546\, or visit www.CF.edu/filmseries.
URL:https://www.cf.edu/event/eo-appleton-screening/
LOCATION:Appleton Museum of Art\, 4333 E Silver Springs Blvd\, Ocala\, 34470
CATEGORIES:Arts,Film Series
ATTACH;FMTTYPE=image/jpeg:https://www.cf.edu/wp-content/uploads/2022/07/CFEvent-Film-Series.jpg
END:VEVENT
BEGIN:VEVENT
DTSTART;TZID=America/New_York:20230912T190000
DTEND;TZID=America/New_York:20230912T210000
DTSTAMP:20260425T214506
CREATED:20230706T152504Z
LAST-MODIFIED:20230824T172203Z
UID:10002516-1694545200-1694552400@www.cf.edu
SUMMARY:“EO” Ocala Screening
DESCRIPTION:The College of Central Florida’s Ira Holmes International Film Series is excited to present this year’s season of films. \nAll films will be shown Tuesdays at 2 p.m. at the Appleton Museum of Art\, 4333 E. Silver Springs Blvd.\, Ocala\, and at 7 p.m. at the College of Central Florida\, 3001 S.W. College Road\, Building 8\, Room 110\, unless otherwise noted. Films at the Ocala Campus are free and open to the public. Films at the Appleton are free to all museum and film series members; nonmembers pay museum admission. Films may contain mature content. \nAbout the Film\n \n“EO”(NR\, Rwanda/USA\, 2022\, 87 min.) \nThis film by legendary director Jerzy Skolimowski (Deep End\, Moonlighting)\, follows the travels of a nomadic gray donkey named EO. After being removed from the traveling circus\, which is the only life he’s ever known\, EO begins a trek across the Polish and Italian countryside\, experiencing cruelty and kindness in equal measure\, all the while observing the follies and triumphs of humankind.EO begins a trek across the Polish and Italian countryside\, experiencing cruelty and kindness in equal measure\, all the while observing the follies and triumphs of humankind. During his travels\, EO is both helped and hindered by a cast of characters including a young Italian priest (Lorenzo Zurzolo)\, a Countess (Isabelle Huppert)\, and a rowdy Polish soccer team. Loosely inspired by Robert Bresson’s Au hasard Balthazar\, and featuring immersive\, stunning cinematography by Michal Dymek coupled with Pawel Mykietyn’s resonant score\, Skolimowski’s film puts the viewer in the perspective of its four-legged protagonist. EO’s journey speaks to the world around us\, an equine hero boldly pointing out societal ills\, and serving as warning to the dangers of neglect and inaction\, all while on a quest for freedom. \nFor a full series list and more information on the Ira Holmes International Film Series\, contact Wendy Adams at 352-873-5800\, ext. 1546\, or visit www.CF.edu/filmseries.
URL:https://www.cf.edu/event/eo-ocala-screening/
LOCATION:Ocala Campus\, 3001 SW College Rd\, Ocala\, FL\, 34474\, United States
CATEGORIES:Arts,Film Series,Ocala Campus
ATTACH;FMTTYPE=image/jpeg:https://www.cf.edu/wp-content/uploads/2022/07/CFEvent-Film-Series.jpg
END:VEVENT
END:VCALENDAR