BEGIN:VCALENDAR
VERSION:2.0
PRODID:-//College Of Central Florida - ECPv6.10.1.1//NONSGML v1.0//EN
CALSCALE:GREGORIAN
METHOD:PUBLISH
X-ORIGINAL-URL:https://www.cf.edu
X-WR-CALDESC:Events for College Of Central Florida
REFRESH-INTERVAL;VALUE=DURATION:PT1H
X-Robots-Tag:noindex
X-PUBLISHED-TTL:PT1H
BEGIN:VTIMEZONE
TZID:America/New_York
BEGIN:DAYLIGHT
TZOFFSETFROM:-0500
TZOFFSETTO:-0400
TZNAME:EDT
DTSTART:20260308T070000
END:DAYLIGHT
BEGIN:STANDARD
TZOFFSETFROM:-0400
TZOFFSETTO:-0500
TZNAME:EST
DTSTART:20261101T060000
END:STANDARD
END:VTIMEZONE
BEGIN:VEVENT
DTSTART;TZID=America/New_York:20260501T180000
DTEND;TZID=America/New_York:20260501T180000
DTSTAMP:20260420T222111
CREATED:20260420T154547Z
LAST-MODIFIED:20260420T154547Z
UID:10003908-1777658400-1777658400@www.cf.edu
SUMMARY:Ira Holmes International Film Series "Harold and Maude" Ocala Campus Screening
DESCRIPTION:Join us to celebrate film series members and the art and life of Budd Cort (1948-2026) with a bonus screening of the 1971 cult classic “Harold and Maude.” Film Series members will receive Ira Holmes International Film Series 64th Anniversary Season tote bags with proof of 2026-2027 membership. This event is free is and open to CF students and the public. \nScreening will be shown at the College of Central Florida Ocala Campus\, Building 8 in the Ira Holmes Classroom at 6 p.m. on Friday\, May 1. For information about how to become a member see our webpage here. \nAbout the Film\n \n“Harold and Maude” (PG\, United States\, 1971\, 1 hour\, 31 minutes) \nYoung\, rich\, and obsessed with death\, Harold finds himself changed forever when he meets lively septuagenarian Maude at a funeral. \nFor a full series list and more information on the Ira Holmes International Film Series\, contact Wendy Adams at 352-873-5800\, ext. 1546\, or visit www.CF.edu/filmseries.
URL:https://www.cf.edu/event/ira-holmes-international-film-series-harold-and-maude-ocala-campus-screening/
LOCATION:Ocala Campus\, 3001 SW College Rd\, Ocala\, FL\, 34474\, United States
CATEGORIES:Arts,Film Series,Ocala Campus,Visual and Performing Arts
ATTACH;FMTTYPE=image/jpeg:https://www.cf.edu/wp-content/uploads/2022/07/CFEvent-Film-Series.jpg
END:VEVENT
END:VCALENDAR