BEGIN:VCALENDAR
VERSION:2.0
PRODID:-//College Of Central Florida - ECPv6.10.1.1//NONSGML v1.0//EN
CALSCALE:GREGORIAN
METHOD:PUBLISH
X-ORIGINAL-URL:https://www.cf.edu
X-WR-CALDESC:Events for College Of Central Florida
REFRESH-INTERVAL;VALUE=DURATION:PT1H
X-Robots-Tag:noindex
X-PUBLISHED-TTL:PT1H
BEGIN:VTIMEZONE
TZID:America/New_York
BEGIN:DAYLIGHT
TZOFFSETFROM:-0500
TZOFFSETTO:-0400
TZNAME:EDT
DTSTART:20240310T070000
END:DAYLIGHT
BEGIN:STANDARD
TZOFFSETFROM:-0400
TZOFFSETTO:-0500
TZNAME:EST
DTSTART:20241103T060000
END:STANDARD
END:VTIMEZONE
BEGIN:VEVENT
DTSTART;TZID=America/New_York:20241104T123000
DTEND;TZID=America/New_York:20241104T133000
DTSTAMP:20260422T111028
CREATED:20240812T182339Z
LAST-MODIFIED:20240925T152140Z
UID:10003097-1730723400-1730727000@www.cf.edu
SUMMARY:Information Session for B.A.S. in Business and Organizational Management
DESCRIPTION:Join advisors\, administrators and faculty at the Ocala Campus\, Ewers Century Center\, Room 101 on Monday\, Nov. 4 for an information session about the Bachelor of Applied Science in Business and Organizational Management. At this session\, you can learn about specialization options\, program design\, affordability and admissions. \n Fill out my online form.
URL:https://www.cf.edu/event/information-session-for-b-a-s-in-business-and-organizational-management-8/
LOCATION:Ocala Campus\, 3001 SW College Rd\, Ocala\, FL\, 34474\, United States
CATEGORIES:Business, Technology and Agricultural Sciences,Information Session
ATTACH;FMTTYPE=image/jpeg:https://www.cf.edu/wp-content/uploads/2020/07/CFEvents-default-image.jpg
END:VEVENT
BEGIN:VEVENT
DTSTART;TZID=America/New_York:20241107T123000
DTEND;TZID=America/New_York:20241107T133000
DTSTAMP:20260422T111028
CREATED:20240808T141425Z
LAST-MODIFIED:20240813T201011Z
UID:10003044-1730982600-1730986200@www.cf.edu
SUMMARY:Get LinkedIn Virtual Information Session
DESCRIPTION:Learn how to optimize your LinkedIn profile\, connect with industry professionals and unlock career opportunities. Gain valuable insights and actionable tips to stand out in the job market. Register now to boost your professional presence and kickstart your career! \nFor more information\, contact careerservices@cf.edu. \nTopics and concepts presented at this event are for discussion purposes only and are not intended to espouse\, promote\, advance\, inculcate\, or compel individuals to believe the topics or concepts presented therein. Nor do they constitute endorsement of such topics or concepts by the College of Central Florida\, its Board of Trustees\, or any of their officers\, employees\, or agents.
URL:https://www.cf.edu/event/get-linkedin-virtual-information-session-2/
LOCATION:Online
CATEGORIES:Business, Technology and Agricultural Sciences
ATTACH;FMTTYPE=image/jpeg:https://www.cf.edu/wp-content/uploads/2020/07/CFEvents-default-image.jpg
END:VEVENT
BEGIN:VEVENT
DTSTART;TZID=America/New_York:20241113T140000
DTEND;TZID=America/New_York:20241113T160000
DTSTAMP:20260422T111028
CREATED:20240809T152003Z
LAST-MODIFIED:20240813T200133Z
UID:10003095-1731506400-1731513600@www.cf.edu
SUMMARY:Talent Center Open House
DESCRIPTION:Students are invited to a Talent Center open house at the Ocala Campus\, Enterprise Center (Building 42)\, Suite 101 on Wednesday\, Nov. 13\, from 2-4 p.m. Stop by and the Talent Center Staff can help you prepare for getting your dream job: \n\nGet assistance with creating an effective LinkedIn profile\nBuild your resume or have an existing resume critiqued\nHave a professional photo taken\nGet connected with HandShake\, CF’s internship and job portal\n\nDon’t miss this opportunity to prepare for your future career! \nFor more information\, contact careerservices@cf.edu. \nTopics and concepts presented at this event are for discussion purposes only and are not intended to espouse\, promote\, advance\, inculcate\, or compel individuals to believe the topics or concepts presented therein. Nor do they constitute endorsement of such topics or concepts by the College of Central Florida\, its Board of Trustees\, or any of their officers\, employees\, or agents.
URL:https://www.cf.edu/event/talent-center-open-house-7/
LOCATION:Ocala Campus\, 3001 SW College Rd\, Ocala\, FL\, 34474\, United States
CATEGORIES:Business, Technology and Agricultural Sciences,Ocala Campus
ATTACH;FMTTYPE=image/png:https://www.cf.edu/wp-content/uploads/2023/08/job-interview.png
END:VEVENT
BEGIN:VEVENT
DTSTART;TZID=America/New_York:20241118T100000
DTEND;TZID=America/New_York:20241118T140000
DTSTAMP:20260422T111028
CREATED:20240828T193409Z
LAST-MODIFIED:20240828T193409Z
UID:10003109-1731924000-1731938400@www.cf.edu
SUMMARY:Vintage Farm Educational Field Day
DESCRIPTION:Join us at the CF Vintage Farm Campus on Monday\, Nov. 18\, 10 a.m.-2 p.m. for this equine and agribusiness Field Day! This fun\, information-packed event is your chance to learn firsthand about these programs and explore all that the Vintage Farm Campus has to offer.  \n\nLaunch your educational journey or career in equine and agribusiness fields\nNetwork with alumni to gain insights and advice\nConnect with faculty\, staff and students\nDiscover CF’s diverse program options\nExperience live demonstrations of related skills and topics\n\nVintage Farm is located at 4020 S.E. 3rd Ave. (Rt 475). We hope to see you there! \nTopics and concepts presented at this event are for discussion purposes only and are not intended to espouse\, promote\, advance\, inculcate\, or compel individuals to believe the topics or concepts presented therein. Nor do they constitute endorsement of such topics or concepts by the College of Central Florida\, its Board of Trustees\, or any of their officers\, employees\, or agents.
URL:https://www.cf.edu/event/vintage-farm-educational-field-day-2/
LOCATION:Vintage Farm Campus\, 4020 SE 3rd Ave.\, Ocala\, FL\, 34480\, United States
CATEGORIES:Business, Technology and Agricultural Sciences
ATTACH;FMTTYPE=image/jpeg:https://www.cf.edu/wp-content/uploads/2024/02/CFEvent-EquineAg-FieldDay2024-image.jpg
END:VEVENT
BEGIN:VEVENT
DTSTART;TZID=America/New_York:20241120T120000
DTEND;TZID=America/New_York:20241120T150000
DTSTAMP:20260422T111028
CREATED:20240813T140155Z
LAST-MODIFIED:20240909T123059Z
UID:10003099-1732104000-1732114800@www.cf.edu
SUMMARY:Mapping Your Future: GIS Career Pathways
DESCRIPTION:Join us Wednesday\, Nov. 20\, noon-3-p.m. at the Ewers Century Center to map your future! Meet with college representatives and industry leaders to discover the variety of career options available in Geographic Information Systems (GIS)\, an industry offering jobs in information technology\, urban planning\, engineering\, land development\, environmental management\, emergency response planning\, logistics\, precision agriculture and much more! This event offers hands-on demonstrations\, insightful talks and valuable networking sessions. Open to all students and community members.  \nFor more information\, contact careerservices@cf.edu. \n\n\n\n\n\n\n\n\nTopics and concepts presented at this event are for discussion purposes only and are not intended to espouse\, promote\, advance\, inculcate\, or compel individuals to believe the topics or concepts presented therein. Nor do they constitute endorsement of such topics or concepts by the College of Central Florida\, its Board of Trustees\, or any of their officers\, employees\, or agents.
URL:https://www.cf.edu/event/career-chat-mapping-your-future-with-gis/
LOCATION:Ocala Campus\, 3001 SW College Rd\, Ocala\, FL\, 34474\, United States
CATEGORIES:Business, Technology and Agricultural Sciences
ATTACH;FMTTYPE=image/jpeg:https://www.cf.edu/wp-content/uploads/2024/08/Untitled-design.jpg
END:VEVENT
END:VCALENDAR