BEGIN:VCALENDAR
VERSION:2.0
PRODID:-//College Of Central Florida - ECPv6.10.1.1//NONSGML v1.0//EN
CALSCALE:GREGORIAN
METHOD:PUBLISH
X-ORIGINAL-URL:https://www.cf.edu
X-WR-CALDESC:Events for College Of Central Florida
REFRESH-INTERVAL;VALUE=DURATION:PT1H
X-Robots-Tag:noindex
X-PUBLISHED-TTL:PT1H
BEGIN:VTIMEZONE
TZID:America/New_York
BEGIN:DAYLIGHT
TZOFFSETFROM:-0500
TZOFFSETTO:-0400
TZNAME:EDT
DTSTART:20220313T070000
END:DAYLIGHT
BEGIN:STANDARD
TZOFFSETFROM:-0400
TZOFFSETTO:-0500
TZNAME:EST
DTSTART:20221106T060000
END:STANDARD
END:VTIMEZONE
BEGIN:VEVENT
DTSTART;TZID=America/New_York:20221101T180000
DTEND;TZID=America/New_York:20221101T200000
DTSTAMP:20260425T231502
CREATED:20220916T184613Z
LAST-MODIFIED:20220916T184613Z
UID:10001745-1667325600-1667332800@www.cf.edu
SUMMARY:Finance and Economic Seminar: Personal Finance
DESCRIPTION:CF is hosting a FREE seminar to help college students\, the community and local businesses learn more about personal finance and business economics. Join us on Tuesday\, Nov. 1\, from 6-8 p.m. at the Ewers Century Center to hear from these business professionals: \n\n“Foundations of Investing” with Marc Stalvey\, financial advisor with Edwards Jones Investments\n“Understanding Credit and Credit Scores” with Carrie Drake\, service center manager at Campus USA\n“The Basics of Financial Responsibility” with Jeromy Williams\, owner of Chick-fil-A Ocala\n\nThis event is sponsored by CampusUSA.
URL:https://www.cf.edu/event/finance-and-economic-seminar-personal-finance/
LOCATION:Ocala Campus\, 3001 SW College Rd\, Ocala\, FL\, 34474\, United States
CATEGORIES:Business, Technology and Agricultural Sciences
ATTACH;FMTTYPE=image/jpeg:https://www.cf.edu/wp-content/uploads/2022/09/CFEvent-FinEcon-Seminar.jpg
END:VEVENT
END:VCALENDAR