BEGIN:VCALENDAR
VERSION:2.0
PRODID:-//College Of Central Florida - ECPv6.10.1.1//NONSGML v1.0//EN
CALSCALE:GREGORIAN
METHOD:PUBLISH
X-WR-CALNAME:College Of Central Florida
X-ORIGINAL-URL:https://www.cf.edu
X-WR-CALDESC:Events for College Of Central Florida
REFRESH-INTERVAL;VALUE=DURATION:PT1H
X-Robots-Tag:noindex
X-PUBLISHED-TTL:PT1H
BEGIN:VTIMEZONE
TZID:America/New_York
BEGIN:DAYLIGHT
TZOFFSETFROM:-0500
TZOFFSETTO:-0400
TZNAME:EDT
DTSTART:20230312T070000
END:DAYLIGHT
BEGIN:STANDARD
TZOFFSETFROM:-0400
TZOFFSETTO:-0500
TZNAME:EST
DTSTART:20231105T060000
END:STANDARD
END:VTIMEZONE
BEGIN:VEVENT
DTSTART;TZID=America/New_York:20230215T121500
DTEND;TZID=America/New_York:20230215T133000
DTSTAMP:20260422T191558
CREATED:20221026T130429Z
LAST-MODIFIED:20221028T200815Z
UID:10001797-1676463300-1676467800@www.cf.edu
SUMMARY:Career Readiness Webinar
DESCRIPTION:Get advice from business representatives and employment professionals to help you prepare now for your future career. Learn about high-wage\, in-demand career tracks\, get advice on networking and interviewing skills\, and find out how to connect with the best opportunities using CF’s new job search platform – Handshake! \nRegister for the Webinar
URL:https://www.cf.edu/event/career-readiness-webinar-2/
LOCATION:Online
CATEGORIES:Business, Technology and Agricultural Sciences
ATTACH;FMTTYPE=image/jpeg:https://www.cf.edu/wp-content/uploads/2020/10/E-Business-Ventures-1.jpg
END:VEVENT
END:VCALENDAR