BEGIN:VCALENDAR
VERSION:2.0
PRODID:-//College Of Central Florida - ECPv6.10.1.1//NONSGML v1.0//EN
CALSCALE:GREGORIAN
METHOD:PUBLISH
X-WR-CALNAME:College Of Central Florida
X-ORIGINAL-URL:https://www.cf.edu
X-WR-CALDESC:Events for College Of Central Florida
REFRESH-INTERVAL;VALUE=DURATION:PT1H
X-Robots-Tag:noindex
X-PUBLISHED-TTL:PT1H
BEGIN:VTIMEZONE
TZID:America/New_York
BEGIN:DAYLIGHT
TZOFFSETFROM:-0500
TZOFFSETTO:-0400
TZNAME:EDT
DTSTART:20230312T070000
END:DAYLIGHT
BEGIN:STANDARD
TZOFFSETFROM:-0400
TZOFFSETTO:-0500
TZNAME:EST
DTSTART:20231105T060000
END:STANDARD
END:VTIMEZONE
BEGIN:VEVENT
DTSTART;TZID=America/New_York:20230503T170000
DTEND;TZID=America/New_York:20230504T200000
DTSTAMP:20260419T141902
CREATED:20230310T164134Z
LAST-MODIFIED:20230420T191101Z
UID:10002400-1683133200-1683230400@www.cf.edu
SUMMARY:STEMCon
DESCRIPTION:Students in 3rd-8th grades and their families are invited to STEMCon — a celebration and exploration of sciences\, technology\, engineering and math. This year’s STEMCon will be held at CF Ocala Campus\, Ewers Century Center. Join us Wednesday\, May 3\, and Thursday\, May 4\, from 5-8 p.m. for fun STEM demonstrations and competitions. \nFun-filled activities: \n\nScience – Learn about engines and generators\nTechnology – Compete in Mars rover expedition\nEngineering – Build and race a recycled boat\nMath – Solve puzzles and Math problems to escape your way out of the room\n\nPlus enjoy pizza and prizes! \nThis event is presented by Lockheed Martin in partnership with Marion County Public Schools\, the College of Central Florida and Mid-FL Regional Manufacturers Association. \nLockheed Martin Public Event: Appearance and Liability Release Agreement \nSpace is limited\, so register below to secure your spot! RSVP by Saturday\, April 22. \n Fill out my online form.
URL:https://www.cf.edu/event/stemcon-2023/
LOCATION:Ocala Campus\, 3001 SW College Rd\, Ocala\, FL\, 34474\, United States
CATEGORIES:Business, Technology and Agricultural Sciences
ATTACH;FMTTYPE=image/png:https://www.cf.edu/wp-content/uploads/2022/05/STEMconLogo.png
END:VEVENT
END:VCALENDAR