BEGIN:VCALENDAR
VERSION:2.0
PRODID:-//College Of Central Florida - ECPv6.10.1.1//NONSGML v1.0//EN
CALSCALE:GREGORIAN
METHOD:PUBLISH
X-WR-CALNAME:College Of Central Florida
X-ORIGINAL-URL:https://www.cf.edu
X-WR-CALDESC:Events for College Of Central Florida
REFRESH-INTERVAL;VALUE=DURATION:PT1H
X-Robots-Tag:noindex
X-PUBLISHED-TTL:PT1H
BEGIN:VTIMEZONE
TZID:America/New_York
BEGIN:DAYLIGHT
TZOFFSETFROM:-0500
TZOFFSETTO:-0400
TZNAME:EDT
DTSTART:20240310T070000
END:DAYLIGHT
BEGIN:STANDARD
TZOFFSETFROM:-0400
TZOFFSETTO:-0500
TZNAME:EST
DTSTART:20241103T060000
END:STANDARD
END:VTIMEZONE
BEGIN:VEVENT
DTSTART;TZID=America/New_York:20240306T173000
DTEND;TZID=America/New_York:20240306T190000
DTSTAMP:20260425T172117
CREATED:20231205T195108Z
LAST-MODIFIED:20240110T170111Z
UID:10002749-1709746200-1709751600@www.cf.edu
SUMMARY:Business Finance and Accounting Career Chat
DESCRIPTION:CF’s Business and Technology department will host a Business Finance and Accounting Career Chat open to all students interested in careers as accountants and auditors\, personal financial advisors\, financial managers\, banking professionals\, and other similar roles. The event is free\, but registration is required. There will be food and prizes given out. \nThis session will be held on the Ocala Campus\, in the Klein Conference Center. \nParticipants will have opportunity to network with local industry professionals and hear from keynote speaker\, Michelle Kelly\, the Senior Credit Manager of Mansfield Energy Corporation\, a company consistently ranked on the Forbes’ Top 100 list of America’s Largest Private Companies with $9 billion in revenues. \n\n\n\nKeynote Speaker\n\nMichelle Kelly\,\nSenior Credit Manager\,\nMansfield Energy Corporation \n\n\n\n\n\nMichelle is an accomplished risk professional with 27 years of experience in credit risk and portfolio management and stays at the forefront of industry trends through continuous education and collaboration with her industry peers. Michelle is committed to mentoring emerging professionals and inspiring the next generation of professionals in the credit and risk arena.\n\n\nRSVP below! \nFill out my online form.
URL:https://www.cf.edu/event/accounting-career-chat-2/
LOCATION:Ocala Campus\, 3001 SW College Rd\, Ocala\, FL\, 34474\, United States
CATEGORIES:Business, Technology and Agricultural Sciences,Information Session,Ocala Campus
ATTACH;FMTTYPE=image/jpeg:https://www.cf.edu/wp-content/uploads/2020/10/accounting-certificate.jpg
END:VEVENT
END:VCALENDAR