BEGIN:VCALENDAR
VERSION:2.0
PRODID:-//College Of Central Florida - ECPv6.10.1.1//NONSGML v1.0//EN
CALSCALE:GREGORIAN
METHOD:PUBLISH
X-ORIGINAL-URL:https://www.cf.edu
X-WR-CALDESC:Events for College Of Central Florida
REFRESH-INTERVAL;VALUE=DURATION:PT1H
X-Robots-Tag:noindex
X-PUBLISHED-TTL:PT1H
BEGIN:VTIMEZONE
TZID:America/New_York
BEGIN:DAYLIGHT
TZOFFSETFROM:-0500
TZOFFSETTO:-0400
TZNAME:EDT
DTSTART:20250309T070000
END:DAYLIGHT
BEGIN:STANDARD
TZOFFSETFROM:-0400
TZOFFSETTO:-0500
TZNAME:EST
DTSTART:20251102T060000
END:STANDARD
END:VTIMEZONE
BEGIN:VEVENT
DTSTART;TZID=America/New_York:20250425T080000
DTEND;TZID=America/New_York:20250425T123000
DTSTAMP:20260422T214113
CREATED:20250103T193737Z
LAST-MODIFIED:20250324T141307Z
UID:10003332-1745568000-1745584200@www.cf.edu
SUMMARY:Administrative Professionals Event
DESCRIPTION:Celebrate the professionals who make offices work at the sixth annual Administrative Professionals Event on Friday\, April 25\, 8 a.m.-12:30 p.m. at the Ewers Century Center on the Ocala Campus. This event features executive leader and AI technology expert\, Dr. Claire Brady. \nThe cost to attend is $55. Tickets include continental breakfast\, lunch\, breakout sessions\, a keynote presentation and a chance to win prizes. Every four paid registrations from the same organization gets one free seat! \nBuy Your Tickets Now! \nFor more information\, email CareerServices@cf.edu. \n\n \nKeynote Speaker: Dr. Claire Brady\n\n\n\n \n\n\nAI-Powered Productivity: Transforming Your Administrative Tasks for Maximum Impact\nIn the rapidly evolving landscape of modern admins\, Artificial Intelligence (AI) tools have emerged as indispensable assets\, offering administrators innovative solutions to streamline processes\, boost productivity\, and make informed decisions. This workshop aims to equip admin professionals with a comprehensive understanding of AI tools tailored to their needs. Join us for an immersive session where we will explore a variety of AI applications designed to revolutionize administrative tasks. \n\n\n \n\n \nOther Sessions\n\n\n\n\nBreakout Sessions: \n\nExcel Wizardry: Advanced Tips for Data Dominance\, with Amy Osborne\nHack-Proof: Keep Your Data Safe from Cyber Stalkers\, with Jason Griffis\nMaster the Message: Communication Skills for Admin Professionals\, with Melissa Alling\n\n\n\n\n\nThis event is sponsored by: \n \n\n\n \n\n\nTopics and concepts presented at this event are for discussion purposes only and are not intended to espouse\, promote\, advance\, inculcate\, or compel individuals to believe the topics or concepts presented therein. Nor do they constitute endorsement of such topics or concepts by the College of Central Florida\, its Board of Trustees\, or any of their officers\, employees\, or agents.
URL:https://www.cf.edu/event/administrative-professionals-event-4/
LOCATION:Ocala Campus\, 3001 SW College Rd\, Ocala\, FL\, 34474\, United States
CATEGORIES:Business, Technology and Agricultural Sciences,Ocala Campus
ATTACH;FMTTYPE=image/jpeg:https://www.cf.edu/wp-content/uploads/2020/10/Business-Management.jpg
END:VEVENT
END:VCALENDAR