BEGIN:VCALENDAR
VERSION:2.0
PRODID:-//College Of Central Florida - ECPv6.10.1.1//NONSGML v1.0//EN
CALSCALE:GREGORIAN
METHOD:PUBLISH
X-ORIGINAL-URL:https://www.cf.edu
X-WR-CALDESC:Events for College Of Central Florida
REFRESH-INTERVAL;VALUE=DURATION:PT1H
X-Robots-Tag:noindex
X-PUBLISHED-TTL:PT1H
BEGIN:VTIMEZONE
TZID:America/New_York
BEGIN:DAYLIGHT
TZOFFSETFROM:-0500
TZOFFSETTO:-0400
TZNAME:EDT
DTSTART:20250309T070000
END:DAYLIGHT
BEGIN:STANDARD
TZOFFSETFROM:-0400
TZOFFSETTO:-0500
TZNAME:EST
DTSTART:20251102T060000
END:STANDARD
END:VTIMEZONE
BEGIN:VEVENT
DTSTART;TZID=America/New_York:20250924T123000
DTEND;TZID=America/New_York:20250924T130000
DTSTAMP:20260419T130458
CREATED:20250723T143840Z
LAST-MODIFIED:20250723T175535Z
UID:10003601-1758717000-1758718800@www.cf.edu
SUMMARY:Internship Jumpstart
DESCRIPTION:Ready to intern? Not sure where to get started? This quick 30-minute session will guide you through the essential process of securing an internship\, from finding the right opportunity to completing the required forms. Learn insider tips\, avoid common pitfalls and ensure you’re set up for success. Whether you’re just starting or finalizing your internship plans\, this workshop will provide the tools and knowledge you need to make your internship journey smooth and rewarding. \nRegistration is required.\nRegister Now
URL:https://www.cf.edu/event/internship-jumpstart/
LOCATION:Online
CATEGORIES:Business, Technology and Agricultural Sciences,Information Session
ATTACH;FMTTYPE=image/jpeg:https://www.cf.edu/wp-content/uploads/2025/07/Internship-Jumpstart.jpg
END:VEVENT
END:VCALENDAR