BEGIN:VCALENDAR
VERSION:2.0
PRODID:-//College Of Central Florida - ECPv6.10.1.1//NONSGML v1.0//EN
CALSCALE:GREGORIAN
METHOD:PUBLISH
X-WR-CALNAME:College Of Central Florida
X-ORIGINAL-URL:https://www.cf.edu
X-WR-CALDESC:Events for College Of Central Florida
REFRESH-INTERVAL;VALUE=DURATION:PT1H
X-Robots-Tag:noindex
X-PUBLISHED-TTL:PT1H
BEGIN:VTIMEZONE
TZID:America/New_York
BEGIN:DAYLIGHT
TZOFFSETFROM:-0500
TZOFFSETTO:-0400
TZNAME:EDT
DTSTART:20240310T070000
END:DAYLIGHT
BEGIN:STANDARD
TZOFFSETFROM:-0400
TZOFFSETTO:-0500
TZNAME:EST
DTSTART:20241103T060000
END:STANDARD
END:VTIMEZONE
BEGIN:VEVENT
DTSTART;TZID=America/New_York:20240207T163000
DTEND;TZID=America/New_York:20240207T173000
DTSTAMP:20260419T115101
CREATED:20240201T174301Z
LAST-MODIFIED:20240201T174333Z
UID:10002828-1707323400-1707327000@www.cf.edu
SUMMARY:CF Foundation Board of Directors Meeting
DESCRIPTION:The CF Foundation Board of Directors Meeting: \nDate: Wednesday\, February 7\, 2024\nTime: 4:30 p.m.\nPlace: College of Central Florida (CF)\nStrategic Planning Room\, Bldg. 40\, Ocala Campus\n3001 SW College Rd\, Ocala\, FL 34474 \nPurpose: General business of the CF Foundation Board of Directors.
URL:https://www.cf.edu/event/cf-foundation-board-of-directors-meeting-10/
LOCATION:Ocala Campus\, 3001 SW College Rd\, Ocala\, FL\, 34474\, United States
CATEGORIES:CF Foundation,Ocala Campus
ATTACH;FMTTYPE=image/jpeg:https://www.cf.edu/wp-content/uploads/2020/07/CFEvents-default-image.jpg
END:VEVENT
END:VCALENDAR