BEGIN:VCALENDAR
VERSION:2.0
PRODID:-//College Of Central Florida - ECPv6.10.1.1//NONSGML v1.0//EN
CALSCALE:GREGORIAN
METHOD:PUBLISH
X-WR-CALNAME:College Of Central Florida
X-ORIGINAL-URL:https://www.cf.edu
X-WR-CALDESC:Events for College Of Central Florida
REFRESH-INTERVAL;VALUE=DURATION:PT1H
X-Robots-Tag:noindex
X-PUBLISHED-TTL:PT1H
BEGIN:VTIMEZONE
TZID:America/New_York
BEGIN:DAYLIGHT
TZOFFSETFROM:-0500
TZOFFSETTO:-0400
TZNAME:EDT
DTSTART:20220313T070000
END:DAYLIGHT
BEGIN:STANDARD
TZOFFSETFROM:-0400
TZOFFSETTO:-0500
TZNAME:EST
DTSTART:20221106T060000
END:STANDARD
END:VTIMEZONE
BEGIN:VEVENT
DTSTART;TZID=America/New_York:20220601T173000
DTEND;TZID=America/New_York:20220601T183000
DTSTAMP:20260419T195653
CREATED:20220124T212729Z
LAST-MODIFIED:20220421T180529Z
UID:10001442-1654104600-1654108200@www.cf.edu
SUMMARY:Citrus Dual Enrollment Orientation Session
DESCRIPTION:Interested in Dual Enrollment? Attend an orientation session to learn more about the program\, how to apply\, what the requirements are\, and meet with CF staff. Qualified high school students may accelerate their college education through dual enrollment courses offered at the high school or a CF campus location. Attendance at one orientation session is required for all incoming dual enrollment students. \nThis session will be held at the CF Citrus Campus\, Building C4\, Room\, 103.  \n Fill out my online form.
URL:https://www.cf.edu/event/citrus-dual-enrollment-orientation-session-6/
LOCATION:Citrus Campus\, 3800 S. Lecanto Highway\, Lecanto\, FL\, 34461\, United States
CATEGORIES:Admissions,Citrus Campus,Dual Enrollment,Information Session
ATTACH;FMTTYPE=image/jpeg:https://www.cf.edu/wp-content/uploads/2020/07/CFEvents-default-image.jpg
END:VEVENT
BEGIN:VEVENT
DTSTART;TZID=America/New_York:20220602T110000
DTEND;TZID=America/New_York:20220602T130000
DTSTAMP:20260419T195653
CREATED:20220429T154840Z
LAST-MODIFIED:20220509T184402Z
UID:10001549-1654167600-1654174800@www.cf.edu
SUMMARY:Citrus Open House
DESCRIPTION:Join us at the CF Citrus Campus for an open house on Thursday\, June 2! We’re opening the doors for this special event where you can learn all about the college and get started for the upcoming semester. \nStop by the Citrus Learning and Conference Center between 11 a.m. – 1 p.m. to: \n\nTake a campus tour and picture yourself as a CF Patriot.\nLearn about more than 150 academic pathways\, including 70 job-training programs.\nTalk to financial aid counselors about how affordable a quality education can be.\nMeet with the admissions team to find out about the application process.\n\nPlus\, everyone who completes an admissions application at the event can skip the $30 application fee and enter to win free tuition for a 3-credit-hour class!
URL:https://www.cf.edu/event/citrus-open-house-2/
LOCATION:Citrus Campus\, 3800 S. Lecanto Highway\, Lecanto\, FL\, 34461\, United States
CATEGORIES:Admissions,Citrus Campus,Information Session
ATTACH;FMTTYPE=image/jpeg:https://www.cf.edu/wp-content/uploads/2022/04/CFEvent-OpenHouse-Citrus.jpg
END:VEVENT
BEGIN:VEVENT
DTSTART;TZID=America/New_York:20220630T173000
DTEND;TZID=America/New_York:20220630T183000
DTSTAMP:20260419T195653
CREATED:20220124T212824Z
LAST-MODIFIED:20220627T145146Z
UID:10001443-1656610200-1656613800@www.cf.edu
SUMMARY:Citrus Dual Enrollment Orientation Session
DESCRIPTION:Interested in Dual Enrollment? Attend an orientation session to learn more about the program\, how to apply\, what the requirements are\, and meet with CF staff. Qualified high school students may accelerate their college education through dual enrollment courses offered at the high school or a CF campus location. Attendance at one orientation session is required for all incoming dual enrollment students. \nThis session will be held at the CF Citrus Campus\, Building C4\, Room\, 103.  \n Fill out my online form.
URL:https://www.cf.edu/event/citrus-dual-enrollment-orientation-session-7/
LOCATION:Citrus Campus\, 3800 S. Lecanto Highway\, Lecanto\, FL\, 34461\, United States
CATEGORIES:Citrus Campus,Dual Enrollment,Information Session
ATTACH;FMTTYPE=image/jpeg:https://www.cf.edu/wp-content/uploads/2020/07/CFEvents-default-image.jpg
END:VEVENT
END:VCALENDAR