BEGIN:VCALENDAR
VERSION:2.0
PRODID:-//College Of Central Florida - ECPv6.10.1.1//NONSGML v1.0//EN
CALSCALE:GREGORIAN
METHOD:PUBLISH
X-ORIGINAL-URL:https://www.cf.edu
X-WR-CALDESC:Events for College Of Central Florida
REFRESH-INTERVAL;VALUE=DURATION:PT1H
X-Robots-Tag:noindex
X-PUBLISHED-TTL:PT1H
BEGIN:VTIMEZONE
TZID:America/New_York
BEGIN:DAYLIGHT
TZOFFSETFROM:-0500
TZOFFSETTO:-0400
TZNAME:EDT
DTSTART:20220313T070000
END:DAYLIGHT
BEGIN:STANDARD
TZOFFSETFROM:-0400
TZOFFSETTO:-0500
TZNAME:EST
DTSTART:20221106T060000
END:STANDARD
END:VTIMEZONE
BEGIN:VEVENT
DTSTART;TZID=America/New_York:20220706T180000
DTEND;TZID=America/New_York:20220706T190000
DTSTAMP:20260420T121427
CREATED:20220629T190909Z
LAST-MODIFIED:20220705T152637Z
UID:10001602-1657130400-1657134000@www.cf.edu
SUMMARY:Emergency Medical Services Information Session
DESCRIPTION:CF is conducting an Emergency Medical Services (EMT & Paramedic) program information session live at the Citrus Campus\, Building C2\, Room 102. It is recommended that potential students attend a session before applying to any of the programs. Sessions provide details about admissions criteria\, program requirements\, costs and more. \nThere is no waiting list for any of the Health Science programs. Some programs have part-time enrollment options. \nFor information about any of the programs or sessions email Peggy Recanzone at recanzop@cf.edu.
URL:https://www.cf.edu/event/emergency-medical-technician-information-session-2/
LOCATION:Citrus Campus\, 3800 S. Lecanto Highway\, Lecanto\, FL\, 34461\, United States
CATEGORIES:Citrus Campus,Health Sciences,Information Session
ATTACH;FMTTYPE=image/jpeg:https://www.cf.edu/wp-content/uploads/2022/06/6J2A0759-edit-web.jpg
END:VEVENT
BEGIN:VEVENT
DTSTART;TZID=America/New_York:20220714T100000
DTEND;TZID=America/New_York:20220714T140000
DTSTAMP:20260420T121427
CREATED:20220622T185015Z
LAST-MODIFIED:20220711T194919Z
UID:10001598-1657792800-1657807200@www.cf.edu
SUMMARY:Citrus Open House
DESCRIPTION:Stop by the Charles S. Dean Sr. Educational Center Student Services Suite at the CF Wilton Simpson Citrus Campus for an open house on Thursday\, July 14\, 10 a.m. – 2 p.m.! We’re opening the doors for this special event where you can learn all about the college and get started for the upcoming semester. \nAt this event\, you can go through the entire enrollment process in a single day. \n\nFill out the CF admissions application ($30 fee waived)\nApply for financial aid\nMeet with an academic advisor\nRegister for classes\n\nWe’ll also be offering tours of campus at 10:15 a.m. and 12:15 p.m. so you can get a feel for where you’ll take classes. Attendees who apply at this event will be entered to win a free 3-credit hour class at the in-state rate this fall! \nDon’t forget to bring any needed documents for the admissions process. This document checklist can help you determine what you’ll need. \nRSVPs are highly encouraged so that our advisors can prepare to help you through the admissions and enrollment process. Enter your information below\, and we’ll send you an event reminder. \nFill out my online form.
URL:https://www.cf.edu/event/citrus-open-house-3/
LOCATION:Citrus Campus\, 3800 S. Lecanto Highway\, Lecanto\, FL\, 34461\, United States
CATEGORIES:Admissions,Citrus Campus,Information Session
ATTACH;FMTTYPE=image/jpeg:https://www.cf.edu/wp-content/uploads/2022/06/1000x800-CFEvent-OpenHouse.jpg
END:VEVENT
BEGIN:VEVENT
DTSTART;TZID=America/New_York:20220714T173000
DTEND;TZID=America/New_York:20220714T183000
DTSTAMP:20260420T121427
CREATED:20220621T133341Z
LAST-MODIFIED:20220711T195143Z
UID:10001594-1657819800-1657823400@www.cf.edu
SUMMARY:Citrus Dual Enrollment Orientation Session
DESCRIPTION:Interested in Dual Enrollment? Attend an orientation session to learn more about the program\, how to apply\, what the requirements are\, and meet with CF staff. Qualified high school students may accelerate their college education through dual enrollment courses offered at the high school or a CF campus location. Attendance at one orientation session is required for all incoming dual enrollment students. \nThis session will be held at the CF Wilton Simpson Citrus Campus\, Building C4\, Room\, 103. \nFill out my online form.
URL:https://www.cf.edu/event/citrus-dual-enrollment-orientation-session-5/
LOCATION:Citrus Campus\, 3800 S. Lecanto Highway\, Lecanto\, FL\, 34461\, United States
CATEGORIES:Citrus Campus,Dual Enrollment,Information Session
ATTACH;FMTTYPE=image/jpeg:https://www.cf.edu/wp-content/uploads/2020/07/CFEvents-default-image.jpg
END:VEVENT
END:VCALENDAR