BEGIN:VCALENDAR
VERSION:2.0
PRODID:-//College Of Central Florida - ECPv6.10.1.1//NONSGML v1.0//EN
CALSCALE:GREGORIAN
METHOD:PUBLISH
X-WR-CALNAME:College Of Central Florida
X-ORIGINAL-URL:https://www.cf.edu
X-WR-CALDESC:Events for College Of Central Florida
REFRESH-INTERVAL;VALUE=DURATION:PT1H
X-Robots-Tag:noindex
X-PUBLISHED-TTL:PT1H
BEGIN:VTIMEZONE
TZID:America/New_York
BEGIN:DAYLIGHT
TZOFFSETFROM:-0500
TZOFFSETTO:-0400
TZNAME:EDT
DTSTART:20220313T070000
END:DAYLIGHT
BEGIN:STANDARD
TZOFFSETFROM:-0400
TZOFFSETTO:-0500
TZNAME:EST
DTSTART:20221106T060000
END:STANDARD
END:VTIMEZONE
BEGIN:VEVENT
DTSTART;TZID=America/New_York:20221109T120000
DTEND;TZID=America/New_York:20221109T133000
DTSTAMP:20260423T070248
CREATED:20220922T140112Z
LAST-MODIFIED:20221012T124444Z
UID:10001750-1667995200-1668000600@www.cf.edu
SUMMARY:Painting Workshop with Jordan Shapot
DESCRIPTION:CF students and staff are encouraged to join us for a hands on workshop lead by Artist Jordan Shapot. Participants will complete a painting following along with the artist’s demonstration. This event will take place in the Citrus Campus Learning and Conference Center at 12:30 – 1:30 p.m. All supplies will be provided. Graduate of Savannah College of Art and Design and CF alumni\, Jordan is a professional artist known for his community involvement in public art\, and for his scribble face paintings. \nThis event was made possible by a CF foundation grant.
URL:https://www.cf.edu/event/painting-workshop-with-jordan-shapot/
LOCATION:Citrus Campus\, 3800 S. Lecanto Highway\, Lecanto\, FL\, 34461\, United States
CATEGORIES:Arts,Citrus Campus,Student Life
ATTACH;FMTTYPE=image/jpeg:https://www.cf.edu/wp-content/uploads/2022/09/cf-painting-class.jpg
END:VEVENT
BEGIN:VEVENT
DTSTART;TZID=America/New_York:20221114T173000
DTEND;TZID=America/New_York:20221114T183000
DTSTAMP:20260423T070248
CREATED:20221019T140837Z
LAST-MODIFIED:20221109T184830Z
UID:10001783-1668447000-1668450600@www.cf.edu
SUMMARY:Citrus Dual Enrollment Orientation Session
DESCRIPTION:This event has been postponed from Nov. 10 to Nov. 14. \nInterested in Dual Enrollment? Attend an orientation session to learn more about the program\, how to apply\, what the requirements are\, and meet with CF staff. Qualified high school students may accelerate their college education through dual enrollment courses offered at the high school or a CF campus location. Attendance at one orientation session is required for all incoming dual enrollment students. \nThis session will be held at the CF Wilton Simpson Citrus Campus\, Building C4\, Room\, 103. \n Fill out my online form.
URL:https://www.cf.edu/event/citrus-dual-enrollment-orientation-session-9/
LOCATION:Citrus Campus\, 3800 S. Lecanto Highway\, Lecanto\, FL\, 34461\, United States
CATEGORIES:Citrus Campus,Dual Enrollment,Information Session
ATTACH;FMTTYPE=image/jpeg:https://www.cf.edu/wp-content/uploads/2020/07/CFEvents-default-image.jpg
END:VEVENT
END:VCALENDAR