BEGIN:VCALENDAR
VERSION:2.0
PRODID:-//College Of Central Florida - ECPv6.10.1.1//NONSGML v1.0//EN
CALSCALE:GREGORIAN
METHOD:PUBLISH
X-WR-CALNAME:College Of Central Florida
X-ORIGINAL-URL:https://www.cf.edu
X-WR-CALDESC:Events for College Of Central Florida
REFRESH-INTERVAL;VALUE=DURATION:PT1H
X-Robots-Tag:noindex
X-PUBLISHED-TTL:PT1H
BEGIN:VTIMEZONE
TZID:America/New_York
BEGIN:DAYLIGHT
TZOFFSETFROM:-0500
TZOFFSETTO:-0400
TZNAME:EDT
DTSTART:20250309T070000
END:DAYLIGHT
BEGIN:STANDARD
TZOFFSETFROM:-0400
TZOFFSETTO:-0500
TZNAME:EST
DTSTART:20251102T060000
END:STANDARD
END:VTIMEZONE
BEGIN:VEVENT
DTSTART;TZID=America/New_York:20250505T180000
DTEND;TZID=America/New_York:20250505T190000
DTSTAMP:20260419T195648
CREATED:20241107T153239Z
LAST-MODIFIED:20250505T193926Z
UID:10003245-1746468000-1746471600@www.cf.edu
SUMMARY:CANCELED: Emergency Medical Services Information Session
DESCRIPTION:This information session has been canceled. Please view our calendar for more info session dates. Thank you!
URL:https://www.cf.edu/event/emergency-medical-services-information-session-40/
LOCATION:Citrus Campus\, 3800 S. Lecanto Highway\, Lecanto\, FL\, 34461\, United States
CATEGORIES:Citrus Campus,Health Sciences,Information Session
ATTACH;FMTTYPE=image/jpeg:https://www.cf.edu/wp-content/uploads/2022/06/6J2A0759-edit-web.jpg
END:VEVENT
END:VCALENDAR