BEGIN:VCALENDAR
VERSION:2.0
PRODID:-//College Of Central Florida - ECPv6.10.1.1//NONSGML v1.0//EN
CALSCALE:GREGORIAN
METHOD:PUBLISH
X-ORIGINAL-URL:https://www.cf.edu
X-WR-CALDESC:Events for College Of Central Florida
REFRESH-INTERVAL;VALUE=DURATION:PT1H
X-Robots-Tag:noindex
X-PUBLISHED-TTL:PT1H
BEGIN:VTIMEZONE
TZID:America/New_York
BEGIN:DAYLIGHT
TZOFFSETFROM:-0500
TZOFFSETTO:-0400
TZNAME:EDT
DTSTART:20240310T070000
END:DAYLIGHT
BEGIN:STANDARD
TZOFFSETFROM:-0400
TZOFFSETTO:-0500
TZNAME:EST
DTSTART:20241103T060000
END:STANDARD
END:VTIMEZONE
BEGIN:VEVENT
DTSTART;TZID=America/New_York:20240919T103000
DTEND;TZID=America/New_York:20240919T113000
DTSTAMP:20260419T142249
CREATED:20240911T201946Z
LAST-MODIFIED:20240911T202559Z
UID:10003124-1726741800-1726745400@www.cf.edu
SUMMARY:Respiratory Care Meet and Greet
DESCRIPTION:Learn more about CF’s anticipated Associate in Science Degree in Respiratory Care (program accreditation pending). Join us to find out if you are eligible to apply to this new health sciences program. Our program offers the specialized training and laboratory skills needed to thrive as a professional in the growing field of respiratory care. \nAt this session\, you can meet the Respiratory Care program manager and learn about admissions requirements\, cost\, financial aid and more.   \nRegistration is required. Please fill out the form below. \n Fill out my online form.
URL:https://www.cf.edu/event/respiratory-care-meet-and-greet/
LOCATION:Citrus Campus\, 3800 S. Lecanto Highway\, Lecanto\, FL\, 34461\, United States
CATEGORIES:Citrus Campus,Health Sciences,Information Session
ATTACH;FMTTYPE=image/jpeg:https://www.cf.edu/wp-content/uploads/2024/09/Respiratory-Care.jpg
END:VEVENT
END:VCALENDAR