BEGIN:VCALENDAR
VERSION:2.0
PRODID:-//College Of Central Florida - ECPv6.10.1.1//NONSGML v1.0//EN
CALSCALE:GREGORIAN
METHOD:PUBLISH
X-WR-CALNAME:College Of Central Florida
X-ORIGINAL-URL:https://www.cf.edu
X-WR-CALDESC:Events for College Of Central Florida
REFRESH-INTERVAL;VALUE=DURATION:PT1H
X-Robots-Tag:noindex
X-PUBLISHED-TTL:PT1H
BEGIN:VTIMEZONE
TZID:America/New_York
BEGIN:DAYLIGHT
TZOFFSETFROM:-0500
TZOFFSETTO:-0400
TZNAME:EDT
DTSTART:20250309T070000
END:DAYLIGHT
BEGIN:STANDARD
TZOFFSETFROM:-0400
TZOFFSETTO:-0500
TZNAME:EST
DTSTART:20251102T060000
END:STANDARD
END:VTIMEZONE
BEGIN:VEVENT
DTSTART;TZID=America/New_York:20251202T173000
DTEND;TZID=America/New_York:20251202T190000
DTSTAMP:20260422T111021
CREATED:20251022T140512Z
LAST-MODIFIED:20251027T162218Z
UID:10003726-1764696600-1764702000@www.cf.edu
SUMMARY:Grand Launch: Wilton Simpson Citrus Campus Biodiversity Trail
DESCRIPTION:The community is invited to join the grand launch of the interactive Biodiversity Trail at the Wilton Simpson Citrus Campus on Tuesday\, Dec. 2\, from 5:30-7 p.m. \nThis event will include music\, art\, time to explore the trail exhibits\, a presentation\, “The Stories I Could Tell”\, by CF Professor of Biological Science and Biodiversity Trail creator Steve C. Schenk\, and free food. \nAs you explore the newly installed exihibits\, you can add your trail photography to the BioDiT project here. You can also virtually explore the exhibits on the BioDiT page. \nTopics and concepts presented at this event are for discussion purposes only and are not intended to espouse\, promote\, advance\, inculcate\, or compel individuals to believe the topics or concepts presented therein. Nor do they constitute endorsement of such topics or concepts by the College of Central Florida\, its Board of Trustees\, or any of their officers\, employees\, or agents.
URL:https://www.cf.edu/event/citrus-campus-biodiversity-trail-grand-launch/
LOCATION:Citrus Campus\, 3800 S. Lecanto Highway\, Lecanto\, FL\, 34461\, United States
CATEGORIES:Citrus Campus
ATTACH;FMTTYPE=image/jpeg:https://www.cf.edu/wp-content/uploads/2025/10/Rainbow.jpg
END:VEVENT
END:VCALENDAR