BEGIN:VCALENDAR
VERSION:2.0
PRODID:-//College Of Central Florida - ECPv6.10.1.1//NONSGML v1.0//EN
CALSCALE:GREGORIAN
METHOD:PUBLISH
X-WR-CALNAME:College Of Central Florida
X-ORIGINAL-URL:https://www.cf.edu
X-WR-CALDESC:Events for College Of Central Florida
REFRESH-INTERVAL;VALUE=DURATION:PT1H
X-Robots-Tag:noindex
X-PUBLISHED-TTL:PT1H
BEGIN:VTIMEZONE
TZID:America/New_York
BEGIN:DAYLIGHT
TZOFFSETFROM:-0500
TZOFFSETTO:-0400
TZNAME:EDT
DTSTART:20220313T070000
END:DAYLIGHT
BEGIN:STANDARD
TZOFFSETFROM:-0400
TZOFFSETTO:-0500
TZNAME:EST
DTSTART:20221106T060000
END:STANDARD
END:VTIMEZONE
BEGIN:VEVENT
DTSTART;VALUE=DATE:20220301
DTEND;VALUE=DATE:20220302
DTSTAMP:20260422T152950
CREATED:20211214T204751Z
LAST-MODIFIED:20211214T204751Z
UID:10001397-1646092800-1646179199@www.cf.edu
SUMMARY:Spring A classes end
DESCRIPTION:Spring A classes end March 1.
URL:https://www.cf.edu/event/spring-a-classes-end/
LOCATION:FL
CATEGORIES:Dates and Deadlines
ATTACH;FMTTYPE=image/jpeg:https://www.cf.edu/wp-content/uploads/2020/07/CFEvents-DatesDeadlines-default-image.jpg
END:VEVENT
BEGIN:VEVENT
DTSTART;VALUE=DATE:20220303
DTEND;VALUE=DATE:20220304
DTSTAMP:20260422T152950
CREATED:20211214T205456Z
LAST-MODIFIED:20211214T205456Z
UID:10001400-1646265600-1646351999@www.cf.edu
SUMMARY:Last admit day for Spring B
DESCRIPTION:The day to be admitted into Spring B Semester is March 3.
URL:https://www.cf.edu/event/last-admit-day-for-spring-b/
LOCATION:FL
CATEGORIES:Dates and Deadlines
ATTACH;FMTTYPE=image/jpeg:https://www.cf.edu/wp-content/uploads/2020/07/CFEvents-DatesDeadlines-default-image.jpg
END:VEVENT
BEGIN:VEVENT
DTSTART;VALUE=DATE:20220307
DTEND;VALUE=DATE:20220308
DTSTAMP:20260422T152950
CREATED:20211214T205611Z
LAST-MODIFIED:20211214T210003Z
UID:10001401-1646611200-1646697599@www.cf.edu
SUMMARY:Spring B classes begin
DESCRIPTION:Spring B classes begin on March 7.
URL:https://www.cf.edu/event/spring-b-classes-begin/
LOCATION:FL
CATEGORIES:Dates and Deadlines
ATTACH;FMTTYPE=image/jpeg:https://www.cf.edu/wp-content/uploads/2020/07/CFEvents-DatesDeadlines-default-image.jpg
END:VEVENT
BEGIN:VEVENT
DTSTART;VALUE=DATE:20220307
DTEND;VALUE=DATE:20220309
DTSTAMP:20260422T152950
CREATED:20211214T210148Z
LAST-MODIFIED:20211214T210148Z
UID:10001402-1646611200-1646783999@www.cf.edu
SUMMARY:Spring B add/drop period
DESCRIPTION:The Spring B add/drop period begins on March 7 and ends on March 8.
URL:https://www.cf.edu/event/spring-b-add-drop-period/
LOCATION:FL
CATEGORIES:Dates and Deadlines
ATTACH;FMTTYPE=image/jpeg:https://www.cf.edu/wp-content/uploads/2020/07/CFEvents-DatesDeadlines-default-image.jpg
END:VEVENT
BEGIN:VEVENT
DTSTART;VALUE=DATE:20220309
DTEND;VALUE=DATE:20220310
DTSTAMP:20260422T152950
CREATED:20211214T210404Z
LAST-MODIFIED:20211214T210404Z
UID:10001403-1646784000-1646870399@www.cf.edu
SUMMARY:Drop only period for Spring B
DESCRIPTION:Students can drop any Spring B class by March 9.
URL:https://www.cf.edu/event/drop-only-period-for-spring-b/
LOCATION:FL
CATEGORIES:Dates and Deadlines
ATTACH;FMTTYPE=image/jpeg:https://www.cf.edu/wp-content/uploads/2020/07/CFEvents-DatesDeadlines-default-image.jpg
END:VEVENT
BEGIN:VEVENT
DTSTART;VALUE=DATE:20220314
DTEND;VALUE=DATE:20220321
DTSTAMP:20260422T152950
CREATED:20211214T203946Z
LAST-MODIFIED:20211214T203946Z
UID:10001394-1647216000-1647820799@www.cf.edu
SUMMARY:Spring break
DESCRIPTION:Spring break is from March 14-20. The college will be closed during this time.
URL:https://www.cf.edu/event/spring-break-2/
LOCATION:FL
CATEGORIES:Dates and Deadlines
ATTACH;FMTTYPE=image/jpeg:https://www.cf.edu/wp-content/uploads/2020/07/CFEvents-DatesDeadlines-default-image.jpg
END:VEVENT
BEGIN:VEVENT
DTSTART;VALUE=DATE:20220330
DTEND;VALUE=DATE:20220331
DTSTAMP:20260422T152950
CREATED:20211214T204540Z
LAST-MODIFIED:20211214T204540Z
UID:10001396-1648598400-1648684799@www.cf.edu
SUMMARY:Last day to withdraw with "W" for Spring C
DESCRIPTION:The last day to withdraw from any classes during the Spring C Semester is March 30.
URL:https://www.cf.edu/event/last-day-to-withdraw-with-w-for-spring-c/
LOCATION:FL
CATEGORIES:Dates and Deadlines
ATTACH;FMTTYPE=image/jpeg:https://www.cf.edu/wp-content/uploads/2020/07/CFEvents-DatesDeadlines-default-image.jpg
END:VEVENT
END:VCALENDAR