BEGIN:VCALENDAR
VERSION:2.0
PRODID:-//College Of Central Florida - ECPv6.10.1.1//NONSGML v1.0//EN
CALSCALE:GREGORIAN
METHOD:PUBLISH
X-WR-CALNAME:College Of Central Florida
X-ORIGINAL-URL:https://www.cf.edu
X-WR-CALDESC:Events for College Of Central Florida
REFRESH-INTERVAL;VALUE=DURATION:PT1H
X-Robots-Tag:noindex
X-PUBLISHED-TTL:PT1H
BEGIN:VTIMEZONE
TZID:America/New_York
BEGIN:DAYLIGHT
TZOFFSETFROM:-0500
TZOFFSETTO:-0400
TZNAME:EDT
DTSTART:20240310T070000
END:DAYLIGHT
BEGIN:STANDARD
TZOFFSETFROM:-0400
TZOFFSETTO:-0500
TZNAME:EST
DTSTART:20241103T060000
END:STANDARD
END:VTIMEZONE
BEGIN:VEVENT
DTSTART;VALUE=DATE:20240807
DTEND;VALUE=DATE:20240808
DTSTAMP:20260423T085927
CREATED:20231011T150607Z
LAST-MODIFIED:20240111T162242Z
UID:10002686-1722988800-1723075199@www.cf.edu
SUMMARY:Summer B and C Classes End
DESCRIPTION:Summer B and C classes end Aug. 7.
URL:https://www.cf.edu/event/summer-a-and-c-classes-end/
LOCATION:FL
CATEGORIES:Dates and Deadlines
ATTACH;FMTTYPE=image/jpeg:https://www.cf.edu/wp-content/uploads/2020/07/CFEvents-DatesDeadlines-default-image.jpg
END:VEVENT
BEGIN:VEVENT
DTSTART;VALUE=DATE:20240819
DTEND;VALUE=DATE:20240820
DTSTAMP:20260423T085927
CREATED:20240819T145429Z
LAST-MODIFIED:20241024T150018Z
UID:10003153-1724025600-1724111999@www.cf.edu
SUMMARY:Fall C Classes Begin
DESCRIPTION:Fall C classes begin Aug. 19.
URL:https://www.cf.edu/event/fall-c-classes-begin/
LOCATION:FL
CATEGORIES:Dates and Deadlines
ATTACH;FMTTYPE=image/jpeg:https://www.cf.edu/wp-content/uploads/2020/07/CFEvents-DatesDeadlines-default-image.jpg
END:VEVENT
BEGIN:VEVENT
DTSTART;VALUE=DATE:20240819
DTEND;VALUE=DATE:20240820
DTSTAMP:20260423T085927
CREATED:20240819T152832Z
LAST-MODIFIED:20241024T153738Z
UID:10003160-1724025600-1724111999@www.cf.edu
SUMMARY:Fall A Classes Begin
DESCRIPTION:Fall A classes begin Aug. 19.
URL:https://www.cf.edu/event/fall-a-classes-begin/
LOCATION:FL
CATEGORIES:Dates and Deadlines
ATTACH;FMTTYPE=image/jpeg:https://www.cf.edu/wp-content/uploads/2020/07/CFEvents-DatesDeadlines-default-image.jpg
END:VEVENT
BEGIN:VEVENT
DTSTART;VALUE=DATE:20240820
DTEND;VALUE=DATE:20240821
DTSTAMP:20260423T085927
CREATED:20240820T153412Z
LAST-MODIFIED:20241024T154759Z
UID:10003159-1724112000-1724198399@www.cf.edu
SUMMARY:Last Day to Add Fall A Classes
DESCRIPTION:If you wish to add any classes for the Fall A semester\, the period through Aug. 20.
URL:https://www.cf.edu/event/last-day-to-add-fall-aclasses/
LOCATION:FL
CATEGORIES:Dates and Deadlines
ATTACH;FMTTYPE=image/jpeg:https://www.cf.edu/wp-content/uploads/2020/07/CFEvents-DatesDeadlines-default-image.jpg
END:VEVENT
BEGIN:VEVENT
DTSTART;VALUE=DATE:20240821
DTEND;VALUE=DATE:20240822
DTSTAMP:20260423T085927
CREATED:20240821T150754Z
LAST-MODIFIED:20241024T151411Z
UID:10003158-1724198400-1724284799@www.cf.edu
SUMMARY:Last Day to Add Fall C Classes
DESCRIPTION:If you wish to add any classes for the Fall C semester\, the period through Aug. 21.
URL:https://www.cf.edu/event/last-day-to-add-fall-c-classes/
LOCATION:FL
CATEGORIES:Dates and Deadlines
ATTACH;FMTTYPE=image/jpeg:https://www.cf.edu/wp-content/uploads/2020/07/CFEvents-DatesDeadlines-default-image.jpg
END:VEVENT
BEGIN:VEVENT
DTSTART;VALUE=DATE:20240821
DTEND;VALUE=DATE:20240822
DTSTAMP:20260423T085927
CREATED:20240821T153540Z
LAST-MODIFIED:20241024T155045Z
UID:10003171-1724198400-1724284799@www.cf.edu
SUMMARY:Last Day to Drop Fall A Classes
DESCRIPTION:The last day to drop classes during the Fall A semester is Aug. 21.
URL:https://www.cf.edu/event/last-day-to-drop-fall-a-classes/
LOCATION:FL
CATEGORIES:Dates and Deadlines
ATTACH;FMTTYPE=image/jpeg:https://www.cf.edu/wp-content/uploads/2020/07/CFEvents-DatesDeadlines-default-image.jpg
END:VEVENT
BEGIN:VEVENT
DTSTART;VALUE=DATE:20240823
DTEND;VALUE=DATE:20240824
DTSTAMP:20260423T085927
CREATED:20240823T151454Z
LAST-MODIFIED:20241024T151717Z
UID:10003161-1724371200-1724457599@www.cf.edu
SUMMARY:Drop Period for Fall C
DESCRIPTION:The last day to drop classes during the Fall C Semester is Aug. 23.
URL:https://www.cf.edu/event/drop-period-for-fall-c/
LOCATION:FL
CATEGORIES:Dates and Deadlines
ATTACH;FMTTYPE=image/jpeg:https://www.cf.edu/wp-content/uploads/2020/07/CFEvents-DatesDeadlines-default-image.jpg
END:VEVENT
END:VCALENDAR