BEGIN:VCALENDAR
VERSION:2.0
PRODID:-//College Of Central Florida - ECPv6.10.1.1//NONSGML v1.0//EN
CALSCALE:GREGORIAN
METHOD:PUBLISH
X-WR-CALNAME:College Of Central Florida
X-ORIGINAL-URL:https://www.cf.edu
X-WR-CALDESC:Events for College Of Central Florida
REFRESH-INTERVAL;VALUE=DURATION:PT1H
X-Robots-Tag:noindex
X-PUBLISHED-TTL:PT1H
BEGIN:VTIMEZONE
TZID:America/New_York
BEGIN:DAYLIGHT
TZOFFSETFROM:-0500
TZOFFSETTO:-0400
TZNAME:EDT
DTSTART:20250309T070000
END:DAYLIGHT
BEGIN:STANDARD
TZOFFSETFROM:-0400
TZOFFSETTO:-0500
TZNAME:EST
DTSTART:20251102T060000
END:STANDARD
BEGIN:DAYLIGHT
TZOFFSETFROM:-0500
TZOFFSETTO:-0400
TZNAME:EDT
DTSTART:20260308T070000
END:DAYLIGHT
BEGIN:STANDARD
TZOFFSETFROM:-0400
TZOFFSETTO:-0500
TZNAME:EST
DTSTART:20261101T060000
END:STANDARD
END:VTIMEZONE
BEGIN:VEVENT
DTSTART;VALUE=DATE:20251218
DTEND;VALUE=DATE:20260103
DTSTAMP:20260420T192502
CREATED:20250310T153836Z
LAST-MODIFIED:20250310T153836Z
UID:10003407-1766016000-1767398399@www.cf.edu
SUMMARY:Winter Break (No Classes)
DESCRIPTION:All CF campuses will be closed Dec. 18\, 2025 – Jan. 2\, 2026\, for Winter Break.
URL:https://www.cf.edu/event/winter-break-no-classes-4/
LOCATION:FL
CATEGORIES:Dates and Deadlines
ATTACH;FMTTYPE=image/jpeg:https://www.cf.edu/wp-content/uploads/2020/07/CFEvents-DatesDeadlines-default-image.jpg
END:VEVENT
BEGIN:VEVENT
DTSTART;VALUE=DATE:20260107
DTEND;VALUE=DATE:20260108
DTSTAMP:20260420T192502
CREATED:20250310T153957Z
LAST-MODIFIED:20250310T153957Z
UID:10003408-1767744000-1767830399@www.cf.edu
SUMMARY:Spring A and C Classes Begin
DESCRIPTION:Summer A and C classes begin Jan. 7.
URL:https://www.cf.edu/event/spring-a-and-c-classes-begin-2/
LOCATION:FL
CATEGORIES:Dates and Deadlines
ATTACH;FMTTYPE=image/jpeg:https://www.cf.edu/wp-content/uploads/2020/07/CFEvents-DatesDeadlines-default-image.jpg
END:VEVENT
BEGIN:VEVENT
DTSTART;VALUE=DATE:20260108
DTEND;VALUE=DATE:20260109
DTSTAMP:20260420T192502
CREATED:20250715T195504Z
LAST-MODIFIED:20250716T152353Z
UID:10003555-1767830400-1767916799@www.cf.edu
SUMMARY:Last Day to Add Spring A Classes
DESCRIPTION:The last day to add classes for the Spring A semester is January 8.
URL:https://www.cf.edu/event/last-day-to-add-spring-a-classes-2/
LOCATION:FL
CATEGORIES:Dates and Deadlines
ATTACH;FMTTYPE=image/jpeg:https://www.cf.edu/wp-content/uploads/2020/07/CFEvents-DatesDeadlines-default-image.jpg
END:VEVENT
BEGIN:VEVENT
DTSTART;VALUE=DATE:20260109
DTEND;VALUE=DATE:20260110
DTSTAMP:20260420T192502
CREATED:20250715T195204Z
LAST-MODIFIED:20250716T152541Z
UID:10003553-1767916800-1768003199@www.cf.edu
SUMMARY:Last Day to Add Spring C Classes
DESCRIPTION:The last day to add classes for the Spring C semester is January 9.
URL:https://www.cf.edu/event/last-day-to-add-spring-c-classes-2/
LOCATION:FL
CATEGORIES:Dates and Deadlines
ATTACH;FMTTYPE=image/jpeg:https://www.cf.edu/wp-content/uploads/2020/07/CFEvents-DatesDeadlines-default-image.jpg
END:VEVENT
BEGIN:VEVENT
DTSTART;VALUE=DATE:20260109
DTEND;VALUE=DATE:20260110
DTSTAMP:20260420T192502
CREATED:20250716T151642Z
LAST-MODIFIED:20250716T151642Z
UID:10003567-1767916800-1768003199@www.cf.edu
SUMMARY:Last Day to Drop Classes for Spring A Semester
DESCRIPTION:The last day to drop classes during the Spring A Semester is January 9.
URL:https://www.cf.edu/event/last-day-to-drop-classes-for-spring-a-semester/
LOCATION:FL
CATEGORIES:Dates and Deadlines
ATTACH;FMTTYPE=image/jpeg:https://www.cf.edu/wp-content/uploads/2020/07/CFEvents-DatesDeadlines-default-image.jpg
END:VEVENT
BEGIN:VEVENT
DTSTART;VALUE=DATE:20260113
DTEND;VALUE=DATE:20260114
DTSTAMP:20260420T192502
CREATED:20250715T203057Z
LAST-MODIFIED:20250715T203057Z
UID:10003562-1768262400-1768348799@www.cf.edu
SUMMARY:Last Day to Drop Classes for Spring C Semester
DESCRIPTION:The last day to drop classes during the Spring C Semester is January 13.
URL:https://www.cf.edu/event/last-day-to-drop-classes-for-spring-c-semester/
LOCATION:FL
CATEGORIES:Dates and Deadlines
ATTACH;FMTTYPE=image/jpeg:https://www.cf.edu/wp-content/uploads/2020/07/CFEvents-DatesDeadlines-default-image.jpg
END:VEVENT
BEGIN:VEVENT
DTSTART;VALUE=DATE:20260119
DTEND;VALUE=DATE:20260120
DTSTAMP:20260420T192502
CREATED:20250310T154111Z
LAST-MODIFIED:20250310T154111Z
UID:10003409-1768780800-1768867199@www.cf.edu
SUMMARY:Dr. Martin Luther King Jr. Holiday\, No Classes
DESCRIPTION:All CF Campus locations will be closed in observance for Dr. Martin Luther King Jr. Day.
URL:https://www.cf.edu/event/dr-martin-luther-king-jr-holiday-no-classes-4/
LOCATION:FL
CATEGORIES:Dates and Deadlines
ATTACH;FMTTYPE=image/jpeg:https://www.cf.edu/wp-content/uploads/2020/07/CFEvents-DatesDeadlines-default-image.jpg
END:VEVENT
END:VCALENDAR