BEGIN:VCALENDAR
VERSION:2.0
PRODID:-//College Of Central Florida - ECPv6.10.1.1//NONSGML v1.0//EN
CALSCALE:GREGORIAN
METHOD:PUBLISH
X-WR-CALNAME:College Of Central Florida
X-ORIGINAL-URL:https://www.cf.edu
X-WR-CALDESC:Events for College Of Central Florida
REFRESH-INTERVAL;VALUE=DURATION:PT1H
X-Robots-Tag:noindex
X-PUBLISHED-TTL:PT1H
BEGIN:VTIMEZONE
TZID:America/New_York
BEGIN:DAYLIGHT
TZOFFSETFROM:-0500
TZOFFSETTO:-0400
TZNAME:EDT
DTSTART:20210314T070000
END:DAYLIGHT
BEGIN:STANDARD
TZOFFSETFROM:-0400
TZOFFSETTO:-0500
TZNAME:EST
DTSTART:20211107T060000
END:STANDARD
END:VTIMEZONE
BEGIN:VEVENT
DTSTART;TZID=America/New_York:20211210T170000
DTEND;TZID=America/New_York:20211210T190000
DTSTAMP:20260420T151712
CREATED:20211129T195051Z
LAST-MODIFIED:20211209T190730Z
UID:10001366-1639155600-1639162800@www.cf.edu
SUMMARY:CF Fall 2021 Commencement Ceremony
DESCRIPTION:The CF Commencement Ceremony for Summer – Fall 2021 graduates will take place at 5 p.m. on Friday\, Dec. 10\, at The World Equestrian Center (WEC)\, Expo Center 1\, 1750 N.W. 80th Ave.\, Ocala. For easiest access\, graduates and their guests should use the entrance on State Road 40. Parking is free for those attending CF graduation.  \nThe ceremony will also be livestreamed on the CF YouTube page. \n \nCarolyn Barton Grissom will be honored posthumously with the CF Foundation’s Distinguished Service Award\, and student Edgar Soto will be the graduation speaker. \nThe in-person ceremony also will be webcast live at CF.edu/graduation. \nFor more information\, call the Ocala Campus at 352-854-2322\, ext. 1391 or ext. 1739; Citrus Campus at 352-746-6721; or Levy Campus at 352-658-4077.
URL:https://www.cf.edu/event/cf-fall-2021-commencement-ceremony/
LOCATION:World Equestrian Center\, 1750 N.W. 80th Ave.\, Ocala\, FL\, 34482
CATEGORIES:Dates and Deadlines
ATTACH;FMTTYPE=image/jpeg:https://www.cf.edu/wp-content/uploads/2020/08/man-graduation.jpg
END:VEVENT
END:VCALENDAR