BEGIN:VCALENDAR
VERSION:2.0
PRODID:-//College Of Central Florida - ECPv6.10.1.1//NONSGML v1.0//EN
CALSCALE:GREGORIAN
METHOD:PUBLISH
X-WR-CALNAME:College Of Central Florida
X-ORIGINAL-URL:https://www.cf.edu
X-WR-CALDESC:Events for College Of Central Florida
REFRESH-INTERVAL;VALUE=DURATION:PT1H
X-Robots-Tag:noindex
X-PUBLISHED-TTL:PT1H
BEGIN:VTIMEZONE
TZID:America/New_York
BEGIN:DAYLIGHT
TZOFFSETFROM:-0500
TZOFFSETTO:-0400
TZNAME:EDT
DTSTART:20220313T070000
END:DAYLIGHT
BEGIN:STANDARD
TZOFFSETFROM:-0400
TZOFFSETTO:-0500
TZNAME:EST
DTSTART:20221106T060000
END:STANDARD
END:VTIMEZONE
BEGIN:VEVENT
DTSTART;VALUE=DATE:20220117
DTEND;VALUE=DATE:20220118
DTSTAMP:20260422T090230
CREATED:20211214T203122Z
LAST-MODIFIED:20211214T203122Z
UID:10001392-1642377600-1642463999@www.cf.edu
SUMMARY:Dr. Martin Luther King Jr. Holiday\, No Classes
DESCRIPTION:All CF Campus locations will be closed in observance for Dr. Martin Luther King Jr. Day.
URL:https://www.cf.edu/event/dr-martin-luther-king-jr-holiday-no-classes/
LOCATION:FL
CATEGORIES:Dates and Deadlines
ATTACH;FMTTYPE=image/jpeg:https://www.cf.edu/wp-content/uploads/2020/07/CFEvents-DatesDeadlines-default-image.jpg
END:VEVENT
END:VCALENDAR