BEGIN:VCALENDAR
VERSION:2.0
PRODID:-//College Of Central Florida - ECPv6.10.1.1//NONSGML v1.0//EN
CALSCALE:GREGORIAN
METHOD:PUBLISH
X-WR-CALNAME:College Of Central Florida
X-ORIGINAL-URL:https://www.cf.edu
X-WR-CALDESC:Events for College Of Central Florida
REFRESH-INTERVAL;VALUE=DURATION:PT1H
X-Robots-Tag:noindex
X-PUBLISHED-TTL:PT1H
BEGIN:VTIMEZONE
TZID:America/New_York
BEGIN:DAYLIGHT
TZOFFSETFROM:-0500
TZOFFSETTO:-0400
TZNAME:EDT
DTSTART:20220313T070000
END:DAYLIGHT
BEGIN:STANDARD
TZOFFSETFROM:-0400
TZOFFSETTO:-0500
TZNAME:EST
DTSTART:20221106T060000
END:STANDARD
END:VTIMEZONE
BEGIN:VEVENT
DTSTART;TZID=America/New_York:20221102T173000
DTEND;TZID=America/New_York:20221102T190000
DTSTAMP:20260423T093957
CREATED:20220922T174635Z
LAST-MODIFIED:20220922T174635Z
UID:10001753-1667410200-1667415600@www.cf.edu
SUMMARY:Ocala Dual Enrollment Orientation Session
DESCRIPTION:Interested in Dual Enrollment? Attend an orientation session to learn more about the program\, how to apply\, what the requirements are\, and meet with CF staff. Qualified high school students may accelerate their college education through dual enrollment courses offered at the high school or a CF campus location. Attendance at one orientation session is required for all incoming dual enrollment students. \nThis session will be held at the CF Ocala Campus\, Building 8\, Room 110.  \n Fill out my online form.
URL:https://www.cf.edu/event/ocala-dual-enrollment-orientation-session-20/
LOCATION:Ocala Campus\, 3001 SW College Rd\, Ocala\, FL\, 34474\, United States
CATEGORIES:Dual Enrollment,Information Session,Ocala Campus
ATTACH;FMTTYPE=image/jpeg:https://www.cf.edu/wp-content/uploads/2020/07/CFEvents-default-image.jpg
END:VEVENT
BEGIN:VEVENT
DTSTART;TZID=America/New_York:20221109T173000
DTEND;TZID=America/New_York:20221109T190000
DTSTAMP:20260423T093957
CREATED:20220922T175019Z
LAST-MODIFIED:20220922T175019Z
UID:10001754-1668015000-1668020400@www.cf.edu
SUMMARY:Ocala Dual Enrollment Orientation Session
DESCRIPTION:Interested in Dual Enrollment? Attend an orientation session to learn more about the program\, how to apply\, what the requirements are\, and meet with CF staff. Qualified high school students may accelerate their college education through dual enrollment courses offered at the high school or a CF campus location. Attendance at one orientation session is required for all incoming dual enrollment students. \nThis session will be held at the CF Ocala Campus\, Building 8\, Room 110.  \n Fill out my online form.
URL:https://www.cf.edu/event/ocala-dual-enrollment-orientation-session-21/
LOCATION:Ocala Campus\, 3001 SW College Rd\, Ocala\, FL\, 34474\, United States
CATEGORIES:Dual Enrollment,Information Session,Ocala Campus
ATTACH;FMTTYPE=image/jpeg:https://www.cf.edu/wp-content/uploads/2020/07/CFEvents-default-image.jpg
END:VEVENT
BEGIN:VEVENT
DTSTART;TZID=America/New_York:20221114T173000
DTEND;TZID=America/New_York:20221114T183000
DTSTAMP:20260423T093957
CREATED:20221019T140837Z
LAST-MODIFIED:20221109T184830Z
UID:10001783-1668447000-1668450600@www.cf.edu
SUMMARY:Citrus Dual Enrollment Orientation Session
DESCRIPTION:This event has been postponed from Nov. 10 to Nov. 14. \nInterested in Dual Enrollment? Attend an orientation session to learn more about the program\, how to apply\, what the requirements are\, and meet with CF staff. Qualified high school students may accelerate their college education through dual enrollment courses offered at the high school or a CF campus location. Attendance at one orientation session is required for all incoming dual enrollment students. \nThis session will be held at the CF Wilton Simpson Citrus Campus\, Building C4\, Room\, 103. \n Fill out my online form.
URL:https://www.cf.edu/event/citrus-dual-enrollment-orientation-session-9/
LOCATION:Citrus Campus\, 3800 S. Lecanto Highway\, Lecanto\, FL\, 34461\, United States
CATEGORIES:Citrus Campus,Dual Enrollment,Information Session
ATTACH;FMTTYPE=image/jpeg:https://www.cf.edu/wp-content/uploads/2020/07/CFEvents-default-image.jpg
END:VEVENT
BEGIN:VEVENT
DTSTART;TZID=America/New_York:20221117T173000
DTEND;TZID=America/New_York:20221117T190000
DTSTAMP:20260423T093957
CREATED:20220922T175216Z
LAST-MODIFIED:20220922T175216Z
UID:10001755-1668706200-1668711600@www.cf.edu
SUMMARY:Ocala Dual Enrollment Orientation Session
DESCRIPTION:Interested in Dual Enrollment? Attend an orientation session to learn more about the program\, how to apply\, what the requirements are\, and meet with CF staff. Qualified high school students may accelerate their college education through dual enrollment courses offered at the high school or a CF campus location. Attendance at one orientation session is required for all incoming dual enrollment students. \nThis session will be held at the CF Ocala Campus\, Building 8\, Room 110.  \n Fill out my online form.
URL:https://www.cf.edu/event/ocala-dual-enrollment-orientation-session-22/
LOCATION:Ocala Campus\, 3001 SW College Rd\, Ocala\, FL\, 34474\, United States
CATEGORIES:Dual Enrollment,Information Session,Ocala Campus
ATTACH;FMTTYPE=image/jpeg:https://www.cf.edu/wp-content/uploads/2020/07/CFEvents-default-image.jpg
END:VEVENT
BEGIN:VEVENT
DTSTART;TZID=America/New_York:20221130T173000
DTEND;TZID=America/New_York:20221130T190000
DTSTAMP:20260423T093957
CREATED:20220922T175502Z
LAST-MODIFIED:20220922T175502Z
UID:10001756-1669829400-1669834800@www.cf.edu
SUMMARY:Ocala Dual Enrollment Orientation Session
DESCRIPTION:Interested in Dual Enrollment? Attend an orientation session to learn more about the program\, how to apply\, what the requirements are\, and meet with CF staff. Qualified high school students may accelerate their college education through dual enrollment courses offered at the high school or a CF campus location. Attendance at one orientation session is required for all incoming dual enrollment students. \nThis session will be held at the CF Ocala Campus\, Building 8\, Room 110.  \n Fill out my online form.
URL:https://www.cf.edu/event/ocala-dual-enrollment-orientation-session-23/
LOCATION:Ocala Campus\, 3001 SW College Rd\, Ocala\, FL\, 34474\, United States
CATEGORIES:Dual Enrollment,Information Session,Ocala Campus
ATTACH;FMTTYPE=image/jpeg:https://www.cf.edu/wp-content/uploads/2020/07/CFEvents-default-image.jpg
END:VEVENT
END:VCALENDAR