BEGIN:VCALENDAR
VERSION:2.0
PRODID:-//College Of Central Florida - ECPv6.10.1.1//NONSGML v1.0//EN
CALSCALE:GREGORIAN
METHOD:PUBLISH
X-ORIGINAL-URL:https://www.cf.edu
X-WR-CALDESC:Events for College Of Central Florida
REFRESH-INTERVAL;VALUE=DURATION:PT1H
X-Robots-Tag:noindex
X-PUBLISHED-TTL:PT1H
BEGIN:VTIMEZONE
TZID:America/New_York
BEGIN:DAYLIGHT
TZOFFSETFROM:-0500
TZOFFSETTO:-0400
TZNAME:EDT
DTSTART:20230312T070000
END:DAYLIGHT
BEGIN:STANDARD
TZOFFSETFROM:-0400
TZOFFSETTO:-0500
TZNAME:EST
DTSTART:20231105T060000
END:STANDARD
END:VTIMEZONE
BEGIN:VEVENT
DTSTART;TZID=America/New_York:20230301T173000
DTEND;TZID=America/New_York:20230301T183000
DTSTAMP:20260424T175629
CREATED:20230213T205349Z
LAST-MODIFIED:20230215T140219Z
UID:10002336-1677691800-1677695400@www.cf.edu
SUMMARY:Virtual Dual Enrollment Information Session
DESCRIPTION:Interested in Dual Enrollment? Attend an information session to learn more about the program\, how to apply\, what the requirements are\, and meet with CF staff. Qualified high school students may accelerate their college education through dual enrollment courses offered at the high school or a CF campus location. Attendance at one information session is required for all incoming dual enrollment students. \nThis session will be held via Zoom.
URL:https://www.cf.edu/event/virtual-dual-enrollment-orientation-session-2/
CATEGORIES:Dual Enrollment,Information Session
ATTACH;FMTTYPE=image/jpeg:https://www.cf.edu/wp-content/uploads/2020/07/CFEvents-default-image.jpg
END:VEVENT
BEGIN:VEVENT
DTSTART;TZID=America/New_York:20230308T173000
DTEND;TZID=America/New_York:20230308T183000
DTSTAMP:20260424T175629
CREATED:20230213T205639Z
LAST-MODIFIED:20230215T140513Z
UID:10002337-1678296600-1678300200@www.cf.edu
SUMMARY:Virtual Dual Enrollment Information Session
DESCRIPTION:Interested in Dual Enrollment? Attend an information session to learn more about the program\, how to apply\, what the requirements are\, and meet with CF staff. Qualified high school students may accelerate their college education through dual enrollment courses offered at the high school or a CF campus location. Attendance at one information session is required for all incoming dual enrollment students. \nThis session will be held via Zoom.
URL:https://www.cf.edu/event/virtual-dual-enrollment-orientation-session-3/
CATEGORIES:Dual Enrollment,Information Session
ATTACH;FMTTYPE=image/jpeg:https://www.cf.edu/wp-content/uploads/2020/07/CFEvents-default-image.jpg
END:VEVENT
BEGIN:VEVENT
DTSTART;TZID=America/New_York:20230322T170000
DTEND;TZID=America/New_York:20230322T180000
DTSTAMP:20260424T175629
CREATED:20230310T200631Z
LAST-MODIFIED:20230310T200631Z
UID:10002401-1679504400-1679508000@www.cf.edu
SUMMARY:Virtual Dual Enrollment Information Session
DESCRIPTION:Interested in Dual Enrollment? Attend an information session to learn more about the program\, how to apply\, what the requirements are\, and meet with CF staff. Qualified high school students may accelerate their college education through dual enrollment courses offered at the high school or a CF campus location. Attendance at one information session is required for all incoming dual enrollment students. \nThis session will be held via Zoom.
URL:https://www.cf.edu/event/virtual-dual-enrollment-information-session/
CATEGORIES:Dual Enrollment,Information Session
ATTACH;FMTTYPE=image/jpeg:https://www.cf.edu/wp-content/uploads/2020/07/CFEvents-default-image.jpg
END:VEVENT
BEGIN:VEVENT
DTSTART;TZID=America/New_York:20230329T170000
DTEND;TZID=America/New_York:20230329T180000
DTSTAMP:20260424T175629
CREATED:20230310T200718Z
LAST-MODIFIED:20230310T200718Z
UID:10002402-1680109200-1680112800@www.cf.edu
SUMMARY:Virtual Dual Enrollment Information Session
DESCRIPTION:Interested in Dual Enrollment? Attend an information session to learn more about the program\, how to apply\, what the requirements are\, and meet with CF staff. Qualified high school students may accelerate their college education through dual enrollment courses offered at the high school or a CF campus location. Attendance at one information session is required for all incoming dual enrollment students. \nThis session will be held via Zoom.
URL:https://www.cf.edu/event/virtual-dual-enrollment-information-session-2/
CATEGORIES:Dual Enrollment,Information Session
ATTACH;FMTTYPE=image/jpeg:https://www.cf.edu/wp-content/uploads/2020/07/CFEvents-default-image.jpg
END:VEVENT
BEGIN:VEVENT
DTSTART;TZID=America/New_York:20230330T173000
DTEND;TZID=America/New_York:20230330T183000
DTSTAMP:20260424T175629
CREATED:20230310T135041Z
LAST-MODIFIED:20230310T135041Z
UID:10002396-1680197400-1680201000@www.cf.edu
SUMMARY:Levy Dual Enrollment Information Session
DESCRIPTION:Interested in Dual Enrollment? Attend an information session to learn more about the program\, how to apply\, what the requirements are\, and meet with CF staff. Qualified high school students may accelerate their college education through dual enrollment courses offered at the high school or a CF campus location. Attendance at one information session is required for all incoming dual enrollment students. \nThis session will be held at Jack Wilkinson Levy Campus in Chiefland. \n Fill out my online form.
URL:https://www.cf.edu/event/levy-dual-enrollment-information-session-3/
LOCATION:Levy Campus\, 15390 N.W. Highway 19\, Chiefland\, 32626
CATEGORIES:Dual Enrollment,Information Session,Levy Campus
ATTACH;FMTTYPE=image/jpeg:https://www.cf.edu/wp-content/uploads/2020/07/CFEvents-default-image.jpg
END:VEVENT
END:VCALENDAR