BEGIN:VCALENDAR
VERSION:2.0
PRODID:-//College Of Central Florida - ECPv6.10.1.1//NONSGML v1.0//EN
CALSCALE:GREGORIAN
METHOD:PUBLISH
X-ORIGINAL-URL:https://www.cf.edu
X-WR-CALDESC:Events for College Of Central Florida
REFRESH-INTERVAL;VALUE=DURATION:PT1H
X-Robots-Tag:noindex
X-PUBLISHED-TTL:PT1H
BEGIN:VTIMEZONE
TZID:America/New_York
BEGIN:DAYLIGHT
TZOFFSETFROM:-0500
TZOFFSETTO:-0400
TZNAME:EDT
DTSTART:20230312T070000
END:DAYLIGHT
BEGIN:STANDARD
TZOFFSETFROM:-0400
TZOFFSETTO:-0500
TZNAME:EST
DTSTART:20231105T060000
END:STANDARD
END:VTIMEZONE
BEGIN:VEVENT
DTSTART;TZID=America/New_York:20230607T160000
DTEND;TZID=America/New_York:20230607T170000
DTSTAMP:20260423T181528
CREATED:20230508T195155Z
LAST-MODIFIED:20230508T195155Z
UID:10002477-1686153600-1686157200@www.cf.edu
SUMMARY:Virtual Dual Enrollment Information Session
DESCRIPTION:Interested in Dual Enrollment? Attend an information session to learn more about the program\, how to apply\, what the requirements are\, and meet with CF staff. Qualified high school students may accelerate their college education through dual enrollment courses offered at the high school or a CF campus location. Attendance at one information session is required for all incoming dual enrollment students. \nThis session will be held via Zoom.
URL:https://www.cf.edu/event/virtual-dual-enrollment-information-session-9/
LOCATION:Online
CATEGORIES:Dual Enrollment,Information Session
ATTACH;FMTTYPE=image/jpeg:https://www.cf.edu/wp-content/uploads/2020/07/CFEvents-default-image.jpg
END:VEVENT
BEGIN:VEVENT
DTSTART;TZID=America/New_York:20230614T160000
DTEND;TZID=America/New_York:20230614T170000
DTSTAMP:20260423T181528
CREATED:20230508T195252Z
LAST-MODIFIED:20230508T195252Z
UID:10002478-1686758400-1686762000@www.cf.edu
SUMMARY:Virtual Dual Enrollment Information Session
DESCRIPTION:Interested in Dual Enrollment? Attend an information session to learn more about the program\, how to apply\, what the requirements are\, and meet with CF staff. Qualified high school students may accelerate their college education through dual enrollment courses offered at the high school or a CF campus location. Attendance at one information session is required for all incoming dual enrollment students. \nThis session will be held via Zoom.
URL:https://www.cf.edu/event/virtual-dual-enrollment-information-session-10/
LOCATION:Online
CATEGORIES:Dual Enrollment,Information Session
ATTACH;FMTTYPE=image/jpeg:https://www.cf.edu/wp-content/uploads/2020/07/CFEvents-default-image.jpg
END:VEVENT
BEGIN:VEVENT
DTSTART;TZID=America/New_York:20230621T160000
DTEND;TZID=America/New_York:20230621T170000
DTSTAMP:20260423T181528
CREATED:20230508T195352Z
LAST-MODIFIED:20230508T195352Z
UID:10002479-1687363200-1687366800@www.cf.edu
SUMMARY:Virtual Dual Enrollment Information Session
DESCRIPTION:Interested in Dual Enrollment? Attend an information session to learn more about the program\, how to apply\, what the requirements are\, and meet with CF staff. Qualified high school students may accelerate their college education through dual enrollment courses offered at the high school or a CF campus location. Attendance at one information session is required for all incoming dual enrollment students. \nThis session will be held via Zoom.
URL:https://www.cf.edu/event/virtual-dual-enrollment-information-session-11/
LOCATION:Online
CATEGORIES:Dual Enrollment,Information Session
ATTACH;FMTTYPE=image/jpeg:https://www.cf.edu/wp-content/uploads/2020/07/CFEvents-default-image.jpg
END:VEVENT
BEGIN:VEVENT
DTSTART;TZID=America/New_York:20230628T160000
DTEND;TZID=America/New_York:20230628T170000
DTSTAMP:20260423T181528
CREATED:20230508T195444Z
LAST-MODIFIED:20230508T195444Z
UID:10002480-1687968000-1687971600@www.cf.edu
SUMMARY:Virtual Dual Enrollment Information Session
DESCRIPTION:Interested in Dual Enrollment? Attend an information session to learn more about the program\, how to apply\, what the requirements are\, and meet with CF staff. Qualified high school students may accelerate their college education through dual enrollment courses offered at the high school or a CF campus location. Attendance at one information session is required for all incoming dual enrollment students. \nThis session will be held via Zoom.
URL:https://www.cf.edu/event/virtual-dual-enrollment-information-session-12/
LOCATION:Online
CATEGORIES:Dual Enrollment,Information Session
ATTACH;FMTTYPE=image/jpeg:https://www.cf.edu/wp-content/uploads/2020/07/CFEvents-default-image.jpg
END:VEVENT
END:VCALENDAR