BEGIN:VCALENDAR
VERSION:2.0
PRODID:-//College Of Central Florida - ECPv6.10.1.1//NONSGML v1.0//EN
CALSCALE:GREGORIAN
METHOD:PUBLISH
X-WR-CALNAME:College Of Central Florida
X-ORIGINAL-URL:https://www.cf.edu
X-WR-CALDESC:Events for College Of Central Florida
REFRESH-INTERVAL;VALUE=DURATION:PT1H
X-Robots-Tag:noindex
X-PUBLISHED-TTL:PT1H
BEGIN:VTIMEZONE
TZID:America/New_York
BEGIN:DAYLIGHT
TZOFFSETFROM:-0500
TZOFFSETTO:-0400
TZNAME:EDT
DTSTART:20220313T070000
END:DAYLIGHT
BEGIN:STANDARD
TZOFFSETFROM:-0400
TZOFFSETTO:-0500
TZNAME:EST
DTSTART:20221106T060000
END:STANDARD
END:VTIMEZONE
BEGIN:VEVENT
DTSTART;TZID=America/New_York:20220706T150000
DTEND;TZID=America/New_York:20220706T160000
DTSTAMP:20260425T195642
CREATED:20220629T191136Z
LAST-MODIFIED:20220705T152607Z
UID:10001603-1657119600-1657123200@www.cf.edu
SUMMARY:Emergency Medical Services Information Session
DESCRIPTION:CF is conducting Emergency Medical Services (EMT & Paramedic) program information sessions live at the Ocala Campus\, Building 35\, Room 105. It is recommended that potential students attend a session before applying to any of the programs. Sessions provide details about admissions criteria\, program requirements\, costs and more. \nThere is no waiting list for any of the Health Science programs. Some programs have part-time enrollment options. \nFor information about any of the programs or sessions email Peggy Recanzone at recanzop@cf.edu.
URL:https://www.cf.edu/event/emergency-medical-technician-information-session-3/
LOCATION:Ocala Campus\, 3001 SW College Rd\, Ocala\, FL\, 34474\, United States
CATEGORIES:Health Sciences,Information Session,Ocala Campus
ATTACH;FMTTYPE=image/jpeg:https://www.cf.edu/wp-content/uploads/2022/06/6J2A0759-edit-web.jpg
END:VEVENT
BEGIN:VEVENT
DTSTART;TZID=America/New_York:20220706T180000
DTEND;TZID=America/New_York:20220706T190000
DTSTAMP:20260425T195642
CREATED:20220629T190909Z
LAST-MODIFIED:20220705T152637Z
UID:10001602-1657130400-1657134000@www.cf.edu
SUMMARY:Emergency Medical Services Information Session
DESCRIPTION:CF is conducting an Emergency Medical Services (EMT & Paramedic) program information session live at the Citrus Campus\, Building C2\, Room 102. It is recommended that potential students attend a session before applying to any of the programs. Sessions provide details about admissions criteria\, program requirements\, costs and more. \nThere is no waiting list for any of the Health Science programs. Some programs have part-time enrollment options. \nFor information about any of the programs or sessions email Peggy Recanzone at recanzop@cf.edu.
URL:https://www.cf.edu/event/emergency-medical-technician-information-session-2/
LOCATION:Citrus Campus\, 3800 S. Lecanto Highway\, Lecanto\, FL\, 34461\, United States
CATEGORIES:Citrus Campus,Health Sciences,Information Session
ATTACH;FMTTYPE=image/jpeg:https://www.cf.edu/wp-content/uploads/2022/06/6J2A0759-edit-web.jpg
END:VEVENT
BEGIN:VEVENT
DTSTART;TZID=America/New_York:20220711T160000
DTEND;TZID=America/New_York:20220711T170000
DTSTAMP:20260425T195642
CREATED:20220518T145030Z
LAST-MODIFIED:20220518T145030Z
UID:10001568-1657555200-1657558800@www.cf.edu
SUMMARY:Physical Therapist Assistant Information Session
DESCRIPTION:CF is conducting a Physical Therapist Assistant program information session via zoom. Potential students must attend a session before applying to any of the programs. Sessions provide details about admissions criteria\, program requirements\, costs and more. \nZoom registration is required in advance. \nThere is no waiting list for any of the Health Science programs. Some programs have part-time enrollment options. \nFor information about any of the programs or sessions email Peggy Recanzone at recanzop@cf.edu. \n 
URL:https://www.cf.edu/event/physical-therapist-assistant-information-session-24/
LOCATION:Online
CATEGORIES:Health Sciences,Information Session
ATTACH;FMTTYPE=image/png:https://www.cf.edu/wp-content/uploads/2021/01/PTA-event.png
END:VEVENT
BEGIN:VEVENT
DTSTART;TZID=America/New_York:20220712T090000
DTEND;TZID=America/New_York:20220712T100000
DTSTAMP:20260425T195642
CREATED:20220518T120815Z
LAST-MODIFIED:20220518T120927Z
UID:10001560-1657616400-1657620000@www.cf.edu
SUMMARY:Virtual Nursing Information Session - ADN\, Bridge\, BSN
DESCRIPTION:CF is conducting a virtual information session to learn more about the Associate Degree Nursing\, LPN and Paramedic Bridge Nursing and BSN programs through a Zoom presentation. Stay on and complete your CF general admission application and the $30 fee will be waived. Potential students must attend a session before applying to any of the programs. Sessions provide details about admissions criteria\, program requirements\, costs and more. \nThere is no waiting list for any of the Health Science programs. Some programs have part-time enrollment options.\nFor information about any of the programs or sessions email Peggy Recanzone at recanzop@cf.edu.
URL:https://www.cf.edu/event/virtual-nursing-information-session-adn-bridge-bsn-3/
LOCATION:Online
CATEGORIES:Health Sciences,Information Session
ATTACH;FMTTYPE=image/png:https://www.cf.edu/wp-content/uploads/2021/01/Nursing-info-session-event.png
END:VEVENT
BEGIN:VEVENT
DTSTART;TZID=America/New_York:20220713T130000
DTEND;TZID=America/New_York:20220713T140000
DTSTAMP:20260425T195642
CREATED:20220601T185716Z
LAST-MODIFIED:20220601T185716Z
UID:10001575-1657717200-1657720800@www.cf.edu
SUMMARY:Virtual Critical Care Transport Information Session
DESCRIPTION:The CCT program at College of Central Florida was designed in response to the growing need for qualified specialists in the area of critical care inter-facility transfer. It helps to prepare paramedics and nurses to serve with competence and confidence in meeting the needs of critical care patients undergoing inter-facility transports. \nAt this information session\, you can learn about the program including schedules\, admission criteria\, costs and more. \nFor information\, email Peggy Recanzone at recanzop@cf.edu or call 352-873-5800\, ext. 1655.
URL:https://www.cf.edu/event/virtual-critical-care-transport-information-session/
LOCATION:Online
CATEGORIES:Health Sciences,Information Session
ATTACH;FMTTYPE=image/jpeg:https://www.cf.edu/wp-content/uploads/2021/01/CFEventHealth.jpg
END:VEVENT
BEGIN:VEVENT
DTSTART;TZID=America/New_York:20220728T150000
DTEND;TZID=America/New_York:20220728T160000
DTSTAMP:20260425T195642
CREATED:20220518T121535Z
LAST-MODIFIED:20220518T121535Z
UID:10001562-1659020400-1659024000@www.cf.edu
SUMMARY:Virtual Nursing Information Session - ADN\, Bridge\, BSN
DESCRIPTION:CF is conducting a virtual information session to learn more about the Associate Degree Nursing\, LPN and Paramedic Bridge Nursing and BSN programs through a Zoom presentation. Stay on and complete your CF general admission application and the $30 fee will be waived. Potential students must attend a session before applying to any of the programs. Sessions provide details about admissions criteria\, program requirements\, costs and more. \nThere is no waiting list for any of the Health Science programs. Some programs have part-time enrollment options.\nFor information about any of the programs or sessions email Peggy Recanzone at recanzop@cf.edu.
URL:https://www.cf.edu/event/virtual-nursing-information-session-adn-bridge-bsn-6/
LOCATION:Online
CATEGORIES:Health Sciences,Information Session
ATTACH;FMTTYPE=image/png:https://www.cf.edu/wp-content/uploads/2021/01/Nursing-info-session-event.png
END:VEVENT
END:VCALENDAR