BEGIN:VCALENDAR
VERSION:2.0
PRODID:-//College Of Central Florida - ECPv6.10.1.1//NONSGML v1.0//EN
CALSCALE:GREGORIAN
METHOD:PUBLISH
X-WR-CALNAME:College Of Central Florida
X-ORIGINAL-URL:https://www.cf.edu
X-WR-CALDESC:Events for College Of Central Florida
REFRESH-INTERVAL;VALUE=DURATION:PT1H
X-Robots-Tag:noindex
X-PUBLISHED-TTL:PT1H
BEGIN:VTIMEZONE
TZID:America/New_York
BEGIN:DAYLIGHT
TZOFFSETFROM:-0500
TZOFFSETTO:-0400
TZNAME:EDT
DTSTART:20240310T070000
END:DAYLIGHT
BEGIN:STANDARD
TZOFFSETFROM:-0400
TZOFFSETTO:-0500
TZNAME:EST
DTSTART:20241103T060000
END:STANDARD
END:VTIMEZONE
BEGIN:VEVENT
DTSTART;TZID=America/New_York:20241104T150000
DTEND;TZID=America/New_York:20241104T160000
DTSTAMP:20260421T083011
CREATED:20240709T142724Z
LAST-MODIFIED:20240709T142724Z
UID:10002994-1730732400-1730736000@www.cf.edu
SUMMARY:Emergency Medical Services Information Session
DESCRIPTION:CF is conducting Emergency Medical Services (EMT & Paramedic) program information sessions live at the Ocala Campus\, Building 35\, Room 105. It is recommended that potential students attend a session before applying to any of the programs. Sessions provide details about admissions criteria\, program requirements\, costs and more. \nThere is no waiting list for any of the Health Science programs. Some programs have part-time enrollment options. \nFor information about any of the programs or sessions email Peggy Recanzone at recanzop@cf.edu. \n 
URL:https://www.cf.edu/event/emergency-medical-services-information-session-29/
LOCATION:Ocala Campus\, 3001 SW College Rd\, Ocala\, FL\, 34474\, United States
CATEGORIES:Health Sciences,Information Session,Levy Campus
ATTACH;FMTTYPE=image/jpeg:https://www.cf.edu/wp-content/uploads/2022/06/6J2A0759-edit-web.jpg
END:VEVENT
BEGIN:VEVENT
DTSTART;TZID=America/New_York:20241104T160000
DTEND;TZID=America/New_York:20241104T170000
DTSTAMP:20260421T083011
CREATED:20240808T182451Z
LAST-MODIFIED:20240808T182451Z
UID:10003071-1730736000-1730739600@www.cf.edu
SUMMARY:Virtual Physical Therapy Assistant Information Session
DESCRIPTION:CF is conducting a Virtual Physical Therapist Assistant program information session through a Zoom presentation. Potential students must attend a session before applying to any of the programs. Sessions provide details about admissions criteria\, program requirements\, costs and more. \nThere is no waiting list for any of the Health Science programs. Some programs have part-time enrollment options.\nFor information about any of the programs or sessions email Peggy Recanzone at recanzop@cf.edu.
URL:https://www.cf.edu/event/virtual-physical-therapy-assistant-information-session-6/
LOCATION:Online
CATEGORIES:Health Sciences,Information Session
ATTACH;FMTTYPE=image/jpeg:https://www.cf.edu/wp-content/uploads/2023/12/6J2A1208-1-1.jpg
END:VEVENT
BEGIN:VEVENT
DTSTART;TZID=America/New_York:20241104T180000
DTEND;TZID=America/New_York:20241104T190000
DTSTAMP:20260421T083011
CREATED:20240717T144110Z
LAST-MODIFIED:20240819T184638Z
UID:10003014-1730743200-1730746800@www.cf.edu
SUMMARY:Emergency Medical Services Information Session
DESCRIPTION:CF is conducting Emergency Medical Services (EMT & Paramedic) program information sessions live at the Levy Campus\, Room 201. It is recommended that potential students attend a session before applying to any of the programs. Sessions provide details about admissions criteria\, program requirements\, costs and more. \nThere is no waiting list for any of the Health Science programs. Some programs have part-time enrollment options. \nFor information about any of the programs or sessions email Peggy Recanzone at recanzop@cf.edu. \nPlease fill out the RSVP below! \n Fill out my online form.
URL:https://www.cf.edu/event/emergency-medical-services-information-session-32/
LOCATION:Levy Campus\, 15390 N.W. Highway 19\, Chiefland\, 32626
CATEGORIES:Health Sciences,Information Session,Levy Campus
ATTACH;FMTTYPE=image/jpeg:https://www.cf.edu/wp-content/uploads/2022/06/6J2A0759-edit-web.jpg
END:VEVENT
BEGIN:VEVENT
DTSTART;TZID=America/New_York:20241105T100000
DTEND;TZID=America/New_York:20241105T100000
DTSTAMP:20260421T083011
CREATED:20240925T160146Z
LAST-MODIFIED:20240925T160537Z
UID:10003142-1730800800-1730800800@www.cf.edu
SUMMARY:Virtual Fire Science Technology Information Session
DESCRIPTION:Learn more about the Fire Science Technology A.S. degree. At this virtual information session\, meet with the program manager regarding the degree\, program goals and expected curriculum. Attendees are eligible to complete the CF general admission application for free. \nRegistration is required to attend. \nRegister Now
URL:https://www.cf.edu/event/virtual-fire-science-technology-information-session/
LOCATION:Online
CATEGORIES:Health Sciences,Information Session
ATTACH;FMTTYPE=image/jpeg:https://www.cf.edu/wp-content/uploads/2021/01/CFEventHealth.jpg
END:VEVENT
BEGIN:VEVENT
DTSTART;TZID=America/New_York:20241105T113000
DTEND;TZID=America/New_York:20241105T130000
DTSTAMP:20260421T083011
CREATED:20241014T205324Z
LAST-MODIFIED:20241014T210023Z
UID:10003136-1730806200-1730811600@www.cf.edu
SUMMARY:Shop Talk: Brain and Gastric Cancer Awareness
DESCRIPTION:Please join us Tuesday\, Nov. 5\, from 11:30 a.m.-1 p.m. for a Shop Talk discussing brain and gastric cancer awareness featuring Dr. Fan Zhang and Dr. Eittel Oppenheimer. The event will be held at the Ewers Century Center\, College of Central Florida (3001 S.W. College Road\, Ocala). Registration begins at 11 a.m. and the program and lunch begin at 11:30 a.m. Seats are limited and reservations are required. Please RSVP by Thursday\, Oct. 31. \n\nShop Talk Speakers\n\n\nFan Zhang\, Ph.D.\nAssistant Professor of Pharmaceutics\,\nUniverity of Florida\nCollege of Pharmacy\n\nEittel Oppenheimer\, M.D.\nGeneral Surgeon\,\nHCA Florida Ocala Surgical Group\n\n\n\n\n Fill out my online form. \n  \nTopics and concepts presented at this event are for discussion purposes only and are not intended to espouse\, promote\, advance\, inculcate\, or compel individuals to believe the topics or concepts presented therein. Nor do they constitute endorsement of such topics or concepts by the College of Central Florida\, its Board of Trustees\, or any of their officers\, employees\, or agents.
URL:https://www.cf.edu/event/shop-talk-brain-and-gastric-cancer-awareness/
LOCATION:Ocala Campus\, 3001 SW College Rd\, Ocala\, FL\, 34474\, United States
CATEGORIES:Health Sciences,Ocala Campus
ATTACH;FMTTYPE=image/jpeg:https://www.cf.edu/wp-content/uploads/2022/03/CFEvent-shoptalk-reflexblue.jpg
END:VEVENT
BEGIN:VEVENT
DTSTART;TZID=America/New_York:20241106T100000
DTEND;TZID=America/New_York:20241106T110000
DTSTAMP:20260421T083011
CREATED:20240717T151407Z
LAST-MODIFIED:20240912T181027Z
UID:10003020-1730887200-1730890800@www.cf.edu
SUMMARY:Virtual Nursing Information Session - ADN\, LPN\, Paramedic Bridge
DESCRIPTION:Learn more about the Associate Degree Nursing\, LPN and Paramedic Bridge Nursing programs and their admission criteria. The CF general admission application fee ($30) will be waived for attendees who complete the CF general admission application during the webinar. \nThere is no waiting list for any of the Health Science programs. Some programs have part-time enrollment options.\nFor information about any of the programs or sessions email Peggy Recanzone at recanzop@cf.edu.
URL:https://www.cf.edu/event/virtual-nursing-information-session-adn-lpn-paramedic-bridge-6/
LOCATION:Online
CATEGORIES:Health Sciences,Information Session
ATTACH;FMTTYPE=image/jpeg:https://www.cf.edu/wp-content/uploads/2022/09/4011-web.jpg
END:VEVENT
BEGIN:VEVENT
DTSTART;TZID=America/New_York:20241106T120000
DTEND;TZID=America/New_York:20241106T130000
DTSTAMP:20260421T083011
CREATED:20240808T183407Z
LAST-MODIFIED:20240808T183407Z
UID:10003075-1730894400-1730898000@www.cf.edu
SUMMARY:Virtual Surgical Services Information Session
DESCRIPTION:CF is conducting a Virtual Surgical Services program information session to help you learn about admissions criteria\, program requirements\, costs and more. Potential students must attend a session before applying to any of the programs. Attendees will receive a waiver for the $30 admissions application fee. \nFor information about any of the programs or sessions email Peggy Recanzone at recanzop@cf.edu.
URL:https://www.cf.edu/event/virtual-surgical-services-information-session-32/
LOCATION:Online
CATEGORIES:Health Sciences,Information Session
ATTACH;FMTTYPE=image/jpeg:https://www.cf.edu/wp-content/uploads/2023/07/3082.jpg
END:VEVENT
BEGIN:VEVENT
DTSTART;TZID=America/New_York:20241112T100000
DTEND;TZID=America/New_York:20241112T100000
DTSTAMP:20260421T083011
CREATED:20240925T160322Z
LAST-MODIFIED:20240925T160401Z
UID:10003143-1731405600-1731405600@www.cf.edu
SUMMARY:Virtual Fire Science Technology Information Session
DESCRIPTION:Learn more about the Fire Science Technology A.S. degree. At this virtual information session\, meet with the program manager regarding the degree\, program goals and expected curriculum. Attendees are eligible to complete the CF general admission application for free. \nRegistration is required to attend. \nRegister Now
URL:https://www.cf.edu/event/virtual-fire-science-technology-information-session-2/
LOCATION:Online
CATEGORIES:Health Sciences,Information Session
ATTACH;FMTTYPE=image/jpeg:https://www.cf.edu/wp-content/uploads/2021/01/CFEventHealth.jpg
END:VEVENT
BEGIN:VEVENT
DTSTART;TZID=America/New_York:20241112T143000
DTEND;TZID=America/New_York:20241112T153000
DTSTAMP:20260421T083011
CREATED:20240709T202215Z
LAST-MODIFIED:20240709T202215Z
UID:10003003-1731421800-1731425400@www.cf.edu
SUMMARY:Virtual Cardiovascular Technology Information Session
DESCRIPTION:Learn more about CF’s anticipated Associate in Science Degree in Cardiovascular Technology (program accreditation pending). Admissions criteria\, program requirements\, costs and more will be covered. The CF general admission application fee ($30) will be waived for attendees who complete the CF general admission application during the webinar. \nThere is no waiting list for any of the Health Science programs. Some programs have part-time enrollment options. \nRegistration is required for this event. For information about any of the programs or sessions email Peggy Recanzone at recanzop@cf.edu.
URL:https://www.cf.edu/event/virtual-cardiovascular-technology-information-session-6/
LOCATION:Online
CATEGORIES:Health Sciences,Information Session
ATTACH;FMTTYPE=image/jpeg:https://www.cf.edu/wp-content/uploads/2022/12/iStock-147426963-web-e1711390148646.jpg
END:VEVENT
BEGIN:VEVENT
DTSTART;TZID=America/New_York:20241114T120000
DTEND;TZID=America/New_York:20241114T120000
DTSTAMP:20260421T083011
CREATED:20240925T145814Z
LAST-MODIFIED:20240925T145814Z
UID:10003139-1731585600-1731585600@www.cf.edu
SUMMARY:Virtual Critical Care Transport Information Session
DESCRIPTION:The CCT program at College of Central Florida was designed in response to the growing need for qualified specialists in the area of critical care inter-facility transfer. It helps to prepare paramedics and nurses to serve with competence and confidence in meeting the needs of critical care patients undergoing inter-facility transports. \nAt this information session\, you can learn about the program including schedules\, admission criteria\, costs and more. \nFor information\, email Peggy Recanzone at recanzop@cf.edu or call 352-873-5800\, ext. 1655. \nRegistration is required to attend. \nRegister Now
URL:https://www.cf.edu/event/virtual-critical-care-transport-information-session-6/
LOCATION:Online
CATEGORIES:Health Sciences,Information Session
ATTACH;FMTTYPE=image/png:https://www.cf.edu/wp-content/uploads/2022/07/Virtual-Information-Session-Critical-Care.png
END:VEVENT
BEGIN:VEVENT
DTSTART;TZID=America/New_York:20241118T130000
DTEND;TZID=America/New_York:20241118T140000
DTSTAMP:20260421T083011
CREATED:20240717T152401Z
LAST-MODIFIED:20240717T152401Z
UID:10003022-1731934800-1731938400@www.cf.edu
SUMMARY:Virtual Nursing Information Session - ADN\, LPN\, Paramedic Bridge
DESCRIPTION:Learn more about the Associate Degree Nursing\, LPN and Paramedic Bridge Nursing programs and their admission criteria. The CF general admission application fee ($30) will be waived for attendees who complete the CF general admission application during the webinar. \nThere is no waiting list for any of the Health Science programs. Some programs have part-time enrollment options.\nFor information about any of the programs or sessions email Peggy Recanzone at recanzop@cf.edu.
URL:https://www.cf.edu/event/virtual-nursing-information-session-adn-lpn-paramedic-bridge-12/
LOCATION:Online
CATEGORIES:Health Sciences,Information Session
ATTACH;FMTTYPE=image/jpeg:https://www.cf.edu/wp-content/uploads/2022/09/4011-web.jpg
END:VEVENT
BEGIN:VEVENT
DTSTART;TZID=America/New_York:20241118T150000
DTEND;TZID=America/New_York:20241118T160000
DTSTAMP:20260421T083011
CREATED:20240717T153433Z
LAST-MODIFIED:20240717T153433Z
UID:10003027-1731942000-1731945600@www.cf.edu
SUMMARY:Virtual BSN Information Session
DESCRIPTION:Learn more about admissions criteria\, program requirements\, costs and more. The CF general admission application fee ($30) will be waived for attendees who complete the CF general admission application during the webinar. \nThere is no waiting list for any of the Health Science programs. Some programs have part-time enrollment options. \nFor information about any of the programs or sessions email Peggy Recanzone at recanzop@cf.edu.
URL:https://www.cf.edu/event/virtual-bsn-information-session-3/
LOCATION:Online
CATEGORIES:Health Sciences,Information Session
ATTACH;FMTTYPE=image/jpeg:https://www.cf.edu/wp-content/uploads/2022/09/4011-web.jpg
END:VEVENT
BEGIN:VEVENT
DTSTART;TZID=America/New_York:20241119T100000
DTEND;TZID=America/New_York:20241119T110000
DTSTAMP:20260421T083011
CREATED:20240709T203411Z
LAST-MODIFIED:20240709T203411Z
UID:10003008-1732010400-1732014000@www.cf.edu
SUMMARY:Virtual Diagnostic Medical Sonography Technology Information Session
DESCRIPTION:Learn more about CF’s anticipated Associate in Science Degree in Diagnostic Medical Sonography Technology. Admissions criteria\, program requirements\, costs and more will be covered. The CF general admission application fee ($30) will be waived for attendees who complete the CF general admission application during the webinar. \nThere is no waiting list for any of the Health Science programs. Some programs have part-time enrollment options. \nRegistration is required for this event. For information about any of the programs or sessions email Peggy Recanzone at recanzop@cf.edu.
URL:https://www.cf.edu/event/virtual-diagnostic-medical-sonography-technology-information-session-13/
LOCATION:Online
CATEGORIES:Health Sciences,Information Session
ATTACH;FMTTYPE=image/jpeg:https://www.cf.edu/wp-content/uploads/2023/09/CCF_8643-edit-web.jpg
END:VEVENT
BEGIN:VEVENT
DTSTART;TZID=America/New_York:20241119T140000
DTEND;TZID=America/New_York:20241119T150000
DTSTAMP:20260421T083011
CREATED:20240723T191148Z
LAST-MODIFIED:20240723T191148Z
UID:10003031-1732024800-1732028400@www.cf.edu
SUMMARY:Virtual Radiography Information Session
DESCRIPTION:Learn more about the Radiography program and admission criteria. The CF general admission application fee ($30) will be waived for attendees who complete the CF general admission application during the webinar. \nThere is no waiting list for any of the Health Science programs. Some programs have part-time enrollment options.\nFor information about any of the programs or sessions email Peggy Recanzone at recanzop@cf.edu.
URL:https://www.cf.edu/event/virtual-radiography-information-session-32/
LOCATION:Online
CATEGORIES:Health Sciences,Information Session
ATTACH;FMTTYPE=image/jpeg:https://www.cf.edu/wp-content/uploads/2022/12/Radiography.00_00_53_17.Still013edit.jpg
END:VEVENT
END:VCALENDAR