BEGIN:VCALENDAR
VERSION:2.0
PRODID:-//College Of Central Florida - ECPv6.10.1.1//NONSGML v1.0//EN
CALSCALE:GREGORIAN
METHOD:PUBLISH
X-ORIGINAL-URL:https://www.cf.edu
X-WR-CALDESC:Events for College Of Central Florida
REFRESH-INTERVAL;VALUE=DURATION:PT1H
X-Robots-Tag:noindex
X-PUBLISHED-TTL:PT1H
BEGIN:VTIMEZONE
TZID:America/New_York
BEGIN:DAYLIGHT
TZOFFSETFROM:-0500
TZOFFSETTO:-0400
TZNAME:EDT
DTSTART:20220313T070000
END:DAYLIGHT
BEGIN:STANDARD
TZOFFSETFROM:-0400
TZOFFSETTO:-0500
TZNAME:EST
DTSTART:20221106T060000
END:STANDARD
END:VTIMEZONE
BEGIN:VEVENT
DTSTART;TZID=America/New_York:20220413T113000
DTEND;TZID=America/New_York:20220413T130000
DTSTAMP:20260419T201517
CREATED:20220311T204325Z
LAST-MODIFIED:20220406T142223Z
UID:10001495-1649849400-1649854800@www.cf.edu
SUMMARY:Shop Talk: New Advances in Cancer Treatment
DESCRIPTION:Please join us Wednesday\, April 13\, from 11:30 a.m.-1 p.m. for a Shop Talk discussing the latest advances in cancer treatments. The event will be held at the Ewers Century Center\, College of Central Florida (3001 S.W. College Road\, Ocala). Registration begins at 11 a.m.\, and the program and lunch begin at 11:30 a.m. Seats are limited and reservations are required. \n\nShop Talk Speakers\n\n\nOlga Guryanova\, M.D.\, Ph.D.\n UF Health College of Medicine\n\nElias Sayour\, M.D.\, Ph.D.\nUF Health College of Medicine\n\n\nFill out my online form.
URL:https://www.cf.edu/event/shop-talk-new-advances-in-cancer-treatment/
LOCATION:Ocala Campus\, 3001 SW College Rd\, Ocala\, FL\, 34474\, United States
CATEGORIES:Health Sciences,Ocala Campus
ATTACH;FMTTYPE=image/png:https://www.cf.edu/wp-content/uploads/2022/03/Ocala-Royal-Dames-Logo-2022-Reflex-Blue.png
END:VEVENT
END:VCALENDAR