BEGIN:VCALENDAR
VERSION:2.0
PRODID:-//College Of Central Florida - ECPv6.10.1.1//NONSGML v1.0//EN
CALSCALE:GREGORIAN
METHOD:PUBLISH
X-WR-CALNAME:College Of Central Florida
X-ORIGINAL-URL:https://www.cf.edu
X-WR-CALDESC:Events for College Of Central Florida
REFRESH-INTERVAL;VALUE=DURATION:PT1H
X-Robots-Tag:noindex
X-PUBLISHED-TTL:PT1H
BEGIN:VTIMEZONE
TZID:America/New_York
BEGIN:DAYLIGHT
TZOFFSETFROM:-0500
TZOFFSETTO:-0400
TZNAME:EDT
DTSTART:20230312T070000
END:DAYLIGHT
BEGIN:STANDARD
TZOFFSETFROM:-0400
TZOFFSETTO:-0500
TZNAME:EST
DTSTART:20231105T060000
END:STANDARD
END:VTIMEZONE
BEGIN:VEVENT
DTSTART;TZID=America/New_York:20231030T100000
DTEND;TZID=America/New_York:20231030T110000
DTSTAMP:20260419T191313
CREATED:20230926T152750Z
LAST-MODIFIED:20230926T152750Z
UID:10002653-1698660000-1698663600@www.cf.edu
SUMMARY:Graduate Nursing Education Fair
DESCRIPTION:Join fellow nursing students and find out your educational options after the Bachelor of Science in Nursing program. Representatives from graduate and doctoral nursing programs at schools such as Chamberlain\, Grand Canyon\, Nova Southeastern\, St. Thomas\, UF\, UNF\, University of Texas – Arlington\, and Walden will be available to talk with you about your future. \nRegister for the zoom meeting here. \nFor more information\, email Peggy Recanzone at recanzop@cf.edu.
URL:https://www.cf.edu/event/graduate-nursing-education-fair-4/
LOCATION:Online
CATEGORIES:Health Sciences
ATTACH;FMTTYPE=image/jpeg:https://www.cf.edu/wp-content/uploads/2020/07/CFEvents-default-image.jpg
ORGANIZER;CN="CF Health Sciences":MAILTO:recanzop@cf.edu
END:VEVENT
END:VCALENDAR