BEGIN:VCALENDAR
VERSION:2.0
PRODID:-//College Of Central Florida - ECPv6.10.1.1//NONSGML v1.0//EN
CALSCALE:GREGORIAN
METHOD:PUBLISH
X-WR-CALNAME:College Of Central Florida
X-ORIGINAL-URL:https://www.cf.edu
X-WR-CALDESC:Events for College Of Central Florida
REFRESH-INTERVAL;VALUE=DURATION:PT1H
X-Robots-Tag:noindex
X-PUBLISHED-TTL:PT1H
BEGIN:VTIMEZONE
TZID:America/New_York
BEGIN:DAYLIGHT
TZOFFSETFROM:-0500
TZOFFSETTO:-0400
TZNAME:EDT
DTSTART:20240310T070000
END:DAYLIGHT
BEGIN:STANDARD
TZOFFSETFROM:-0400
TZOFFSETTO:-0500
TZNAME:EST
DTSTART:20241103T060000
END:STANDARD
END:VTIMEZONE
BEGIN:VEVENT
DTSTART;TZID=America/New_York:20240410T110000
DTEND;TZID=America/New_York:20240410T120000
DTSTAMP:20260419T080618
CREATED:20240320T132248Z
LAST-MODIFIED:20240403T142351Z
UID:10002878-1712746800-1712750400@www.cf.edu
SUMMARY:Virtual Graduate Nursing Education Fair
DESCRIPTION:Join us for a Virtual Graduate Nursing Education Fair Wednesday\, April 10\, 11 a.m.-noon. Here you can connect with fellow nursing students and explore your educational journey beyond the Bachelor of Science in Nursing program.   \nRepresentatives from graduate and doctoral nursing programs at schools such as American College of Education\, Barry University\, Grand Canyon\, NSU\, Post University\, STU\, and UNF be available to talk with you about your future after graduation. \nRegister for the zoom meeting here. \nFor more information\, contact Peggy Recanzone at recanzop@cf.edu or extension 1655. \nTopics and concepts presented at this event are for discussion purposes only and are not intended to espouse\, promote\, advance\, inculcate\, or compel individuals to believe the topics or concepts presented therein. Nor do they constitute endorsement of such topics or concepts by the College of Central Florida\, its Board of Trustees\, or any of their officers\, employees\, or agents.
URL:https://www.cf.edu/event/virtual-graduate-nursing-education-fair/
LOCATION:Online
CATEGORIES:Health Sciences
ATTACH;FMTTYPE=image/jpeg:https://www.cf.edu/wp-content/uploads/2024/03/Nursing-Fair-copy.jpg
ORGANIZER;CN="CF Health Sciences":MAILTO:recanzop@cf.edu
END:VEVENT
END:VCALENDAR